BEGIN:VCALENDAR
VERSION:2.0
PRODID:-//Musser Public Library - ECPv6.15.18//NONSGML v1.0//EN
CALSCALE:GREGORIAN
METHOD:PUBLISH
X-WR-CALNAME:Musser Public Library
X-ORIGINAL-URL:https://musserpubliclibrary.org
X-WR-CALDESC:Events for Musser Public Library
REFRESH-INTERVAL;VALUE=DURATION:PT1H
X-Robots-Tag:noindex
X-PUBLISHED-TTL:PT1H
BEGIN:VTIMEZONE
TZID:America/Chicago
BEGIN:DAYLIGHT
TZOFFSETFROM:-0600
TZOFFSETTO:-0500
TZNAME:CDT
DTSTART:20170312T080000
END:DAYLIGHT
BEGIN:STANDARD
TZOFFSETFROM:-0500
TZOFFSETTO:-0600
TZNAME:CST
DTSTART:20171105T070000
END:STANDARD
BEGIN:DAYLIGHT
TZOFFSETFROM:-0600
TZOFFSETTO:-0500
TZNAME:CDT
DTSTART:20180311T080000
END:DAYLIGHT
BEGIN:STANDARD
TZOFFSETFROM:-0500
TZOFFSETTO:-0600
TZNAME:CST
DTSTART:20181104T070000
END:STANDARD
BEGIN:DAYLIGHT
TZOFFSETFROM:-0600
TZOFFSETTO:-0500
TZNAME:CDT
DTSTART:20190310T080000
END:DAYLIGHT
BEGIN:STANDARD
TZOFFSETFROM:-0500
TZOFFSETTO:-0600
TZNAME:CST
DTSTART:20191103T070000
END:STANDARD
END:VTIMEZONE
BEGIN:VEVENT
DTSTART;TZID=America/Chicago:20180625T093000
DTEND;TZID=America/Chicago:20180625T103000
DTSTAMP:20260423T000127
CREATED:20180527T173951Z
LAST-MODIFIED:20180530T030520Z
UID:11863-1529919000-1529922600@musserpubliclibrary.org
SUMMARY:O Baby Lapsit
DESCRIPTION:The very youngest of library patrons\, ages birth to three years\, are invited to enjoy 20 to 30 minutes of songs\, fingerplays\, and very short stories\, all from the safety of their parent or caregiver’s lap. Children and their adults may stay and play or socialize for another 30 minutes. On Mondays and Wednesdays\, Lapsit begins before the library opens for regular business; come to the door with your child and we will specially let you in.
URL:https://musserpubliclibrary.org/event/o-baby-lapsit-65/2018-06-25/
LOCATION:Joyce Vesey Children’s Amphitheater
CATEGORIES:Kids,Learn at Lunch-Dr. Lucinda Harms
ATTACH;FMTTYPE=image/jpeg:https://musserpubliclibrary.org/wp-content/uploads/2018/03/MusserHomepage-NewsPhoto1.jpg
END:VEVENT
END:VCALENDAR