BEGIN:VCALENDAR
VERSION:2.0
PRODID:-//Musser Public Library - ECPv6.15.18//NONSGML v1.0//EN
CALSCALE:GREGORIAN
METHOD:PUBLISH
X-ORIGINAL-URL:https://musserpubliclibrary.org
X-WR-CALDESC:Events for Musser Public Library
REFRESH-INTERVAL;VALUE=DURATION:PT1H
X-Robots-Tag:noindex
X-PUBLISHED-TTL:PT1H
BEGIN:VTIMEZONE
TZID:America/Chicago
BEGIN:DAYLIGHT
TZOFFSETFROM:-0600
TZOFFSETTO:-0500
TZNAME:CDT
DTSTART:20160313T080000
END:DAYLIGHT
BEGIN:STANDARD
TZOFFSETFROM:-0500
TZOFFSETTO:-0600
TZNAME:CST
DTSTART:20161106T070000
END:STANDARD
BEGIN:DAYLIGHT
TZOFFSETFROM:-0600
TZOFFSETTO:-0500
TZNAME:CDT
DTSTART:20170312T080000
END:DAYLIGHT
BEGIN:STANDARD
TZOFFSETFROM:-0500
TZOFFSETTO:-0600
TZNAME:CST
DTSTART:20171105T070000
END:STANDARD
BEGIN:DAYLIGHT
TZOFFSETFROM:-0600
TZOFFSETTO:-0500
TZNAME:CDT
DTSTART:20180311T080000
END:DAYLIGHT
BEGIN:STANDARD
TZOFFSETFROM:-0500
TZOFFSETTO:-0600
TZNAME:CST
DTSTART:20181104T070000
END:STANDARD
END:VTIMEZONE
BEGIN:VEVENT
DTSTART;TZID=America/Chicago:20170121T120000
DTEND;TZID=America/Chicago:20170121T130000
DTSTAMP:20260420T082722
CREATED:20170117T171023Z
LAST-MODIFIED:20180410T161124Z
UID:7959-1485000000-1485003600@musserpubliclibrary.org
SUMMARY:Starlab Indoor Planetarium
DESCRIPTION:Love the night sky but think it’s too cold to stargaze in January? Join us for an hour of Starlab\, the Bluedorn Imaginarium’s indoor planetarium. All ages are welcome at this event.
URL:https://musserpubliclibrary.org/event/starlab-indoor-planetarium/
LOCATION:Contact Us
CATEGORIES:Learn at Lunch-Dr. Lucinda Harms
ATTACH;FMTTYPE=image/jpeg:https://musserpubliclibrary.org/wp-content/uploads/2018/03/MusserHomepage-NewsPhoto2.jpg
END:VEVENT
END:VCALENDAR