BEGIN:VCALENDAR
VERSION:2.0
PRODID:-//Musser Public Library - ECPv6.15.18//NONSGML v1.0//EN
CALSCALE:GREGORIAN
METHOD:PUBLISH
X-ORIGINAL-URL:https://musserpubliclibrary.org
X-WR-CALDESC:Events for Musser Public Library
REFRESH-INTERVAL;VALUE=DURATION:PT1H
X-Robots-Tag:noindex
X-PUBLISHED-TTL:PT1H
BEGIN:VTIMEZONE
TZID:America/Chicago
BEGIN:DAYLIGHT
TZOFFSETFROM:-0600
TZOFFSETTO:-0500
TZNAME:CDT
DTSTART:20220313T080000
END:DAYLIGHT
BEGIN:STANDARD
TZOFFSETFROM:-0500
TZOFFSETTO:-0600
TZNAME:CST
DTSTART:20221106T070000
END:STANDARD
BEGIN:DAYLIGHT
TZOFFSETFROM:-0600
TZOFFSETTO:-0500
TZNAME:CDT
DTSTART:20230312T080000
END:DAYLIGHT
BEGIN:STANDARD
TZOFFSETFROM:-0500
TZOFFSETTO:-0600
TZNAME:CST
DTSTART:20231105T070000
END:STANDARD
BEGIN:DAYLIGHT
TZOFFSETFROM:-0600
TZOFFSETTO:-0500
TZNAME:CDT
DTSTART:20240310T080000
END:DAYLIGHT
BEGIN:STANDARD
TZOFFSETFROM:-0500
TZOFFSETTO:-0600
TZNAME:CST
DTSTART:20241103T070000
END:STANDARD
END:VTIMEZONE
BEGIN:VEVENT
DTSTART;TZID=America/Chicago:20231018T180000
DTEND;TZID=America/Chicago:20231018T193000
DTSTAMP:20260421T213333
CREATED:20231018T154554Z
LAST-MODIFIED:20231018T154704Z
UID:18493-1697652000-1697657400@musserpubliclibrary.org
SUMMARY:Susie Clark Book Launch Event
DESCRIPTION:Join us on Wednesday\, October 18\, 6-7:30 PM\, for the book launch at Musser Public Library of Susie Clark: The Bravest Girl You’ve Ever Seen! \nAuthor Joshalyn Hickey-Johnson will read the story and illustrator Hayle Calvin will join her for a moderated question and answer session and book signing. Free copies will be given away to each family while supplies last! The event is free and open to the public (no prior registration required). See you there!
URL:https://musserpubliclibrary.org/event/susie-clark-book-launch-event/
LOCATION:#301
CATEGORIES:Author Reading
ATTACH;FMTTYPE=image/jpeg:https://musserpubliclibrary.org/wp-content/uploads/2023/10/unnamed-1.jpg
END:VEVENT
END:VCALENDAR