BEGIN:VCALENDAR
VERSION:2.0
PRODID:-//Musser Public Library - ECPv6.15.18//NONSGML v1.0//EN
CALSCALE:GREGORIAN
METHOD:PUBLISH
X-ORIGINAL-URL:https://musserpubliclibrary.org
X-WR-CALDESC:Events for Musser Public Library
REFRESH-INTERVAL;VALUE=DURATION:PT1H
X-Robots-Tag:noindex
X-PUBLISHED-TTL:PT1H
BEGIN:VTIMEZONE
TZID:America/Chicago
BEGIN:DAYLIGHT
TZOFFSETFROM:-0600
TZOFFSETTO:-0500
TZNAME:CDT
DTSTART:20220313T080000
END:DAYLIGHT
BEGIN:STANDARD
TZOFFSETFROM:-0500
TZOFFSETTO:-0600
TZNAME:CST
DTSTART:20221106T070000
END:STANDARD
BEGIN:DAYLIGHT
TZOFFSETFROM:-0600
TZOFFSETTO:-0500
TZNAME:CDT
DTSTART:20230312T080000
END:DAYLIGHT
BEGIN:STANDARD
TZOFFSETFROM:-0500
TZOFFSETTO:-0600
TZNAME:CST
DTSTART:20231105T070000
END:STANDARD
BEGIN:DAYLIGHT
TZOFFSETFROM:-0600
TZOFFSETTO:-0500
TZNAME:CDT
DTSTART:20240310T080000
END:DAYLIGHT
BEGIN:STANDARD
TZOFFSETFROM:-0500
TZOFFSETTO:-0600
TZNAME:CST
DTSTART:20241103T070000
END:STANDARD
END:VTIMEZONE
BEGIN:VEVENT
DTSTART;TZID=America/Chicago:20230302T180000
DTEND;TZID=America/Chicago:20230302T190000
DTSTAMP:20260420T202053
CREATED:20230302T161042Z
LAST-MODIFIED:20230302T161042Z
UID:17613-1677780000-1677783600@musserpubliclibrary.org
SUMMARY:Sparkplugs
DESCRIPTION:
URL:https://musserpubliclibrary.org/event/sparkplugs-16/
LOCATION:Children’s Room
CATEGORIES:Adults,Kids,Teens
ATTACH;FMTTYPE=image/jpeg:https://musserpubliclibrary.org/wp-content/uploads/2018/03/MusserHomepage-NewsPhoto2.jpg
END:VEVENT
BEGIN:VEVENT
DTSTART;TZID=America/Chicago:20230605T093000
DTEND;TZID=America/Chicago:20230605T100000
DTSTAMP:20260420T202053
CREATED:20230508T234226Z
LAST-MODIFIED:20230508T234226Z
UID:17753-1685957400-1685959200@musserpubliclibrary.org
SUMMARY:O Baby Lapsit--9:30 am
DESCRIPTION:Our pre-hours session for ages birth to three\, plus parent or caregiver. Come to the East door (by the parking lot) and we will let you in specially for 30 minutes of songs\, fingerplays\, and the shortest of stories. Stay and play or socialize afterwards!
URL:https://musserpubliclibrary.org/event/o-baby-lapsit-930-am/2023-06-05/
LOCATION:#301
CATEGORIES:Adults,Family,Kids
ATTACH;FMTTYPE=image/jpeg:https://musserpubliclibrary.org/wp-content/uploads/2018/03/MusserHomepage-NewsPhoto2.jpg
END:VEVENT
BEGIN:VEVENT
DTSTART;TZID=America/Chicago:20230605T110000
DTEND;TZID=America/Chicago:20230605T120000
DTSTAMP:20260420T202053
CREATED:20230508T235118Z
LAST-MODIFIED:20230508T235118Z
UID:17794-1685962800-1685966400@musserpubliclibrary.org
SUMMARY:Storytime with WQPT!
DESCRIPTION:Note the slight time change from our usual Preschool Storytime! At 11 am\, the Outreach Team from WQPT will present a special story and activity-centered session in the upstairs programming room.
URL:https://musserpubliclibrary.org/event/storytime-with-wqpt/
LOCATION:#301
CATEGORIES:Adults,Family,Kids
ATTACH;FMTTYPE=image/jpeg:https://musserpubliclibrary.org/wp-content/uploads/2018/03/MusserHomepage-NewsPhoto2.jpg
END:VEVENT
BEGIN:VEVENT
DTSTART;TZID=America/Chicago:20230606T084500
DTEND;TZID=America/Chicago:20230606T090000
DTSTAMP:20260420T202053
CREATED:20230508T235658Z
LAST-MODIFIED:20230606T140912Z
UID:17796-1686041100-1686042000@musserpubliclibrary.org
SUMMARY:Storytime at Aquatic Center--CANCELLED today due to pool closure
DESCRIPTION:Going to Park and Rec’s Infant Toddler Swim? Arrive in front of the Aquatic Center in Weed Park by 8:45 am for a brief storytime before the pool opens!
URL:https://musserpubliclibrary.org/event/storytime-at-aquatic-center/
LOCATION:Weed Park Aquatic Center
CATEGORIES:Adults,Family,Kids
ATTACH;FMTTYPE=image/jpeg:https://musserpubliclibrary.org/wp-content/uploads/2018/03/MusserHomepage-NewsPhoto2.jpg
END:VEVENT
BEGIN:VEVENT
DTSTART;TZID=America/Chicago:20230607T103000
DTEND;TZID=America/Chicago:20230607T110000
DTSTAMP:20260420T202053
CREATED:20230508T234529Z
LAST-MODIFIED:20230508T234529Z
UID:17770-1686133800-1686135600@musserpubliclibrary.org
SUMMARY:O Baby Lapsit--10:30 am
DESCRIPTION:For babies and children ages birth to three\, plus parent or caregiver. Join us for 30 minutes of music\, fingerplays\, and the shortest of stories. Stay to play and socialize afterwards! \n 
URL:https://musserpubliclibrary.org/event/o-baby-lapsit-1030-am/2023-06-07/
LOCATION:#301
CATEGORIES:Adults,Family,Kids
ATTACH;FMTTYPE=image/jpeg:https://musserpubliclibrary.org/wp-content/uploads/2018/03/MusserHomepage-NewsPhoto2.jpg
END:VEVENT
BEGIN:VEVENT
DTSTART;TZID=America/Chicago:20230608T090000
DTEND;TZID=America/Chicago:20230608T100000
DTSTAMP:20260420T202053
CREATED:20230509T000204Z
LAST-MODIFIED:20230607T183730Z
UID:17805-1686214800-1686218400@musserpubliclibrary.org
SUMMARY:Adventure Story Hike with Mr. Taylor
DESCRIPTION:Find your voice… and listen to nature. Ages 4-9. Child must be accompanied by an adult. \nHike through June. Rain or shine. \nMeets at 9 am on these dates: \nJune 8th–Discovery Park–meet this week at the big parking lot in front of the Environmental Learning Center \nJune 15th–Saulsbury Bridge County Park–meet this week at the Lodge at the end of  Saulsbury Road \nJune 22nd–Fuller Park \nJune 29th Wildcat Den State Park \n 
URL:https://musserpubliclibrary.org/event/adventure-story-hike-with-mr-taylor/2023-06-08/
CATEGORIES:Adults,Family,Kids
ATTACH;FMTTYPE=image/jpeg:https://musserpubliclibrary.org/wp-content/uploads/2018/03/MusserHomepage-NewsPhoto2.jpg
ORGANIZER;CN="Emerson Taylor":MAILTO:etaylor@muscatineiowa.gov
END:VEVENT
BEGIN:VEVENT
DTSTART;TZID=America/Chicago:20230612T103000
DTEND;TZID=America/Chicago:20230612T110000
DTSTAMP:20260420T202053
CREATED:20230508T234828Z
LAST-MODIFIED:20230508T234828Z
UID:17786-1686565800-1686567600@musserpubliclibrary.org
SUMMARY:Preschool Storytime Plus
DESCRIPTION:This is “Preschool Storytime Plus” because we know older siblings may want to attend during the summer\, too! Join us for 30 minutes of story\, songs\, and something mysterious in Betty’s basket.
URL:https://musserpubliclibrary.org/event/preschool-storytime-plus/2023-06-12/
LOCATION:#301
CATEGORIES:Adults,Family,Kids
ATTACH;FMTTYPE=image/jpeg:https://musserpubliclibrary.org/wp-content/uploads/2018/03/MusserHomepage-NewsPhoto2.jpg
END:VEVENT
BEGIN:VEVENT
DTSTART;TZID=America/Chicago:20230612T123000
DTEND;TZID=America/Chicago:20230612T131500
DTSTAMP:20260420T202053
CREATED:20230509T001543Z
LAST-MODIFIED:20230509T001543Z
UID:17817-1686573000-1686575700@musserpubliclibrary.org
SUMMARY:Owls\, with Naturalist Dave Bakke
DESCRIPTION:The voice (and other aspects) of the Owl! Naturalist Dave Bakke and a special Hogwarts visitor introduce us to two of their feathered friends.
URL:https://musserpubliclibrary.org/event/owls-with-naturalist-dave-bakke/
LOCATION:#301
CATEGORIES:Adults,Family,Kids,Teens
ATTACH;FMTTYPE=image/jpeg:https://musserpubliclibrary.org/wp-content/uploads/2018/03/MusserHomepage-NewsPhoto2.jpg
END:VEVENT
BEGIN:VEVENT
DTSTART;TZID=America/Chicago:20230613T084500
DTEND;TZID=America/Chicago:20230613T090000
DTSTAMP:20260420T202053
CREATED:20230508T235658Z
LAST-MODIFIED:20230606T140853Z
UID:17799-1686645900-1686646800@musserpubliclibrary.org
SUMMARY:Storytime at Aquatic Center
DESCRIPTION:Going to Park and Rec’s Infant Toddler Swim? Arrive in front of the Aquatic Center in Weed Park by 8:45 am for a brief storytime before the pool opens!
URL:https://musserpubliclibrary.org/event/storytime-at-aquatic-center-2023-06-13/2023-06-13/
LOCATION:Weed Park Aquatic Center
CATEGORIES:Adults,Family,Kids
ATTACH;FMTTYPE=image/jpeg:https://musserpubliclibrary.org/wp-content/uploads/2018/03/MusserHomepage-NewsPhoto2.jpg
END:VEVENT
BEGIN:VEVENT
DTSTART;TZID=America/Chicago:20230619T130000
DTEND;TZID=America/Chicago:20230619T150000
DTSTAMP:20260420T202053
CREATED:20230509T001141Z
LAST-MODIFIED:20230509T001141Z
UID:17814-1687179600-1687186800@musserpubliclibrary.org
SUMMARY:Hunt Through History (ages 10+)
DESCRIPTION:“Find the voice…of the dead.” \nA structured hunt through historic Greenwood Cemetery for ages 10+. Parents and grandparents are invited to participate in the fun. \nMeet at Greenwood Cemetery main entrance.
URL:https://musserpubliclibrary.org/event/hunt-through-history-ages-10/2023-06-19/
CATEGORIES:Adults,Family,Kids,Teens
ATTACH;FMTTYPE=image/jpeg:https://musserpubliclibrary.org/wp-content/uploads/2018/03/MusserHomepage-NewsPhoto2.jpg
ORGANIZER;CN="Emerson Taylor":MAILTO:etaylor@muscatineiowa.gov
END:VEVENT
BEGIN:VEVENT
DTSTART;TZID=America/Chicago:20230620T160000
DTEND;TZID=America/Chicago:20230620T170000
DTSTAMP:20260420T202053
CREATED:20230509T001816Z
LAST-MODIFIED:20230509T001816Z
UID:17819-1687276800-1687280400@musserpubliclibrary.org
SUMMARY:Cockatoo Encounter
DESCRIPTION:Rescue Cockatoos on holiday! Come get to know them and hear their tale.
URL:https://musserpubliclibrary.org/event/cockatoo-encounter/
LOCATION:#301
CATEGORIES:Adults,Family,Kids,Teens
ATTACH;FMTTYPE=image/jpeg:https://musserpubliclibrary.org/wp-content/uploads/2018/03/MusserHomepage-NewsPhoto2.jpg
END:VEVENT
BEGIN:VEVENT
DTSTART;TZID=America/Chicago:20230627T100000
DTEND;TZID=America/Chicago:20230627T110000
DTSTAMP:20260420T202053
CREATED:20230509T002100Z
LAST-MODIFIED:20230509T002100Z
UID:17821-1687860000-1687863600@musserpubliclibrary.org
SUMMARY:Animatronic Dino Meet and Greet
DESCRIPTION:Wow\, those guys are HUGE. Stop by the Musser Library Lawn for a meet and greet–and a marvelous photo op–with three animatronic prehistoric beasts.
URL:https://musserpubliclibrary.org/event/animatronic-dino-meet-and-greet/
CATEGORIES:Adults,Family,Kids,Teens
ATTACH;FMTTYPE=image/jpeg:https://musserpubliclibrary.org/wp-content/uploads/2018/03/MusserHomepage-NewsPhoto2.jpg
END:VEVENT
BEGIN:VEVENT
DTSTART;TZID=America/Chicago:20230703T103000
DTEND;TZID=America/Chicago:20230703T110000
DTSTAMP:20260420T202053
CREATED:20230508T234828Z
LAST-MODIFIED:20230614T223500Z
UID:17790-1688380200-1688382000@musserpubliclibrary.org
SUMMARY:Preschool Storytime Plus--Puppet Show!
DESCRIPTION:We welcome the Eulenspiegel Puppets\, out of West Liberty\, today at Storytime\, with Magical Fish and Mermaids! \nThis is “Preschool Storytime Plus” because we know older siblings may want to attend during the summer\, too! Join us for 30 minutes of story\, songs\, and something mysterious in Betty’s basket. \n 
URL:https://musserpubliclibrary.org/event/preschool-storytime-plus-2023-07-03/
LOCATION:#301
CATEGORIES:Adults,Family,Kids
ATTACH;FMTTYPE=image/jpeg:https://musserpubliclibrary.org/wp-content/uploads/2018/03/MusserHomepage-NewsPhoto2.jpg
END:VEVENT
BEGIN:VEVENT
DTSTART;TZID=America/Chicago:20230706T160000
DTEND;TZID=America/Chicago:20230706T173000
DTSTAMP:20260420T202053
CREATED:20230511T190655Z
LAST-MODIFIED:20230511T193946Z
UID:17831-1688659200-1688664600@musserpubliclibrary.org
SUMMARY:Muscatine’s Voices of the Past
DESCRIPTION:We love a deep dive into the past\, especially into the interesting tidbits that have been forgotten through the years. Join our librarians as we take a trip through Muscatine’s history. We’ll cover a lot of ground\, from industry\, domestic life\, and\, of course\, the river. This program is perfect for anyone interested in history. Although intended for adults\, anyone is welcome to come. Meet us in #301 on the 3rd floor. No need to register for this event. \nThose that attend Hunt through History at Greenwood cemetery will find this an interesting companion program.
URL:https://musserpubliclibrary.org/event/muscatines-voices-of-the-past/
LOCATION:#301
CATEGORIES:Adults,Family,Kids,Teens
ATTACH;FMTTYPE=image/jpeg:https://musserpubliclibrary.org/wp-content/uploads/2018/03/MusserHomepage-NewsPhoto2.jpg
ORGANIZER;CN="Molly Garrett":MAILTO:mgarrett@muscatineiowa.gov
END:VEVENT
BEGIN:VEVENT
DTSTART;TZID=America/Chicago:20230724T133000
DTEND;TZID=America/Chicago:20230724T150000
DTSTAMP:20260420T202053
CREATED:20230509T000627Z
LAST-MODIFIED:20230509T000627Z
UID:17810-1690205400-1690210800@musserpubliclibrary.org
SUMMARY:Find Your Voice through Songwriting with Mr. Taylor
DESCRIPTION:Ages 10-15. \n1:30 to 3 pm on the following dates: \nMonday\, July 24th \nWednesday\, July 26th \nFriday\, July 28th \nYou are welcome to bring instruments! We encourage you to come to all three sessions as they will build upon each other\, but it is not required. \nIf interested\, please contact Mr. Taylor in order to ensure enough supplies and snacks.
URL:https://musserpubliclibrary.org/event/find-your-voice-through-songwriting-with-mr-taylor/2023-07-24/
CATEGORIES:Adults,Family,Kids,Teens
ATTACH;FMTTYPE=image/jpeg:https://musserpubliclibrary.org/wp-content/uploads/2018/03/MusserHomepage-NewsPhoto2.jpg
ORGANIZER;CN="Emerson Taylor":MAILTO:etaylor@muscatineiowa.gov
END:VEVENT
BEGIN:VEVENT
DTSTART;TZID=America/Chicago:20230725T173000
DTEND;TZID=America/Chicago:20230725T183000
DTSTAMP:20260420T202053
CREATED:20230505T182800Z
LAST-MODIFIED:20230505T182800Z
UID:17751-1690306200-1690309800@musserpubliclibrary.org
SUMMARY:Conventions and Cosplay: A Different Kind of Diversion
DESCRIPTION:Are you looking for something new? Something you’ve never tried before? Something maybe not a lot of people know about? It’s time to find a different kind of diversion. \nThis month’s diversion is conventions and cosplay! Join cosplayer and actress Courtney Cooper\, as well as the Library’s very own cosplayer Miss Kimi for a panel discussion about creating your costumes\, what to expect at a con while cosplaying\, and tips for your own designs. See some of their past work and get advice for yours while you’re here. All are welcome to attend. It will be held in Room 301 at 5:30 pm. Registration is not required for this event.
URL:https://musserpubliclibrary.org/event/conventions-and-cosplay-a-different-kind-of-diversion/
LOCATION:#301
CATEGORIES:Adults,Kids,Teens
ATTACH;FMTTYPE=image/jpeg:https://musserpubliclibrary.org/wp-content/uploads/2018/03/MusserHomepage-NewsPhoto2.jpg
ORGANIZER;CN="Molly Garrett":MAILTO:mgarrett@muscatineiowa.gov
END:VEVENT
BEGIN:VEVENT
DTSTART;TZID=America/Chicago:20230725T190000
DTEND;TZID=America/Chicago:20230725T213000
DTSTAMP:20260420T202053
CREATED:20230509T002936Z
LAST-MODIFIED:20230509T003136Z
UID:17825-1690311600-1690320600@musserpubliclibrary.org
SUMMARY:Foam Cannon Fun
DESCRIPTION:So much foam\, so much fun! Special evaporating foam to play in\, in three different time slots: \n7 pm to 7:30 pm–children five and under (parents carefully included\, of course) \n7:30 pm to 8:30 pm–all ages welcome \n8:30 pm to 9:30 pm–with music and black lights\, for teens
URL:https://musserpubliclibrary.org/event/foam-cannon-fun/
CATEGORIES:Adults,Family,Kids
ATTACH;FMTTYPE=image/jpeg:https://musserpubliclibrary.org/wp-content/uploads/2018/03/MusserHomepage-NewsPhoto2.jpg
END:VEVENT
BEGIN:VEVENT
DTSTART;TZID=America/Chicago:20230727T173000
DTEND;TZID=America/Chicago:20230727T183000
DTSTAMP:20260420T202053
CREATED:20230519T154215Z
LAST-MODIFIED:20230519T154215Z
UID:17865-1690479000-1690482600@musserpubliclibrary.org
SUMMARY:Share Your Story
DESCRIPTION:Everyone has a story and we want to hear yours! The Library\, in partnership with Muscatine Community Heart and Soul\, is holding an event for anyone who wants to share their stories and memories of life in Muscatine. It is a way to meet our neighbors and have meaningful conversations. The event hosts will lead the group through guided questions. Some portions may be recorded with attendees’ permission. This event is designed with adults in mind\, but all are welcome to attend. It will be held in Room 104 at 5:30 pm. Registration is not required for this event.
URL:https://musserpubliclibrary.org/event/share-your-story/
LOCATION:#301
CATEGORIES:Adults,Kids,Teens
ATTACH;FMTTYPE=image/jpeg:https://musserpubliclibrary.org/wp-content/uploads/2018/03/MusserHomepage-NewsPhoto2.jpg
END:VEVENT
BEGIN:VEVENT
DTSTART;TZID=America/Chicago:20230729T093000
DTEND;TZID=America/Chicago:20230729T113000
DTSTAMP:20260420T202053
CREATED:20230509T003501Z
LAST-MODIFIED:20230509T003501Z
UID:17827-1690623000-1690630200@musserpubliclibrary.org
SUMMARY:Swim Celebration at the Aquatic Center
DESCRIPTION:Splash to the end of Summer Reading with a family celebration at the Aquatic Center. No admission fee! (Thank you\, Muscatine Parks and Rec!)
URL:https://musserpubliclibrary.org/event/swim-celebration-at-the-aquatic-center/
LOCATION:Weed Park Aquatic Center
CATEGORIES:Adults,Family,Kids,Teens
ATTACH;FMTTYPE=image/jpeg:https://musserpubliclibrary.org/wp-content/uploads/2018/03/MusserHomepage-NewsPhoto2.jpg
END:VEVENT
BEGIN:VEVENT
DTSTART;TZID=America/Chicago:20230906T103000
DTEND;TZID=America/Chicago:20230906T110000
DTSTAMP:20260420T202053
CREATED:20230809T204645Z
LAST-MODIFIED:20240110T135922Z
UID:17977-1693996200-1693998000@musserpubliclibrary.org
SUMMARY:Cancelled: O Baby Lapsit
DESCRIPTION:This program is cancelled January 10\, 2024. \nEnjoy songs\, fingerplays\, and stories with your baby or toddler\, ages birth to 3 years.
URL:https://musserpubliclibrary.org/event/o-baby-lapsit-89/
LOCATION:#301
CATEGORIES:Kids
ATTACH;FMTTYPE=image/png:https://musserpubliclibrary.org/wp-content/uploads/2023/08/o-baby-lapsit-storytime-Instagram-Post-Square.png
ORGANIZER;CN="Emerson Taylor":MAILTO:etaylor@muscatineiowa.gov
END:VEVENT
BEGIN:VEVENT
DTSTART;TZID=America/Chicago:20230907T093000
DTEND;TZID=America/Chicago:20230907T100000
DTSTAMP:20260420T202053
CREATED:20230809T204858Z
LAST-MODIFIED:20231229T190844Z
UID:18019-1694079000-1694080800@musserpubliclibrary.org
SUMMARY:O Baby Lapsit
DESCRIPTION:Enjoy songs\, fingerplays\, and stories with your baby or toddler\, ages birth to three years.
URL:https://musserpubliclibrary.org/event/o-baby-lapsit-90/2023-09-07/
LOCATION:#301
CATEGORIES:Kids
ATTACH;FMTTYPE=image/png:https://musserpubliclibrary.org/wp-content/uploads/2023/08/o-baby-lapsit-storytime-Instagram-Post-Square.png
ORGANIZER;CN="Emerson Taylor":MAILTO:etaylor@muscatineiowa.gov
END:VEVENT
BEGIN:VEVENT
DTSTART;TZID=America/Chicago:20230907T180000
DTEND;TZID=America/Chicago:20230907T190000
DTSTAMP:20260420T202053
CREATED:20230809T210056Z
LAST-MODIFIED:20230809T210056Z
UID:18092-1694109600-1694113200@musserpubliclibrary.org
SUMMARY:Sparkplugs Family Engagement Program
DESCRIPTION:Join us for a good\, healthy snack\, one book or presentation\, and hands-on activities for the entire family. The content of  Sparkplugs is aimed at 4 through 8-year-olds\, but everyone is welcome and encouraged to participate.
URL:https://musserpubliclibrary.org/event/sparkplugs-family-engagement-program-5/2023-09-07/
LOCATION:Joyce Vesey Children’s Amphitheater
CATEGORIES:Adults,Kids,Teens
ATTACH;FMTTYPE=image/jpeg:https://musserpubliclibrary.org/wp-content/uploads/2018/03/MusserHomepage-NewsPhoto2.jpg
END:VEVENT
BEGIN:VEVENT
DTSTART;TZID=America/Chicago:20230911T103000
DTEND;TZID=America/Chicago:20230911T110000
DTSTAMP:20260420T202053
CREATED:20230809T205112Z
LAST-MODIFIED:20231229T190929Z
UID:18051-1694428200-1694430000@musserpubliclibrary.org
SUMMARY:Preschool Storytime
DESCRIPTION:Circle Time with stories\, songs\, and lots of fun for preschool-age children and their parent or caregiver.
URL:https://musserpubliclibrary.org/event/preschool-storytime-46/2023-09-11/
LOCATION:#301
CATEGORIES:Adults,Kids,Teens
ATTACH;FMTTYPE=image/jpeg:https://musserpubliclibrary.org/wp-content/uploads/2018/03/MusserHomepage-NewsPhoto2.jpg
END:VEVENT
BEGIN:VEVENT
DTSTART;TZID=America/Chicago:20230919T173000
DTEND;TZID=America/Chicago:20230919T183000
DTSTAMP:20260420T202053
CREATED:20230920T165326Z
LAST-MODIFIED:20230920T165326Z
UID:18428-1695144600-1695148200@musserpubliclibrary.org
SUMMARY:My First Book Club
DESCRIPTION:Book Club for ages 4-8
URL:https://musserpubliclibrary.org/event/my-first-book-club/2023-09-19/
CATEGORIES:Family,Kids
ATTACH;FMTTYPE=image/jpeg:https://musserpubliclibrary.org/wp-content/uploads/2023/09/My-First-Book-Club.jpg
END:VEVENT
BEGIN:VEVENT
DTSTART;TZID=America/Chicago:20230924T140000
DTEND;TZID=America/Chicago:20230924T160000
DTSTAMP:20260420T202053
CREATED:20230914T152430Z
LAST-MODIFIED:20240307T171922Z
UID:18387-1695564000-1695571200@musserpubliclibrary.org
SUMMARY:Mother Daughter Book Club
DESCRIPTION:Mothers or other caring caregivers\, plus daughters\, explore books together in a friendly\, fun\, social setting.
URL:https://musserpubliclibrary.org/event/mother-daughter-book-club-17/2023-09-24/
LOCATION:#301
CATEGORIES:Adults,Kids,Teens
ATTACH;FMTTYPE=image/jpeg:https://musserpubliclibrary.org/wp-content/uploads/2018/03/MusserHomepage-NewsPhoto2.jpg
END:VEVENT
BEGIN:VEVENT
DTSTART;TZID=America/Chicago:20230926T183000
DTEND;TZID=America/Chicago:20230926T193000
DTSTAMP:20260420T202053
CREATED:20230809T205534Z
LAST-MODIFIED:20240422T163341Z
UID:18083-1695753000-1695756600@musserpubliclibrary.org
SUMMARY:Skeleton Key Adventure Club
DESCRIPTION:Hands-on science for ages 7 through 12\, in the lower level Makerspace.
URL:https://musserpubliclibrary.org/event/skeleton-key-adventure-club-31/2023-09-26/
LOCATION:#017 Maker Space
CATEGORIES:Adults,Kids,Teens
ATTACH;FMTTYPE=image/png:https://musserpubliclibrary.org/wp-content/uploads/2023/08/Skeleton-Key-Flye9-26-pdf-Instagram-Post.png
END:VEVENT
BEGIN:VEVENT
DTSTART;TZID=America/Chicago:20231006T180000
DTEND;TZID=America/Chicago:20231006T190000
DTSTAMP:20260420T202053
CREATED:20230925T174418Z
LAST-MODIFIED:20230925T174901Z
UID:18452-1696615200-1696618800@musserpubliclibrary.org
SUMMARY:Silly Not Scary Campfire Tales
DESCRIPTION:Gather ’round the campfire and let the stories unfold. Join us for s’mores trail mix and silly spooky stories told and read by the Musser Children’s department. This is an after hours\, family event. We will meet outside the Library at 6 pm. \nPart of the “13 Eerie Events” series at Musser Public Library.
URL:https://musserpubliclibrary.org/event/silly-not-scary-campfire-tales/
LOCATION:Library Green Space
CATEGORIES:Family,Kids
ATTACH;FMTTYPE=image/png:https://musserpubliclibrary.org/wp-content/uploads/2023/09/Campfire-tales-Facebook-Cover-Instagram-Post-Square.png
END:VEVENT
BEGIN:VEVENT
DTSTART;TZID=America/Chicago:20231007T130000
DTEND;TZID=America/Chicago:20231007T140000
DTSTAMP:20260420T202053
CREATED:20230919T182510Z
LAST-MODIFIED:20231003T210851Z
UID:18418-1696683600-1696687200@musserpubliclibrary.org
SUMMARY:Eulenspiegel Puppets "Little Red Riding Hood"
DESCRIPTION:Join Monica Leo of Eulenspiegel Puppets for her classic take on Little Red Riding Hood. This program will take place in the Joyce Vesey Children’s Storytime Amphitheater.
URL:https://musserpubliclibrary.org/event/eulenspiegel-puppets-little-red-riding-hood/
LOCATION:Joyce Vesey Children’s Amphitheater
CATEGORIES:Adults,Kids,Teens
ATTACH;FMTTYPE=image/jpeg:https://musserpubliclibrary.org/wp-content/uploads/2018/03/MusserHomepage-NewsPhoto2.jpg
END:VEVENT
BEGIN:VEVENT
DTSTART;TZID=America/Chicago:20231014T110000
DTEND;TZID=America/Chicago:20231014T130000
DTSTAMP:20260420T202053
CREATED:20230929T234255Z
LAST-MODIFIED:20230929T234255Z
UID:18470-1697281200-1697288400@musserpubliclibrary.org
SUMMARY:A Very Betty Good-Bye
DESCRIPTION:Come be a part of Betty’s happy send-off as she retires after 23 years at the library! The event is Saturday\, October 14 from 11 am – 1 pm.
URL:https://musserpubliclibrary.org/event/a-very-betty-good-bye/
LOCATION:#301
CATEGORIES:Adults,All ages celebration,Family,Kids,Teens
ATTACH;FMTTYPE=image/jpeg:https://musserpubliclibrary.org/wp-content/uploads/2023/09/A-Very-Betty-Good-Bye-Instagram-Post-Square.jpg
ORGANIZER;CN="Robert Fiedler":MAILTO:rfiedler@muscatineiowa.gov
END:VEVENT
BEGIN:VEVENT
DTSTART;TZID=America/Chicago:20231102T180000
DTEND;TZID=America/Chicago:20231102T190000
DTSTAMP:20260420T202053
CREATED:20231030T135129Z
LAST-MODIFIED:20231207T201747Z
UID:18522-1698948000-1698951600@musserpubliclibrary.org
SUMMARY:Sparkplugs
DESCRIPTION:Sparkplugs family learning\, \nCome explore “things that go”.  Ages 4-8. We will have a snack\, read a story and participate in hands-on activities using Trains\, planes and automobiles … and boats too. \nThursdays from 6-7PM in the children’s department at Musser Public Library.
URL:https://musserpubliclibrary.org/event/sparkplugs-17/2023-11-02/
LOCATION:Joyce Vesey Children’s Amphitheater
CATEGORIES:Family,Kids
ATTACH;FMTTYPE=image/jpeg:https://musserpubliclibrary.org/wp-content/uploads/2018/03/MusserHomepage-NewsPhoto2.jpg
ORGANIZER;CN="Emerson Taylor":MAILTO:etaylor@muscatineiowa.gov
END:VEVENT
END:VCALENDAR