BEGIN:VCALENDAR
VERSION:2.0
PRODID:-//Musser Public Library - ECPv6.15.18//NONSGML v1.0//EN
CALSCALE:GREGORIAN
METHOD:PUBLISH
X-ORIGINAL-URL:https://musserpubliclibrary.org
X-WR-CALDESC:Events for Musser Public Library
REFRESH-INTERVAL;VALUE=DURATION:PT1H
X-Robots-Tag:noindex
X-PUBLISHED-TTL:PT1H
BEGIN:VTIMEZONE
TZID:America/Chicago
BEGIN:DAYLIGHT
TZOFFSETFROM:-0600
TZOFFSETTO:-0500
TZNAME:CDT
DTSTART:20220313T080000
END:DAYLIGHT
BEGIN:STANDARD
TZOFFSETFROM:-0500
TZOFFSETTO:-0600
TZNAME:CST
DTSTART:20221106T070000
END:STANDARD
BEGIN:DAYLIGHT
TZOFFSETFROM:-0600
TZOFFSETTO:-0500
TZNAME:CDT
DTSTART:20230312T080000
END:DAYLIGHT
BEGIN:STANDARD
TZOFFSETFROM:-0500
TZOFFSETTO:-0600
TZNAME:CST
DTSTART:20231105T070000
END:STANDARD
BEGIN:DAYLIGHT
TZOFFSETFROM:-0600
TZOFFSETTO:-0500
TZNAME:CDT
DTSTART:20240310T080000
END:DAYLIGHT
BEGIN:STANDARD
TZOFFSETFROM:-0500
TZOFFSETTO:-0600
TZNAME:CST
DTSTART:20241103T070000
END:STANDARD
BEGIN:DAYLIGHT
TZOFFSETFROM:-0600
TZOFFSETTO:-0500
TZNAME:CDT
DTSTART:20250309T080000
END:DAYLIGHT
BEGIN:STANDARD
TZOFFSETFROM:-0500
TZOFFSETTO:-0600
TZNAME:CST
DTSTART:20251102T070000
END:STANDARD
END:VTIMEZONE
BEGIN:VEVENT
DTSTART;TZID=America/Chicago:20231121T173000
DTEND;TZID=America/Chicago:20231121T181500
DTSTAMP:20260421T211340
CREATED:20231030T172434Z
LAST-MODIFIED:20231030T172710Z
UID:18544-1700587800-1700590500@musserpubliclibrary.org
SUMMARY:My First Book Club
DESCRIPTION:Join us for different kind of book club!  Designed for ages 4-8 this book club lets kids read ANY book from that month’s selected series\, books are available for check out from the children’s department.  Join us on the third Tuesday of each month from 5:30 – 6:15 for a fun night of games and crafts inspired by the characters from the book series!
URL:https://musserpubliclibrary.org/event/my-first-book-club-2-2023-11-21/2023-11-21/
LOCATION:Children’s Room
CATEGORIES:Book Club,Family,Kids
ATTACH;FMTTYPE=image/jpeg:https://musserpubliclibrary.org/wp-content/uploads/2023/10/My-First-Book-Club.jpg
END:VEVENT
BEGIN:VEVENT
DTSTART;TZID=America/Chicago:20231214T163000
DTEND;TZID=America/Chicago:20231214T180000
DTSTAMP:20260421T211340
CREATED:20231214T225452Z
LAST-MODIFIED:20231214T225452Z
UID:19039-1702571400-1702576800@musserpubliclibrary.org
SUMMARY:Musser Public Library Board Meeting
DESCRIPTION:Board meetings are held on the third Wednesday of each month at 4:30 pm in Room 104 on the main floor of the Library. The meeting is open to the public.
URL:https://musserpubliclibrary.org/event/musser-public-library-board-meeting/2023-12-14/
LOCATION:#104 Community Meeting Room\, 408 E. 2nd St\, Muscatine\, IA\, 52761\, United States
CATEGORIES:Adults,Kids,Library Board of Trustees,Teens
ATTACH;FMTTYPE=image/jpeg:https://musserpubliclibrary.org/wp-content/uploads/2018/03/MusserHomepage-NewsPhoto2.jpg
ORGANIZER;CN="Robert Fiedler":MAILTO:rfiedler@muscatineiowa.gov
END:VEVENT
BEGIN:VEVENT
DTSTART;TZID=America/Chicago:20240113T103000
DTEND;TZID=America/Chicago:20240113T110000
DTSTAMP:20260421T211340
CREATED:20240110T234106Z
LAST-MODIFIED:20240110T234106Z
UID:19201-1705141800-1705143600@musserpubliclibrary.org
SUMMARY:O Baby Lapsit
DESCRIPTION:Enjoy songs\, fingerplays\, and stories with your baby or toddler\, ages birth to three years.
URL:https://musserpubliclibrary.org/event/o-baby-lapsit-2/
LOCATION:Joyce Vesey Children’s Amphitheater
CATEGORIES:Family,Kids
ATTACH;FMTTYPE=image/png:https://musserpubliclibrary.org/wp-content/uploads/2023/08/o-baby-lapsit-storytime-Instagram-Post-Square.png
END:VEVENT
BEGIN:VEVENT
DTSTART;TZID=America/Chicago:20240117T103000
DTEND;TZID=America/Chicago:20240117T110000
DTSTAMP:20260421T211340
CREATED:20240110T233733Z
LAST-MODIFIED:20240110T234358Z
UID:19188-1705487400-1705489200@musserpubliclibrary.org
SUMMARY:O Baby Lapsit
DESCRIPTION:Enjoy songs\, fingerplays\, and stories with your baby or toddler\, ages birth to three years.
URL:https://musserpubliclibrary.org/event/o-baby-lapsit/
LOCATION:#301
CATEGORIES:Family,Kids
ATTACH;FMTTYPE=image/png:https://musserpubliclibrary.org/wp-content/uploads/2023/08/o-baby-lapsit-storytime-Instagram-Post-Square.png
ORGANIZER;CN="Emerson Taylor":MAILTO:etaylor@muscatineiowa.gov
END:VEVENT
BEGIN:VEVENT
DTSTART;TZID=America/Chicago:20240118T180000
DTEND;TZID=America/Chicago:20240118T190000
DTSTAMP:20260421T211340
CREATED:20240104T172730Z
LAST-MODIFIED:20240104T172730Z
UID:19148-1705600800-1705604400@musserpubliclibrary.org
SUMMARY:Sparkplugs
DESCRIPTION:Sparkplugs family learning is targeted at 4-8 year olds and their whole family. Sparkplugs is a 4 week program of stories\, fun\, snacks and hands-on learning. \nJoin us this session as we explore the Arctic on our “Amazing Arctic Adventure” where we take a closer look at some of the animals that live in the Arctic and conduct experiments with snow and ice. \nBegins January 18\, 2024 \ntime: 6:00-7:00pm \nlocation: Musser Public Library Children’s Department
URL:https://musserpubliclibrary.org/event/sparkplugs-18/2024-01-18/
LOCATION:Joyce Vesey Children’s Amphitheater
CATEGORIES:Family,Kids
ATTACH;FMTTYPE=image/png:https://musserpubliclibrary.org/wp-content/uploads/2024/01/Arctic-Sparkplugs-jan.-18th.png
ORGANIZER;CN="Emerson Taylor":MAILTO:etaylor@muscatineiowa.gov
END:VEVENT
BEGIN:VEVENT
DTSTART;TZID=America/Chicago:20240215T180000
DTEND;TZID=America/Chicago:20240215T190000
DTSTAMP:20260421T211340
CREATED:20240110T233214Z
LAST-MODIFIED:20240110T233214Z
UID:19183-1708020000-1708023600@musserpubliclibrary.org
SUMMARY:Sensory Storytime
DESCRIPTION:Engage your senses in a fun interactive story led by Mr. Taylor followed by a time for sensory exploration. Learn how to add moments of sensory exposure throughout the day for those sensory seeking\, avoidant\, and sensitive kids in your life. Ages 4-9\nThis program has been designed for individuals of ALL developmental stages and is in partnership with occupational\, speech\, and physical therapist. \nFebruary 15th and April 25th\,\nfrom 6:00 to 7:00pm\nMusser Public Library\nRoom 301 \nFor more info contact Mr. Taylor at etaylor@muscatineiowa.gov or (563) 263-3065
URL:https://musserpubliclibrary.org/event/sensory-storytime/
LOCATION:#301
CATEGORIES:Family,Kids
ATTACH;FMTTYPE=image/png:https://musserpubliclibrary.org/wp-content/uploads/2024/01/Sensory-Storytime-Instagram-Postsimple.png
ORGANIZER;CN="Emerson Taylor":MAILTO:etaylor@muscatineiowa.gov
END:VEVENT
BEGIN:VEVENT
DTSTART;TZID=America/Chicago:20240229T180000
DTEND;TZID=America/Chicago:20240229T190000
DTSTAMP:20260421T211340
CREATED:20240220T233457Z
LAST-MODIFIED:20240220T233457Z
UID:19339-1709229600-1709233200@musserpubliclibrary.org
SUMMARY:Sparkplugs
DESCRIPTION:Sparkplugs family learning is targeted at 4-8 year olds and their whole family. Sparkplugs is a 6 week program of stories\, fun\, snacks and hands-on learning. \nJoin us this session as we investigate insects. We will be taking a closer look at these creepy crawlers and finding out what makes them so special. \nBegins February 29th\, 2024 \ntime: 6:00-7:00pm \nlocation: Musser Public Library Children’s Department \n  \nDates of programs \nFeb. 29 \nMarch 7 \nMarch 14 \nMarch 21 \nMarch 28 ISU Insect Zoo visits Musser \nApril 4 
URL:https://musserpubliclibrary.org/event/sparkplugs-19/2024-02-29/
LOCATION:Joyce Vesey Children’s Amphitheater
CATEGORIES:Family,Kids
ATTACH;FMTTYPE=image/png:https://musserpubliclibrary.org/wp-content/uploads/2024/02/Copy-of-Sparkplugs-Insect-Investigation-Instagram-Post.png
ORGANIZER;CN="Emerson Taylor":MAILTO:etaylor@muscatineiowa.gov
END:VEVENT
BEGIN:VEVENT
DTSTART;TZID=America/Chicago:20240416T173000
DTEND;TZID=America/Chicago:20240416T181500
DTSTAMP:20260421T211340
CREATED:20231030T172434Z
LAST-MODIFIED:20240416T134457Z
UID:18549-1713288600-1713291300@musserpubliclibrary.org
SUMMARY:My First Book Club - Canceled for April 16th
DESCRIPTION:Canceled for April 16th – Join us for different kind of book club!  Designed for ages 4-8 this book club lets kids read ANY book from that month’s selected series\, books are available for check out from the children’s department.  Join us on the third Tuesday of each month from 5:30 – 6:15 for a fun night of games and crafts inspired by the characters from the book series!
URL:https://musserpubliclibrary.org/event/my-first-book-club-2-2024-04-16/2024-04-16/
LOCATION:Children’s Room
CATEGORIES:Book Club,Family,Kids
ATTACH;FMTTYPE=image/jpeg:https://musserpubliclibrary.org/wp-content/uploads/2023/10/My-First-Book-Club.jpg
END:VEVENT
BEGIN:VEVENT
DTSTART;TZID=America/Chicago:20240420T123000
DTEND;TZID=America/Chicago:20240420T133000
DTSTAMP:20260421T211340
CREATED:20240315T191558Z
LAST-MODIFIED:20240419T151409Z
UID:19446-1713616200-1713619800@musserpubliclibrary.org
SUMMARY:Vinyl Record Coaster Making
DESCRIPTION:
URL:https://musserpubliclibrary.org/event/vinyl-record-coaster-making/
LOCATION:#301
CATEGORIES:Adults,Family,Kids,Teens
ATTACH;FMTTYPE=image/png:https://musserpubliclibrary.org/wp-content/uploads/2024/03/Red-Retro-Vinyl-Music-Flyer-Instagram-Post-for-newsletter-1.png
END:VEVENT
BEGIN:VEVENT
DTSTART;TZID=America/Chicago:20240422T093000
DTEND;TZID=America/Chicago:20240422T100000
DTSTAMP:20260421T211340
CREATED:20230809T204858Z
LAST-MODIFIED:20231111T165825Z
UID:18763-1713778200-1713780000@musserpubliclibrary.org
SUMMARY:O Baby Lapsit
DESCRIPTION:Enjoy songs\, fingerplays\, and stories with your baby or toddler\, ages birth to three years.
URL:https://musserpubliclibrary.org/event/o-baby-lapsit-90/2024-04-22/
LOCATION:#301
CATEGORIES:Kids
ATTACH;FMTTYPE=image/png:https://musserpubliclibrary.org/wp-content/uploads/2023/08/o-baby-lapsit-storytime-Instagram-Post-Square.png
ORGANIZER;CN="Emerson Taylor":MAILTO:etaylor@muscatineiowa.gov
END:VEVENT
BEGIN:VEVENT
DTSTART;TZID=America/Chicago:20240422T103000
DTEND;TZID=America/Chicago:20240422T110000
DTSTAMP:20260421T211340
CREATED:20230809T205112Z
LAST-MODIFIED:20231229T190944Z
UID:18903-1713781800-1713783600@musserpubliclibrary.org
SUMMARY:Preschool Storytime
DESCRIPTION:Circle Time with stories\, songs\, and lots of fun for preschool-age children and their parent or caregiver.
URL:https://musserpubliclibrary.org/event/preschool-storytime-46/2024-04-22/
LOCATION:#301
CATEGORIES:Adults,Kids,Teens
ATTACH;FMTTYPE=image/jpeg:https://musserpubliclibrary.org/wp-content/uploads/2018/03/MusserHomepage-NewsPhoto2.jpg
END:VEVENT
BEGIN:VEVENT
DTSTART;TZID=America/Chicago:20240425T180000
DTEND;TZID=America/Chicago:20240425T190000
DTSTAMP:20260421T211340
CREATED:20240110T233214Z
LAST-MODIFIED:20240110T233214Z
UID:19185-1714068000-1714071600@musserpubliclibrary.org
SUMMARY:Sensory Storytime
DESCRIPTION:Engage your senses in a fun interactive story led by Mr. Taylor followed by a time for sensory exploration. Learn how to add moments of sensory exposure throughout the day for those sensory seeking\, avoidant\, and sensitive kids in your life. Ages 4-9\nThis program has been designed for individuals of ALL developmental stages and is in partnership with occupational\, speech\, and physical therapist. \nFebruary 15th and April 25th\,\nfrom 6:00 to 7:00pm\nMusser Public Library\nRoom 301 \nFor more info contact Mr. Taylor at etaylor@muscatineiowa.gov or (563) 263-3065
URL:https://musserpubliclibrary.org/event/sensory-storytime/2024-04-25/
LOCATION:#301
CATEGORIES:Family,Kids
ATTACH;FMTTYPE=image/png:https://musserpubliclibrary.org/wp-content/uploads/2024/01/Sensory-Storytime-Instagram-Postsimple.png
ORGANIZER;CN="Emerson Taylor":MAILTO:etaylor@muscatineiowa.gov
END:VEVENT
BEGIN:VEVENT
DTSTART;TZID=America/Chicago:20240428T140000
DTEND;TZID=America/Chicago:20240428T160000
DTSTAMP:20260421T211340
CREATED:20230914T152430Z
LAST-MODIFIED:20240307T171924Z
UID:18396-1714312800-1714320000@musserpubliclibrary.org
SUMMARY:Mother Daughter Book Club
DESCRIPTION:Mothers or other caring caregivers\, plus daughters\, explore books together in a friendly\, fun\, social setting.
URL:https://musserpubliclibrary.org/event/mother-daughter-book-club-17/2024-04-28/
LOCATION:#301
CATEGORIES:Adults,Kids,Teens
ATTACH;FMTTYPE=image/jpeg:https://musserpubliclibrary.org/wp-content/uploads/2018/03/MusserHomepage-NewsPhoto2.jpg
END:VEVENT
BEGIN:VEVENT
DTSTART;TZID=America/Chicago:20240429T103000
DTEND;TZID=America/Chicago:20240429T110000
DTSTAMP:20260421T211340
CREATED:20230809T205112Z
LAST-MODIFIED:20231229T190944Z
UID:18904-1714386600-1714388400@musserpubliclibrary.org
SUMMARY:Preschool Storytime
DESCRIPTION:Circle Time with stories\, songs\, and lots of fun for preschool-age children and their parent or caregiver.
URL:https://musserpubliclibrary.org/event/preschool-storytime-46/2024-04-29/
LOCATION:#301
CATEGORIES:Adults,Kids,Teens
ATTACH;FMTTYPE=image/jpeg:https://musserpubliclibrary.org/wp-content/uploads/2018/03/MusserHomepage-NewsPhoto2.jpg
END:VEVENT
BEGIN:VEVENT
DTSTART;TZID=America/Chicago:20240515T163000
DTEND;TZID=America/Chicago:20240515T180000
DTSTAMP:20260421T211340
CREATED:20231214T225452Z
LAST-MODIFIED:20231214T225452Z
UID:19048-1715790600-1715796000@musserpubliclibrary.org
SUMMARY:Musser Public Library Board Meeting
DESCRIPTION:Board meetings are held on the third Wednesday of each month at 4:30 pm in Room 104 on the main floor of the Library. The meeting is open to the public.
URL:https://musserpubliclibrary.org/event/musser-public-library-board-meeting/2024-05-15/
LOCATION:#104 Community Meeting Room\, 408 E. 2nd St\, Muscatine\, IA\, 52761\, United States
CATEGORIES:Adults,Kids,Library Board of Trustees,Teens
ATTACH;FMTTYPE=image/jpeg:https://musserpubliclibrary.org/wp-content/uploads/2018/03/MusserHomepage-NewsPhoto2.jpg
ORGANIZER;CN="Robert Fiedler":MAILTO:rfiedler@muscatineiowa.gov
END:VEVENT
BEGIN:VEVENT
DTSTART;TZID=America/Chicago:20240611T160000
DTEND;TZID=America/Chicago:20240611T180000
DTSTAMP:20260421T211340
CREATED:20240520T162522Z
LAST-MODIFIED:20240520T163350Z
UID:19873-1718121600-1718128800@musserpubliclibrary.org
SUMMARY:Summer Reading: Storytime with Latin Thunder and craft led by 4H Unidos
DESCRIPTION:Join us as author and wrestler Juan Forneau\, aka “Latin Thunder\,” leads a storytime! Afterward\, try your hand at a craft led by 4H Unidos.
URL:https://musserpubliclibrary.org/event/summer-reading-storytime-with-latin-thunder-and-craft-led-by-4h-unidos/
LOCATION:#301
CATEGORIES:Family,Kids
ATTACH;FMTTYPE=image/png:https://musserpubliclibrary.org/wp-content/uploads/2024/05/SummerReadingThumb.png
END:VEVENT
BEGIN:VEVENT
DTSTART;TZID=America/Chicago:20240613T090000
DTEND;TZID=America/Chicago:20240613T100000
DTSTAMP:20260421T211340
CREATED:20240606T150015Z
LAST-MODIFIED:20240610T182218Z
UID:20072-1718269200-1718272800@musserpubliclibrary.org
SUMMARY:Adventure Story Hikes through the Summer - Deep Lakes Park
DESCRIPTION:Join Mr. Taylor for an adventure\, a story and some fresh air each Thursday morning during the Summer Reading Program! This first Story Hike through the Summer is at Deep Lakes Park. Meet at the parking lot off Pettibone Avenue\, near Lake Chester’s beach and boat ramps. Look for Mr. Taylor’s big pink flag. Sunblock and bug spray are recommended.
URL:https://musserpubliclibrary.org/event/story-hikes-through-the-summer-deep-lakes-park/
CATEGORIES:Family,Kids
ATTACH;FMTTYPE=image/png:https://musserpubliclibrary.org/wp-content/uploads/2024/05/Adventure-Story-Hike-through-the-summer-featured-image.png
END:VEVENT
BEGIN:VEVENT
DTSTART;TZID=America/Chicago:20240614T103000
DTEND;TZID=America/Chicago:20240614T230000
DTSTAMP:20260421T211340
CREATED:20240531T201957Z
LAST-MODIFIED:20240531T202045Z
UID:20029-1718361000-1718406000@musserpubliclibrary.org
SUMMARY:City Department Storytime
DESCRIPTION:Come and listen to a story from the different departments of the city of Muscatine. Come and meet the people that make our city so great. \nFridays at 10:30AM \nMusser Public Library room 301
URL:https://musserpubliclibrary.org/event/city-department-storytime/2024-06-14/
LOCATION:#301
CATEGORIES:Adults,Family,Kids
ATTACH;FMTTYPE=image/png:https://musserpubliclibrary.org/wp-content/uploads/2024/05/City-Department-Storytime-at-Musser-featured-image.png
ORGANIZER;CN="Emerson Taylor":MAILTO:etaylor@muscatineiowa.gov
END:VEVENT
BEGIN:VEVENT
DTSTART;TZID=America/Chicago:20240618T180000
DTEND;TZID=America/Chicago:20240618T190000
DTSTAMP:20260421T211340
CREATED:20240615T175938Z
LAST-MODIFIED:20240615T175939Z
UID:20127-1718733600-1718737200@musserpubliclibrary.org
SUMMARY:Summer Reading Raptor Program
DESCRIPTION:Come see birds of prey live at the library! The naturalists from Muscatine County Conservation will bring a bird or two and explain what their lives are like and how their physical features help them survive in nature.
URL:https://musserpubliclibrary.org/event/summer-reading-raptor-program-2/
LOCATION:#301
CATEGORIES:Adults,Family,Kids,Teens
ATTACH;FMTTYPE=image/png:https://musserpubliclibrary.org/wp-content/uploads/2024/05/SummerReadingThumb.png
END:VEVENT
BEGIN:VEVENT
DTSTART;TZID=America/Chicago:20240619T163000
DTEND;TZID=America/Chicago:20240619T180000
DTSTAMP:20260421T211340
CREATED:20231214T225452Z
LAST-MODIFIED:20231214T225452Z
UID:19049-1718814600-1718820000@musserpubliclibrary.org
SUMMARY:Musser Public Library Board Meeting
DESCRIPTION:Board meetings are held on the third Wednesday of each month at 4:30 pm in Room 104 on the main floor of the Library. The meeting is open to the public.
URL:https://musserpubliclibrary.org/event/musser-public-library-board-meeting/2024-06-19/
LOCATION:#104 Community Meeting Room\, 408 E. 2nd St\, Muscatine\, IA\, 52761\, United States
CATEGORIES:Adults,Kids,Library Board of Trustees,Teens
ATTACH;FMTTYPE=image/jpeg:https://musserpubliclibrary.org/wp-content/uploads/2018/03/MusserHomepage-NewsPhoto2.jpg
ORGANIZER;CN="Robert Fiedler":MAILTO:rfiedler@muscatineiowa.gov
END:VEVENT
BEGIN:VEVENT
DTSTART;TZID=America/Chicago:20240619T183000
DTEND;TZID=America/Chicago:20240619T193000
DTSTAMP:20260421T211340
CREATED:20240606T164122Z
LAST-MODIFIED:20240606T164122Z
UID:20108-1718821800-1718825400@musserpubliclibrary.org
SUMMARY:Happy 125th Birthday\, Weed Park!
DESCRIPTION:The latest edition of Muscatine’s Voices of the Past series will focus on the 125th Anniversary of Weed Park. \nCome join Emma and Jen as they share stories celebrating Muscatine’s oldest city park!
URL:https://musserpubliclibrary.org/event/happy-125th-birthday-weed-park/
LOCATION:#301
CATEGORIES:Adults,All ages celebration,Family,Kids,Teens
ATTACH;FMTTYPE=image/png:https://musserpubliclibrary.org/wp-content/uploads/2024/06/Website-Weed-Park-Anniversary.png
END:VEVENT
BEGIN:VEVENT
DTSTART;TZID=America/Chicago:20240620T190000
DTEND;TZID=America/Chicago:20240620T200000
DTSTAMP:20260421T211340
CREATED:20240606T164333Z
LAST-MODIFIED:20240606T164333Z
UID:20111-1718910000-1718913600@musserpubliclibrary.org
SUMMARY:Happy 125th Birthday\, Weed Park!
DESCRIPTION:The latest edition of Muscatine’s Voices of the Past series will focus on the 125th Anniversary of Weed Park. \nCome join Emma and Jen as they share stories celebrating Muscatine’s oldest city park!
URL:https://musserpubliclibrary.org/event/happy-125th-birthday-weed-park-2/
LOCATION:Weed Park
CATEGORIES:Adults,All ages celebration,Family,Kids,Teens
ATTACH;FMTTYPE=image/png:https://musserpubliclibrary.org/wp-content/uploads/2024/06/Website-Weed-Park-Anniversary.png
END:VEVENT
BEGIN:VEVENT
DTSTART;TZID=America/Chicago:20240621T103000
DTEND;TZID=America/Chicago:20240621T230000
DTSTAMP:20260421T211340
CREATED:20240531T201957Z
LAST-MODIFIED:20240531T202045Z
UID:20031-1718965800-1719010800@musserpubliclibrary.org
SUMMARY:City Department Storytime
DESCRIPTION:Come and listen to a story from the different departments of the city of Muscatine. Come and meet the people that make our city so great. \nFridays at 10:30AM \nMusser Public Library room 301
URL:https://musserpubliclibrary.org/event/city-department-storytime/2024-06-21/
LOCATION:#301
CATEGORIES:Adults,Family,Kids
ATTACH;FMTTYPE=image/png:https://musserpubliclibrary.org/wp-content/uploads/2024/05/City-Department-Storytime-at-Musser-featured-image.png
ORGANIZER;CN="Emerson Taylor":MAILTO:etaylor@muscatineiowa.gov
END:VEVENT
BEGIN:VEVENT
DTSTART;TZID=America/Chicago:20240628T103000
DTEND;TZID=America/Chicago:20240628T230000
DTSTAMP:20260421T211340
CREATED:20240531T201957Z
LAST-MODIFIED:20240531T202046Z
UID:20032-1719570600-1719615600@musserpubliclibrary.org
SUMMARY:City Department Storytime
DESCRIPTION:Come and listen to a story from the different departments of the city of Muscatine. Come and meet the people that make our city so great. \nFridays at 10:30AM \nMusser Public Library room 301
URL:https://musserpubliclibrary.org/event/city-department-storytime/2024-06-28/
LOCATION:#301
CATEGORIES:Adults,Family,Kids
ATTACH;FMTTYPE=image/png:https://musserpubliclibrary.org/wp-content/uploads/2024/05/City-Department-Storytime-at-Musser-featured-image.png
ORGANIZER;CN="Emerson Taylor":MAILTO:etaylor@muscatineiowa.gov
END:VEVENT
BEGIN:VEVENT
DTSTART;TZID=America/Chicago:20240705T103000
DTEND;TZID=America/Chicago:20240705T230000
DTSTAMP:20260421T211340
CREATED:20240531T201957Z
LAST-MODIFIED:20240531T202046Z
UID:20033-1720175400-1720220400@musserpubliclibrary.org
SUMMARY:City Department Storytime
DESCRIPTION:Come and listen to a story from the different departments of the city of Muscatine. Come and meet the people that make our city so great. \nFridays at 10:30AM \nMusser Public Library room 301
URL:https://musserpubliclibrary.org/event/city-department-storytime/2024-07-05/
LOCATION:#301
CATEGORIES:Adults,Family,Kids
ATTACH;FMTTYPE=image/png:https://musserpubliclibrary.org/wp-content/uploads/2024/05/City-Department-Storytime-at-Musser-featured-image.png
ORGANIZER;CN="Emerson Taylor":MAILTO:etaylor@muscatineiowa.gov
END:VEVENT
BEGIN:VEVENT
DTSTART;TZID=America/Chicago:20240712T103000
DTEND;TZID=America/Chicago:20240712T230000
DTSTAMP:20260421T211340
CREATED:20240531T201957Z
LAST-MODIFIED:20240531T202046Z
UID:20034-1720780200-1720825200@musserpubliclibrary.org
SUMMARY:City Department Storytime
DESCRIPTION:Come and listen to a story from the different departments of the city of Muscatine. Come and meet the people that make our city so great. \nFridays at 10:30AM \nMusser Public Library room 301
URL:https://musserpubliclibrary.org/event/city-department-storytime/2024-07-12/
LOCATION:#301
CATEGORIES:Adults,Family,Kids
ATTACH;FMTTYPE=image/png:https://musserpubliclibrary.org/wp-content/uploads/2024/05/City-Department-Storytime-at-Musser-featured-image.png
ORGANIZER;CN="Emerson Taylor":MAILTO:etaylor@muscatineiowa.gov
END:VEVENT
BEGIN:VEVENT
DTSTART;TZID=America/Chicago:20240717T163000
DTEND;TZID=America/Chicago:20240717T180000
DTSTAMP:20260421T211340
CREATED:20231214T225452Z
LAST-MODIFIED:20231214T225452Z
UID:19050-1721233800-1721239200@musserpubliclibrary.org
SUMMARY:Musser Public Library Board Meeting
DESCRIPTION:Board meetings are held on the third Wednesday of each month at 4:30 pm in Room 104 on the main floor of the Library. The meeting is open to the public.
URL:https://musserpubliclibrary.org/event/musser-public-library-board-meeting/2024-07-17/
LOCATION:#104 Community Meeting Room\, 408 E. 2nd St\, Muscatine\, IA\, 52761\, United States
CATEGORIES:Adults,Kids,Library Board of Trustees,Teens
ATTACH;FMTTYPE=image/jpeg:https://musserpubliclibrary.org/wp-content/uploads/2018/03/MusserHomepage-NewsPhoto2.jpg
ORGANIZER;CN="Robert Fiedler":MAILTO:rfiedler@muscatineiowa.gov
END:VEVENT
BEGIN:VEVENT
DTSTART;TZID=America/Chicago:20240719T103000
DTEND;TZID=America/Chicago:20240719T230000
DTSTAMP:20260421T211340
CREATED:20240531T201957Z
LAST-MODIFIED:20240531T202047Z
UID:20035-1721385000-1721430000@musserpubliclibrary.org
SUMMARY:City Department Storytime
DESCRIPTION:Come and listen to a story from the different departments of the city of Muscatine. Come and meet the people that make our city so great. \nFridays at 10:30AM \nMusser Public Library room 301
URL:https://musserpubliclibrary.org/event/city-department-storytime/2024-07-19/
LOCATION:#301
CATEGORIES:Adults,Family,Kids
ATTACH;FMTTYPE=image/png:https://musserpubliclibrary.org/wp-content/uploads/2024/05/City-Department-Storytime-at-Musser-featured-image.png
ORGANIZER;CN="Emerson Taylor":MAILTO:etaylor@muscatineiowa.gov
END:VEVENT
BEGIN:VEVENT
DTSTART;TZID=America/Chicago:20240725T130000
DTEND;TZID=America/Chicago:20240725T140000
DTSTAMP:20260421T211340
CREATED:20240520T180256Z
LAST-MODIFIED:20240520T180256Z
UID:19921-1721912400-1721916000@musserpubliclibrary.org
SUMMARY:Summer Reading: WQPT PBS Summer of Adventure
DESCRIPTION:Join the crew from WQPT-PBS for stories and activities!
URL:https://musserpubliclibrary.org/event/summer-reading-wqpt-pbs-summer-of-adventure/
LOCATION:#301
CATEGORIES:Kids
ATTACH;FMTTYPE=image/png:https://musserpubliclibrary.org/wp-content/uploads/2024/05/SummerReadingThumb.png
END:VEVENT
BEGIN:VEVENT
DTSTART;TZID=America/Chicago:20240821T163000
DTEND;TZID=America/Chicago:20240821T180000
DTSTAMP:20260421T211340
CREATED:20231214T225452Z
LAST-MODIFIED:20240812T152756Z
UID:19051-1724257800-1724263200@musserpubliclibrary.org
SUMMARY:Cancelled-Musser Public Library Board Meeting
DESCRIPTION:Board meetings are held on the third Wednesday of each month at 4:30 pm in Room 104 on the main floor of the Library. The meeting is open to the public.
URL:https://musserpubliclibrary.org/event/musser-public-library-board-meeting-2024-08-21/
LOCATION:#104 Community Meeting Room\, 408 E. 2nd St\, Muscatine\, IA\, 52761\, United States
CATEGORIES:Adults,Kids,Library Board of Trustees,Teens
ATTACH;FMTTYPE=image/jpeg:https://musserpubliclibrary.org/wp-content/uploads/2018/03/MusserHomepage-NewsPhoto2.jpg
ORGANIZER;CN="Robert Fiedler":MAILTO:rfiedler@muscatineiowa.gov
END:VEVENT
END:VCALENDAR