BEGIN:VCALENDAR
VERSION:2.0
PRODID:-//Musser Public Library - ECPv6.15.18//NONSGML v1.0//EN
CALSCALE:GREGORIAN
METHOD:PUBLISH
X-ORIGINAL-URL:https://musserpubliclibrary.org
X-WR-CALDESC:Events for Musser Public Library
REFRESH-INTERVAL;VALUE=DURATION:PT1H
X-Robots-Tag:noindex
X-PUBLISHED-TTL:PT1H
BEGIN:VTIMEZONE
TZID:America/Chicago
BEGIN:DAYLIGHT
TZOFFSETFROM:-0600
TZOFFSETTO:-0500
TZNAME:CDT
DTSTART:20180311T080000
END:DAYLIGHT
BEGIN:STANDARD
TZOFFSETFROM:-0500
TZOFFSETTO:-0600
TZNAME:CST
DTSTART:20181104T070000
END:STANDARD
BEGIN:DAYLIGHT
TZOFFSETFROM:-0600
TZOFFSETTO:-0500
TZNAME:CDT
DTSTART:20190310T080000
END:DAYLIGHT
BEGIN:STANDARD
TZOFFSETFROM:-0500
TZOFFSETTO:-0600
TZNAME:CST
DTSTART:20191103T070000
END:STANDARD
BEGIN:DAYLIGHT
TZOFFSETFROM:-0600
TZOFFSETTO:-0500
TZNAME:CDT
DTSTART:20200308T080000
END:DAYLIGHT
BEGIN:STANDARD
TZOFFSETFROM:-0500
TZOFFSETTO:-0600
TZNAME:CST
DTSTART:20201101T070000
END:STANDARD
END:VTIMEZONE
BEGIN:VEVENT
DTSTART;TZID=America/Chicago:20190703T140000
DTEND;TZID=America/Chicago:20190703T150000
DTSTAMP:20260419T104654
CREATED:20190530T202058Z
LAST-MODIFIED:20190530T202058Z
UID:13411-1562162400-1562166000@musserpubliclibrary.org
SUMMARY:Dance Me A Story
DESCRIPTION:Join a Ballet QC dancer and educator as she helps children of all ages tell a story through movement! Expect to have fun\, get some good exercise\, and enjoy a trunk full of costumes and props. Thanks are in order to the Carver Charitable Trust\, who funds this Ballet QC program series.
URL:https://musserpubliclibrary.org/event/dance-me-a-story/
LOCATION:IA
CATEGORIES:Adults,Kids,Learn at Lunch-Dr. Lucinda Harms,Teens
ATTACH;FMTTYPE=image/jpeg:https://musserpubliclibrary.org/wp-content/uploads/2018/03/MusserHomepage-NewsPhoto2.jpg
END:VEVENT
BEGIN:VEVENT
DTSTART;TZID=America/Chicago:20190704T090000
DTEND;TZID=America/Chicago:20190704T093000
DTSTAMP:20260419T104654
CREATED:20190529T144130Z
LAST-MODIFIED:20190529T144130Z
UID:13403-1562230800-1562232600@musserpubliclibrary.org
SUMMARY:Children's Dress-Up Parade
DESCRIPTION:Be the Parade! Babies\, children\, teens\, and adults are invited to meet at the parking lot across from Pearl Plaza on 2nd St. at 9 am. Walk\, bike\, scooter\, stroller\, or dance down Second Street to the Musser Library for a popsicle and a free book. Dress up in a costume or in red-white-and-blue for this special kid-oriented mini-parade if you wish!
URL:https://musserpubliclibrary.org/event/childrens-dress-up-parade-3/
LOCATION:IA
CATEGORIES:Adults,Kids,Learn at Lunch-Dr. Lucinda Harms,Teens
ATTACH;FMTTYPE=image/jpeg:https://musserpubliclibrary.org/wp-content/uploads/2018/03/MusserHomepage-NewsPhoto2.jpg
END:VEVENT
BEGIN:VEVENT
DTSTART;TZID=America/Chicago:20190705T153000
DTEND;TZID=America/Chicago:20190705T163000
DTSTAMP:20260419T104654
CREATED:20190502T213123Z
LAST-MODIFIED:20190521T171233Z
UID:13152-1562340600-1562344200@musserpubliclibrary.org
SUMMARY:TEEN Summer Reading - Last Day (to finish Book Art for Fair)
DESCRIPTION:Not finished? Today is the day to complete our Fair projects! Let’s get’er DONE! \nProject delivery to the Muscatine County Fair is Wednesday\, July 16th. \n  \nProgramming for TEENS ONLY (students entering 6th grade and up to 12th grade)
URL:https://musserpubliclibrary.org/event/teen-summer-reading-last-day-to-finish-book-art-for-fair/
LOCATION:#104
CATEGORIES:Teens
ATTACH;FMTTYPE=image/jpeg:https://musserpubliclibrary.org/wp-content/uploads/2018/03/MusserHomepage-NewsPhoto2.jpg
END:VEVENT
BEGIN:VEVENT
DTSTART;TZID=America/Chicago:20190712T153000
DTEND;TZID=America/Chicago:20190712T163000
DTSTAMP:20260419T104654
CREATED:20190520T231456Z
LAST-MODIFIED:20190521T211445Z
UID:13180-1562945400-1562949000@musserpubliclibrary.org
SUMMARY:TEEN Summer Reading - Popcorn and a Movie
DESCRIPTION:Let’s kick back and enjoy a Time Traveler WHO has been around for decades! \nProgramming open to TEENS ONLY (students going into 6th grade and through 12th grade) \n 
URL:https://musserpubliclibrary.org/event/teen-summer-reading-popcorn-and-a-movie/
LOCATION:#104
CATEGORIES:Teens
ATTACH;FMTTYPE=image/jpeg:https://musserpubliclibrary.org/wp-content/uploads/2018/03/MusserHomepage-NewsPhoto2.jpg
END:VEVENT
BEGIN:VEVENT
DTSTART;TZID=America/Chicago:20190712T180000
DTEND;TZID=America/Chicago:20190712T200000
DTSTAMP:20260419T104654
CREATED:20190530T164113Z
LAST-MODIFIED:20190607T144645Z
UID:13407-1562954400-1562961600@musserpubliclibrary.org
SUMMARY:Starlab
DESCRIPTION:Bluedorn Imagarium’s science educator Sloane will be here with a “Super Cold” presentation featuring liquid nitrogen. Also\, drop into the Children’s Department’s family room to gaze at our own mini star theater!
URL:https://musserpubliclibrary.org/event/starlab-2019-07-12/
LOCATION:IA
CATEGORIES:Adults,Kids,Learn at Lunch-Dr. Lucinda Harms,Teens
ATTACH;FMTTYPE=image/jpeg:https://musserpubliclibrary.org/wp-content/uploads/2018/03/MusserHomepage-NewsPhoto2.jpg
END:VEVENT
BEGIN:VEVENT
DTSTART;TZID=America/Chicago:20190718T173000
DTEND;TZID=America/Chicago:20190718T193000
DTSTAMP:20260419T104654
CREATED:20190524T163041Z
LAST-MODIFIED:20190524T163041Z
UID:13220-1563471000-1563478200@musserpubliclibrary.org
SUMMARY:Moon Phase Craft
DESCRIPTION:Celebrate the upcoming 50th anniversary of the moon landing with this free moon phase craft! \nDrop in any time between 5:30-7:30 but make sure to leave enough time for your clay to dry. \n  \nRegistration required in order to supply enough materials. \nSign up at the front desk\, on our Facebook post\, or email kbridgewater@muscatineiowa.gov \n  \n 
URL:https://musserpubliclibrary.org/event/moon-phase-craft/
LOCATION:#301
CATEGORIES:Adults,Teens
ATTACH;FMTTYPE=image/png:https://musserpubliclibrary.org/wp-content/uploads/2019/05/Moon-Phase-1.png
END:VEVENT
BEGIN:VEVENT
DTSTART;TZID=America/Chicago:20190719T153000
DTEND;TZID=America/Chicago:20190719T163000
DTSTAMP:20260419T104654
CREATED:20190520T225023Z
LAST-MODIFIED:20190521T222049Z
UID:13154-1563550200-1563553800@musserpubliclibrary.org
SUMMARY:TEEN Summer Reading - Body Marbling
DESCRIPTION:YOU MUST RESERVE A SPOT FOR THIS EVENT with Julie  (sign up starts June 10th) \nBody marbling is a painting process similar to paper marbling\, in which paint is floated on water and transferred to a person’s skin. Unlike the traditional oil-based technique for paper\, neon or ultraviolet reactive colors are typically used\, and the paint is water-based and non-toxic.  Students will create their own “alien arm” with this process. \nProgramming is open to TEENS ONLY (students entering 6th grade and up to 12th grade) \nContact:  Julie Lear  jlear@muscatineiowa.gov or 563-263-3065 ext. 128
URL:https://musserpubliclibrary.org/event/teen-summer-reading-body-marbling/
LOCATION:#104
CATEGORIES:Teens
ATTACH;FMTTYPE=image/jpeg:https://musserpubliclibrary.org/wp-content/uploads/2018/03/MusserHomepage-NewsPhoto2.jpg
END:VEVENT
BEGIN:VEVENT
DTSTART;TZID=America/Chicago:20190722T133000
DTEND;TZID=America/Chicago:20190722T143000
DTSTAMP:20260419T104654
CREATED:20190529T140448Z
LAST-MODIFIED:20190529T140448Z
UID:13374-1563802200-1563805800@musserpubliclibrary.org
SUMMARY:Space Camp for grades K-2
DESCRIPTION:Kids in grades K-2 may register to attend this week’s “Space Camp” with astronaut-related activities by calling Musser Library at 263-3065. Choose a time slot: either 1:30 pm or 3 pm.
URL:https://musserpubliclibrary.org/event/space-camp-for-grades-k-2/2019-07-22/
LOCATION:Children’s Room
CATEGORIES:Adults,Kids,Learn at Lunch-Dr. Lucinda Harms,Teens
ATTACH;FMTTYPE=image/jpeg:https://musserpubliclibrary.org/wp-content/uploads/2018/03/MusserHomepage-NewsPhoto2.jpg
END:VEVENT
BEGIN:VEVENT
DTSTART;TZID=America/Chicago:20190722T150000
DTEND;TZID=America/Chicago:20190722T160000
DTSTAMP:20260419T104654
CREATED:20190529T140640Z
LAST-MODIFIED:20190529T140640Z
UID:13380-1563807600-1563811200@musserpubliclibrary.org
SUMMARY:Space Camp for grades K-2
DESCRIPTION:Kids in grades K-2 may register to attend this week’s “Space Camp” with astronaut-related activities by calling Musser Library at 263-3065. Choose a time slot: either 1:30 pm or 3 pm.
URL:https://musserpubliclibrary.org/event/space-camp-for-grades-k-2-2/2019-07-22/
LOCATION:Children’s Room
CATEGORIES:Adults,Kids,Learn at Lunch-Dr. Lucinda Harms,Teens
ATTACH;FMTTYPE=image/jpeg:https://musserpubliclibrary.org/wp-content/uploads/2018/03/MusserHomepage-NewsPhoto2.jpg
END:VEVENT
BEGIN:VEVENT
DTSTART;TZID=America/Chicago:20190723T180000
DTEND;TZID=America/Chicago:20190723T200000
DTSTAMP:20260419T104654
CREATED:20190613T182305Z
LAST-MODIFIED:20190613T182305Z
UID:13446-1563904800-1563912000@musserpubliclibrary.org
SUMMARY:Christmas Cards in July
DESCRIPTION:Get your holiday cards done early! We supply everything you need to get your craft on! Make cards for birthday\, thank you\, or any holiday you choose! Drop in between 6:00-8:00 in the Makerspace on July 23rd.
URL:https://musserpubliclibrary.org/event/christmas-cards-in-july/
LOCATION:#301
CATEGORIES:Adults,Kids,Teens
ATTACH;FMTTYPE=image/jpeg:https://musserpubliclibrary.org/wp-content/uploads/2019/06/Xmas-cards-in-July-e1560450151311.jpg
END:VEVENT
BEGIN:VEVENT
DTSTART;TZID=America/Chicago:20190724T101500
DTEND;TZID=America/Chicago:20190724T111500
DTSTAMP:20260419T104654
CREATED:20190529T141419Z
LAST-MODIFIED:20190529T141419Z
UID:13392-1563963300-1563966900@musserpubliclibrary.org
SUMMARY:Dan Wardell's Reading Road Trip
DESCRIPTION:IPTV star Dan Wardell visits Musser Public Library as part of his annual Reading Road Trip! Help us pack the house for our good friend Dan!
URL:https://musserpubliclibrary.org/event/dan-wardells-reading-road-trip-9/
LOCATION:#104
CATEGORIES:Adults,Kids,Learn at Lunch-Dr. Lucinda Harms,Teens
ATTACH;FMTTYPE=image/jpeg:https://musserpubliclibrary.org/wp-content/uploads/2018/03/MusserHomepage-NewsPhoto2.jpg
END:VEVENT
BEGIN:VEVENT
DTSTART;TZID=America/Chicago:20190726T153000
DTEND;TZID=America/Chicago:20190726T163000
DTSTAMP:20260419T104654
CREATED:20190521T144039Z
LAST-MODIFIED:20190521T211714Z
UID:13185-1564155000-1564158600@musserpubliclibrary.org
SUMMARY:TEEN Summer Reading - Escape Room - The Disappearance of Mr. George
DESCRIPTION:Agent Starr Received An Urgent Communique From Mr. George About An Imminent Threat.\nShe Hurried To His Residence\, But When She Arrived\, She Couldn’t Find Him … Or Any Clues About The Emergency He Alluded To. She’s Asked Your Crew To Investigate As A Matter Of Priority.\nSolve the puzzles and help us find Mr. George! \nProgramming open to TEENS ONLY ( students entering 6th grade and up to 12th grade)
URL:https://musserpubliclibrary.org/event/teen-summer-reading-escape-room-the-disappearance-of-mr-george/
LOCATION:#104
CATEGORIES:Teens
ATTACH;FMTTYPE=image/jpeg:https://musserpubliclibrary.org/wp-content/uploads/2018/03/MusserHomepage-NewsPhoto2.jpg
END:VEVENT
BEGIN:VEVENT
DTSTART;TZID=America/Chicago:20190730T180000
DTEND;TZID=America/Chicago:20190730T200000
DTSTAMP:20260419T104654
CREATED:20190709T150732Z
LAST-MODIFIED:20190709T150732Z
UID:13458-1564509600-1564516800@musserpubliclibrary.org
SUMMARY:String Art Night
DESCRIPTION:Learn to make easy and beautiful string art for cheap. No hammering\, no wood\, no pain! \nAdults/Teens bring a pattern you like or we will have plenty to choose from. \nSign up required. Sign up at the service desk\, on this event page\, or send an email to kbridgewater@muscatineiowa.gov
URL:https://musserpubliclibrary.org/event/string-art-night/
LOCATION:#104
CATEGORIES:Adults,Teens
ATTACH;FMTTYPE=image/png:https://musserpubliclibrary.org/wp-content/uploads/2019/07/String-Art.png
END:VEVENT
END:VCALENDAR