BEGIN:VCALENDAR
VERSION:2.0
PRODID:-//Musser Public Library - ECPv6.15.18//NONSGML v1.0//EN
CALSCALE:GREGORIAN
METHOD:PUBLISH
X-ORIGINAL-URL:https://musserpubliclibrary.org
X-WR-CALDESC:Events for Musser Public Library
REFRESH-INTERVAL;VALUE=DURATION:PT1H
X-Robots-Tag:noindex
X-PUBLISHED-TTL:PT1H
BEGIN:VTIMEZONE
TZID:America/Chicago
BEGIN:DAYLIGHT
TZOFFSETFROM:-0600
TZOFFSETTO:-0500
TZNAME:CDT
DTSTART:20220313T080000
END:DAYLIGHT
BEGIN:STANDARD
TZOFFSETFROM:-0500
TZOFFSETTO:-0600
TZNAME:CST
DTSTART:20221106T070000
END:STANDARD
BEGIN:DAYLIGHT
TZOFFSETFROM:-0600
TZOFFSETTO:-0500
TZNAME:CDT
DTSTART:20230312T080000
END:DAYLIGHT
BEGIN:STANDARD
TZOFFSETFROM:-0500
TZOFFSETTO:-0600
TZNAME:CST
DTSTART:20231105T070000
END:STANDARD
BEGIN:DAYLIGHT
TZOFFSETFROM:-0600
TZOFFSETTO:-0500
TZNAME:CDT
DTSTART:20240310T080000
END:DAYLIGHT
BEGIN:STANDARD
TZOFFSETFROM:-0500
TZOFFSETTO:-0600
TZNAME:CST
DTSTART:20241103T070000
END:STANDARD
END:VTIMEZONE
BEGIN:VEVENT
DTSTART;TZID=America/Chicago:20231003T173000
DTEND;TZID=America/Chicago:20231003T183000
DTSTAMP:20260423T094937
CREATED:20230928T234215Z
LAST-MODIFIED:20230929T152308Z
UID:18468-1696354200-1696357800@musserpubliclibrary.org
SUMMARY:Clay Ghost in a Jar
DESCRIPTION:Join us to make an adorable clay ghost in a jar. Children must be accompanied by an adult.
URL:https://musserpubliclibrary.org/event/clay-ghost-in-a-jar/
LOCATION:#017 Maker Space
CATEGORIES:Adults,Family,Teens
ATTACH;FMTTYPE=image/png:https://musserpubliclibrary.org/wp-content/uploads/2023/08/Eerie-Event-Logo-1.png
END:VEVENT
END:VCALENDAR