BEGIN:VCALENDAR
VERSION:2.0
PRODID:-//Musser Public Library - ECPv6.15.18//NONSGML v1.0//EN
CALSCALE:GREGORIAN
METHOD:PUBLISH
X-ORIGINAL-URL:https://musserpubliclibrary.org
X-WR-CALDESC:Events for Musser Public Library
REFRESH-INTERVAL;VALUE=DURATION:PT1H
X-Robots-Tag:noindex
X-PUBLISHED-TTL:PT1H
BEGIN:VTIMEZONE
TZID:America/Chicago
BEGIN:DAYLIGHT
TZOFFSETFROM:-0600
TZOFFSETTO:-0500
TZNAME:CDT
DTSTART:20220313T080000
END:DAYLIGHT
BEGIN:STANDARD
TZOFFSETFROM:-0500
TZOFFSETTO:-0600
TZNAME:CST
DTSTART:20221106T070000
END:STANDARD
BEGIN:DAYLIGHT
TZOFFSETFROM:-0600
TZOFFSETTO:-0500
TZNAME:CDT
DTSTART:20230312T080000
END:DAYLIGHT
BEGIN:STANDARD
TZOFFSETFROM:-0500
TZOFFSETTO:-0600
TZNAME:CST
DTSTART:20231105T070000
END:STANDARD
BEGIN:DAYLIGHT
TZOFFSETFROM:-0600
TZOFFSETTO:-0500
TZNAME:CDT
DTSTART:20240310T080000
END:DAYLIGHT
BEGIN:STANDARD
TZOFFSETFROM:-0500
TZOFFSETTO:-0600
TZNAME:CST
DTSTART:20241103T070000
END:STANDARD
END:VTIMEZONE
BEGIN:VEVENT
DTSTART;TZID=America/Chicago:20231027T173000
DTEND;TZID=America/Chicago:20231027T190000
DTSTAMP:20260419T132928
CREATED:20230913T203948Z
LAST-MODIFIED:20230925T174851Z
UID:18382-1698427800-1698433200@musserpubliclibrary.org
SUMMARY:Trivia! - Horror Movies
DESCRIPTION:Come show off your little known facts about the cinema! Join us at Musser Public Library for our trivia night the last Friday of the month. This month’s theme is Horror Movies. This is the perfect event for all you movie buffs out there. Hopefully you’ve been joining us for our Spooky Sunday Matinees.  \nWe will meet in Room 301. Doors will open at 5:30 pm with trivia starting at 6 pm. Library doors will lock at 6 pm\, so please arrive early. This event is free and open to all. There is no registration required\, but if you plan to attend with a team\, please email us at refmus@muscatineiowa.gov. \nPart of the “13 Eerie Events” series at Musser Public Library. \n 
URL:https://musserpubliclibrary.org/event/trivia-horror-movies/
LOCATION:#301
CATEGORIES:Adults,Teens
ATTACH;FMTTYPE=image/png:https://musserpubliclibrary.org/wp-content/uploads/2023/09/Trivia-Horror-Trivia.png
ORGANIZER;CN="Molly Garrett":MAILTO:mgarrett@muscatineiowa.gov
END:VEVENT
END:VCALENDAR