BEGIN:VCALENDAR
VERSION:2.0
PRODID:-//Musser Public Library - ECPv6.15.18//NONSGML v1.0//EN
CALSCALE:GREGORIAN
METHOD:PUBLISH
X-ORIGINAL-URL:https://musserpubliclibrary.org
X-WR-CALDESC:Events for Musser Public Library
REFRESH-INTERVAL;VALUE=DURATION:PT1H
X-Robots-Tag:noindex
X-PUBLISHED-TTL:PT1H
BEGIN:VTIMEZONE
TZID:America/Chicago
BEGIN:DAYLIGHT
TZOFFSETFROM:-0600
TZOFFSETTO:-0500
TZNAME:CDT
DTSTART:20140309T080000
END:DAYLIGHT
BEGIN:STANDARD
TZOFFSETFROM:-0500
TZOFFSETTO:-0600
TZNAME:CST
DTSTART:20141102T070000
END:STANDARD
BEGIN:DAYLIGHT
TZOFFSETFROM:-0600
TZOFFSETTO:-0500
TZNAME:CDT
DTSTART:20150308T080000
END:DAYLIGHT
BEGIN:STANDARD
TZOFFSETFROM:-0500
TZOFFSETTO:-0600
TZNAME:CST
DTSTART:20151101T070000
END:STANDARD
BEGIN:DAYLIGHT
TZOFFSETFROM:-0600
TZOFFSETTO:-0500
TZNAME:CDT
DTSTART:20160313T080000
END:DAYLIGHT
BEGIN:STANDARD
TZOFFSETFROM:-0500
TZOFFSETTO:-0600
TZNAME:CST
DTSTART:20161106T070000
END:STANDARD
END:VTIMEZONE
BEGIN:VEVENT
DTSTART;TZID=America/Chicago:20150708T140000
DTEND;TZID=America/Chicago:20150708T150000
DTSTAMP:20260420T091545
CREATED:20150521T163812Z
LAST-MODIFIED:20180410T161355Z
UID:6549-1436364000-1436367600@musserpubliclibrary.org
SUMMARY:Dan Wardell's Reading Road Trip
DESCRIPTION:Dan Wardell arrives at Musser Library on his famous Reading Road Trip today! We are so happy to host him again this year. Nobody beats Dan Wardell at turning off the TV\, reading a good book\, using the imagination\, and going outside to play!
URL:https://musserpubliclibrary.org/event/dan-wardells-reading-road-trip-8/
LOCATION:Contact Us
CATEGORIES:Learn at Lunch-Dr. Lucinda Harms
ATTACH;FMTTYPE=image/jpeg:https://musserpubliclibrary.org/wp-content/uploads/2018/03/MusserHomepage-NewsPhoto2.jpg
END:VEVENT
BEGIN:VEVENT
DTSTART;TZID=America/Chicago:20150710T200000
DTEND;TZID=America/Chicago:20150710T210000
DTSTAMP:20260420T091545
CREATED:20150518T151850Z
LAST-MODIFIED:20180309T184056Z
UID:6522-1436558400-1436562000@musserpubliclibrary.org
SUMMARY:TEENS - Superhero Games
DESCRIPTION:Join us for a SUPER charged – SUPER sized – SUPER fun night of “GIANT” Foosball and Hungry – Hungry Hippo! \nAll Summer Reading Teen events will be chaperoned and held at 8:00pm after business hours at the Musser. \nFor: Teens going into 6th grade – 12th grade.
URL:https://musserpubliclibrary.org/event/superhero-games/
CATEGORIES:Teens
ATTACH;FMTTYPE=image/jpeg:https://musserpubliclibrary.org/wp-content/uploads/2018/03/MusserHomepage-NewsPhoto2.jpg
END:VEVENT
BEGIN:VEVENT
DTSTART;TZID=America/Chicago:20150714T103000
DTEND;TZID=America/Chicago:20150714T111500
DTSTAMP:20260420T091545
CREATED:20150513T191939Z
LAST-MODIFIED:20180410T161355Z
UID:6441-1436869800-1436872500@musserpubliclibrary.org
SUMMARY:Snakes Alive!
DESCRIPTION:Tom Kessenich will show off and discuss his reptile friends at this informative program.
URL:https://musserpubliclibrary.org/event/snakes-alive/
LOCATION:Contact Us
CATEGORIES:Learn at Lunch-Dr. Lucinda Harms
ATTACH;FMTTYPE=image/jpeg:https://musserpubliclibrary.org/wp-content/uploads/2018/03/MusserHomepage-NewsPhoto2.jpg
END:VEVENT
BEGIN:VEVENT
DTSTART;TZID=America/Chicago:20150714T133000
DTEND;TZID=America/Chicago:20150714T141500
DTSTAMP:20260420T091545
CREATED:20150513T192059Z
LAST-MODIFIED:20180410T161355Z
UID:6442-1436880600-1436883300@musserpubliclibrary.org
SUMMARY:Snakes Alive!
DESCRIPTION:Tom Kessenich will show off and discuss his reptile friends at this informative program.
URL:https://musserpubliclibrary.org/event/snakes-alive-2/
LOCATION:Contact Us
CATEGORIES:Learn at Lunch-Dr. Lucinda Harms
ATTACH;FMTTYPE=image/jpeg:https://musserpubliclibrary.org/wp-content/uploads/2018/03/MusserHomepage-NewsPhoto2.jpg
END:VEVENT
BEGIN:VEVENT
DTSTART;TZID=America/Chicago:20150714T180000
DTEND;TZID=America/Chicago:20150714T200000
DTSTAMP:20260420T091545
CREATED:20150603T142238Z
LAST-MODIFIED:20150603T142238Z
UID:6571-1436896800-1436904000@musserpubliclibrary.org
SUMMARY:At the Aquatic Center
DESCRIPTION:Look for us on the outside of the Aquatic Center between 6 -8 pm to check out books and have some fun with Tom Kessenich and his reptile friends! Tom will begin his presentation at 6:30 pm..  Bring your library card or sign up or one if you’ve never had one!
URL:https://musserpubliclibrary.org/event/at-muscatine-water-park-2/
CATEGORIES:Kids
ATTACH;FMTTYPE=image/jpeg:https://musserpubliclibrary.org/wp-content/uploads/2018/03/MusserHomepage-NewsPhoto2.jpg
END:VEVENT
BEGIN:VEVENT
DTSTART;TZID=America/Chicago:20150717T200000
DTEND;TZID=America/Chicago:20150717T210000
DTSTAMP:20260420T091545
CREATED:20150518T152114Z
LAST-MODIFIED:20180309T184056Z
UID:6523-1437163200-1437166800@musserpubliclibrary.org
SUMMARY:TEENS - Ironman Kitchen
DESCRIPTION:Food with an evil twist…you must use you Superhuman senses to make this Hero’s treat! You eat what you make! \nAll Summer Reading Teen events will be chaperoned and held at 8:00pm after business hours at the Musser. \nFor: Teens going into 6th grade – 12th grade.
URL:https://musserpubliclibrary.org/event/ironman-kitchen/
CATEGORIES:Teens
ATTACH;FMTTYPE=image/jpeg:https://musserpubliclibrary.org/wp-content/uploads/2018/03/MusserHomepage-NewsPhoto2.jpg
END:VEVENT
BEGIN:VEVENT
DTSTART;TZID=America/Chicago:20150718T103000
DTEND;TZID=America/Chicago:20150718T113000
DTSTAMP:20260420T091545
CREATED:20150715T141330Z
LAST-MODIFIED:20180309T185627Z
UID:6639-1437215400-1437219000@musserpubliclibrary.org
SUMMARY:O Baby Lapsit
DESCRIPTION:Babies ages birth through 3\, plus parent or caregiver\, are invited to join us for 20 minutes of circle time and 40 minutes of social time! Lapsit features early literacy and language-building activities such as rhymes\, fingerplays\, songs\, and the shortest of stories.
URL:https://musserpubliclibrary.org/event/o-baby-lapsit-41/
LOCATION:Contact Us
CATEGORIES:Kids
ATTACH;FMTTYPE=image/jpeg:https://musserpubliclibrary.org/wp-content/uploads/2018/03/MusserHomepage-NewsPhoto2.jpg
END:VEVENT
BEGIN:VEVENT
DTSTART;TZID=America/Chicago:20150721T103000
DTEND;TZID=America/Chicago:20150721T111500
DTSTAMP:20260420T091545
CREATED:20150513T192515Z
LAST-MODIFIED:20180410T161355Z
UID:6443-1437474600-1437477300@musserpubliclibrary.org
SUMMARY:David Casas\, Magician
DESCRIPTION:Be delighted and amazed by David Casas’ beautiful magic! And will Betty be transformed into a superhero for 24 hours??? Keep reading to find out!
URL:https://musserpubliclibrary.org/event/david-casas-magician/
LOCATION:Contact Us
CATEGORIES:Learn at Lunch-Dr. Lucinda Harms
ATTACH;FMTTYPE=image/jpeg:https://musserpubliclibrary.org/wp-content/uploads/2018/03/MusserHomepage-NewsPhoto2.jpg
END:VEVENT
BEGIN:VEVENT
DTSTART;TZID=America/Chicago:20150721T133000
DTEND;TZID=America/Chicago:20150721T141500
DTSTAMP:20260420T091545
CREATED:20150513T192619Z
LAST-MODIFIED:20150513T192619Z
UID:6444-1437485400-1437488100@musserpubliclibrary.org
SUMMARY:David Casas\, Magician
DESCRIPTION:Be delighted and amazed by David Casas’ beautiful magic! And will Betty be transformed into a superhero for 24 hours??? Keep reading to find out!
URL:https://musserpubliclibrary.org/event/david-casas-magician-2/
LOCATION:Contact Us
ATTACH;FMTTYPE=image/jpeg:https://musserpubliclibrary.org/wp-content/uploads/2018/03/MusserHomepage-NewsPhoto2.jpg
END:VEVENT
BEGIN:VEVENT
DTSTART;TZID=America/Chicago:20150721T180000
DTEND;TZID=America/Chicago:20150721T180000
DTSTAMP:20260420T091545
CREATED:20150604T201243Z
LAST-MODIFIED:20180410T161355Z
UID:6581-1437501600-1437501600@musserpubliclibrary.org
SUMMARY:At the Aquatic Center
DESCRIPTION:If you are going to the Aquatic Center\, look for us there between 6 pm and 8 pm with books to check out! Enjoy the magic of David Casas (without the birds) beginning at 6:30 pm just outside the Aquatic Center.
URL:https://musserpubliclibrary.org/event/at-the-aquatic-center/
CATEGORIES:Learn at Lunch-Dr. Lucinda Harms
ATTACH;FMTTYPE=image/jpeg:https://musserpubliclibrary.org/wp-content/uploads/2018/03/MusserHomepage-NewsPhoto2.jpg
END:VEVENT
BEGIN:VEVENT
DTSTART;TZID=America/Chicago:20150722T080000
DTEND;TZID=America/Chicago:20150722T170000
DTSTAMP:20260420T091545
CREATED:20150513T194604Z
LAST-MODIFIED:20150513T194604Z
UID:6496-1437552000-1437584400@musserpubliclibrary.org
SUMMARY:Summer Reading "Bonus Round"
DESCRIPTION:Join the Top Ten Readers from this year’s summer program in staging a reading contest between Batman and Superman! Every time you read 100 minutes\, come in to spin the spinner and pick out not only a prize\, but also the team who will receive your minutes!
URL:https://musserpubliclibrary.org/event/summer-reading-bonus-round/2015-07-22/
LOCATION:Contact Us
ATTACH;FMTTYPE=image/jpeg:https://musserpubliclibrary.org/wp-content/uploads/2018/03/MusserHomepage-NewsPhoto2.jpg
END:VEVENT
BEGIN:VEVENT
DTSTART;TZID=America/Chicago:20150724T200000
DTEND;TZID=America/Chicago:20150724T210000
DTSTAMP:20260420T091545
CREATED:20150518T152749Z
LAST-MODIFIED:20180309T184056Z
UID:6524-1437768000-1437771600@musserpubliclibrary.org
SUMMARY:TEENS - Superhero Murder Mystery
DESCRIPTION:Will the evil villain succeed or will the power of truth and justice prevail?! You decide! \nBe a superhero or villain in costume for this event\, a super character of today or someone you invent for this murder mystery! \nAll Summer Reading Teen events will be chaperoned and held after hours at the Musser.  \nFor: Teens going into 6th grade – 12th grade.
URL:https://musserpubliclibrary.org/event/superhero-murder-mystery/
CATEGORIES:Teens
ATTACH;FMTTYPE=image/jpeg:https://musserpubliclibrary.org/wp-content/uploads/2018/03/MusserHomepage-NewsPhoto2.jpg
END:VEVENT
BEGIN:VEVENT
DTSTART;TZID=America/Chicago:20150725T103000
DTEND;TZID=America/Chicago:20150725T113000
DTSTAMP:20260420T091545
CREATED:20150715T141446Z
LAST-MODIFIED:20180309T185627Z
UID:6640-1437820200-1437823800@musserpubliclibrary.org
SUMMARY:O Baby Lapsit
DESCRIPTION:Babies ages birth through 3\, plus parent or caregiver\, are invited to join us for 20 minutes of circle time and 40 minutes of social time! Lapsit features early literacy and language-building activities such as rhymes\, fingerplays\, songs\, and the shortest of stories.
URL:https://musserpubliclibrary.org/event/o-baby-lapsit-42/
LOCATION:Contact Us
CATEGORIES:Kids
ATTACH;FMTTYPE=image/jpeg:https://musserpubliclibrary.org/wp-content/uploads/2018/03/MusserHomepage-NewsPhoto2.jpg
END:VEVENT
BEGIN:VEVENT
DTSTART;TZID=America/Chicago:20150731T200000
DTEND;TZID=America/Chicago:20150731T210000
DTSTAMP:20260420T091545
CREATED:20150518T153206Z
LAST-MODIFIED:20180309T184056Z
UID:6525-1438372800-1438376400@musserpubliclibrary.org
SUMMARY:TEENS - The Power of Crafting
DESCRIPTION:Supervillains are crafty\, but are you?! Join us for a diverse group of projects meant to tempt ALL your senses! Morse code art is on the menu! \nAll Summer Reading Teen events will be chaperoned and held at 8:00pm after business hours at the Musser. \nFor: Teens going into 6th grade  – 12th grade.
URL:https://musserpubliclibrary.org/event/teens-the-power-of-crafting/
CATEGORIES:Teens
ATTACH;FMTTYPE=image/jpeg:https://musserpubliclibrary.org/wp-content/uploads/2018/03/MusserHomepage-NewsPhoto2.jpg
END:VEVENT
BEGIN:VEVENT
DTSTART;TZID=America/Chicago:20150801T103000
DTEND;TZID=America/Chicago:20150801T113000
DTSTAMP:20260420T091545
CREATED:20150715T141602Z
LAST-MODIFIED:20180309T185627Z
UID:6641-1438425000-1438428600@musserpubliclibrary.org
SUMMARY:O Baby Lapsit
DESCRIPTION:Babies ages birth through 3\, plus parent or caregiver\, are invited to join us for 20 minutes of circle time and 40 minutes of social time! Lapsit features early literacy and language-building activities such as rhymes\, fingerplays\, songs\, and the shortest of stories.
URL:https://musserpubliclibrary.org/event/o-baby-lapsit-43/
LOCATION:Contact Us
CATEGORIES:Kids
ATTACH;FMTTYPE=image/jpeg:https://musserpubliclibrary.org/wp-content/uploads/2018/03/MusserHomepage-NewsPhoto2.jpg
END:VEVENT
BEGIN:VEVENT
DTSTART;TZID=America/Chicago:20150803T190000
DTEND;TZID=America/Chicago:20150803T200000
DTSTAMP:20260420T091545
CREATED:20150721T192057Z
LAST-MODIFIED:20150721T192057Z
UID:6643-1438628400-1438632000@musserpubliclibrary.org
SUMMARY:Adult Book Club
DESCRIPTION:Adult Book Club meets the 1st Monday of the month. \nCopies of the current title that the book club is reading are available at the circulation desk. \nThe club meets in the Board Room on the 2nd floor.
URL:https://musserpubliclibrary.org/event/adult-book-club/2015-08-03/
LOCATION:Contact Us
CATEGORIES:Adults
ATTACH;FMTTYPE=image/jpeg:https://musserpubliclibrary.org/wp-content/uploads/2018/03/MusserHomepage-NewsPhoto2.jpg
END:VEVENT
BEGIN:VEVENT
DTSTART;TZID=America/Chicago:20150807T013000
DTEND;TZID=America/Chicago:20150807T140000
DTSTAMP:20260420T091545
CREATED:20150803T140725Z
LAST-MODIFIED:20150803T140725Z
UID:6663-1438911000-1438956000@musserpubliclibrary.org
SUMMARY:Police Story
DESCRIPTION:This summer’s LAST “Police Story” session with the MPD! Thank you to our officers in blue for making this summer’s storytimes special.
URL:https://musserpubliclibrary.org/event/police-story-4/
LOCATION:Contact Us
CATEGORIES:Kids
ATTACH;FMTTYPE=image/jpeg:https://musserpubliclibrary.org/wp-content/uploads/2018/03/MusserHomepage-NewsPhoto2.jpg
END:VEVENT
BEGIN:VEVENT
DTSTART;TZID=America/Chicago:20150807T200000
DTEND;TZID=America/Chicago:20150807T210000
DTSTAMP:20260420T091545
CREATED:20150518T154147Z
LAST-MODIFIED:20180309T184056Z
UID:6528-1438977600-1438981200@musserpubliclibrary.org
SUMMARY:TEENS - Fan Fiction Movie Night and Final Party - Dr. WHO
DESCRIPTION:To celebrate a successful Summer Reading Summer…movie treats and some early episodes of Dr. WHO! \nCollect your reading tickets and deposit them today\, we’ll draw for prizes August 14! \nAll Summer Reading Teen events will be chaperoned and held at 8:00pm after business hours at the Musser. \nFor: Teens going into 6th – 12th grade.
URL:https://musserpubliclibrary.org/event/teens-fan-fiction-movie-night-and-final-party/
CATEGORIES:Teens
ATTACH;FMTTYPE=image/jpeg:https://musserpubliclibrary.org/wp-content/uploads/2018/03/MusserHomepage-NewsPhoto2.jpg
END:VEVENT
BEGIN:VEVENT
DTSTART;TZID=America/Chicago:20150830T120000
DTEND;TZID=America/Chicago:20150830T170000
DTSTAMP:20260420T091545
CREATED:20150825T160347Z
LAST-MODIFIED:20150825T160347Z
UID:6671-1440936000-1440954000@musserpubliclibrary.org
SUMMARY:Fantasy Football 2015
DESCRIPTION:New this year! Two Leagues! Each league is limited to 14 teams. Pre-registration is recommended. Sign up at the library or call 563-263-3065. \nLeague One Draft – Noon to 2:15 \nNoon: Registration & enjoy wraps and pop from Hy-Vee \n12:15PM: Fantasy Football Q & A with Dr. Jeff Ohlmann\, Professor of Management Sciences at the University of Iowa. \n12:30PM: League 1 Draft Pick \nLeague Two Draft – 2:30 to 4:45 \n2:30PM: Registration & enjoy wraps and pop from HyVee \n2:45PM: Fantasy Football Q & A with Dr. Jeff Ohlmann\, Professor of Management Sciences at the University of Iowa. \n3:00PM: League 2 Draft Pick \n\nWeekly prizes for Top-Scoring Teams!\nGrand Prizes awarded to the top three finishers at season’s end!\nTo participate\, a Yahoo email account is recommended. Don’t have one? We can help!\n\nFor more information\, contact Rod Peck 563-263-3065 or email rpeck@muscatineiowa.gov
URL:https://musserpubliclibrary.org/event/fantasy-football-2015/
LOCATION:Contact Us
CATEGORIES:Adults
ATTACH;FMTTYPE=image/jpeg:https://musserpubliclibrary.org/wp-content/uploads/2018/03/MusserHomepage-NewsPhoto2.jpg
END:VEVENT
BEGIN:VEVENT
DTSTART;TZID=America/Chicago:20150906T120000
DTEND;TZID=America/Chicago:20150907T200000
DTSTAMP:20260420T091545
CREATED:20150323T193714Z
LAST-MODIFIED:20180410T160439Z
UID:6296-1441540800-1441656000@musserpubliclibrary.org
SUMMARY:Library Closed - Labor Day Holiday
DESCRIPTION:The library will be closed Sunday\, September 6th\, 2015 & Monday September 7th\, 2015 in observance of the Labor Day Holiday. The library will reopen on Tuesday\, September 8th\, 2015 at 10AM. Thank you and have a safe Labor Day.
URL:https://musserpubliclibrary.org/event/library-closed-labor-day-holiday-3/
CATEGORIES:Learn at Lunch-Dr. Lucinda Harms
ATTACH;FMTTYPE=image/jpeg:https://musserpubliclibrary.org/wp-content/uploads/2018/03/MusserHomepage-NewsPhoto2.jpg
ORGANIZER;CN="Robert Fiedler":MAILTO:rfiedler@muscatineiowa.gov
END:VEVENT
BEGIN:VEVENT
DTSTART;TZID=America/Chicago:20150909T183000
DTEND;TZID=America/Chicago:20150909T191500
DTSTAMP:20260420T091545
CREATED:20150831T135653Z
LAST-MODIFIED:20180410T161125Z
UID:6778-1441823400-1441826100@musserpubliclibrary.org
SUMMARY:Youngster Specialty
DESCRIPTION:Children ages birth to five\, along with their parents or caregiver\, can enjoy a 45-minute participatory musical experience with Ms. Minder! Older siblings are welcome to come along if they wish.
URL:https://musserpubliclibrary.org/event/baby-specialty-3/2015-09-09/
LOCATION:Contact Us
CATEGORIES:Learn at Lunch-Dr. Lucinda Harms
ATTACH;FMTTYPE=image/jpeg:https://musserpubliclibrary.org/wp-content/uploads/2018/03/MusserHomepage-NewsPhoto2.jpg
END:VEVENT
BEGIN:VEVENT
DTSTART;TZID=America/Chicago:20150909T190000
DTEND;TZID=America/Chicago:20150909T193000
DTSTAMP:20260420T091545
CREATED:20150916T134850Z
LAST-MODIFIED:20150916T134850Z
UID:6973-1441825200-1441827000@musserpubliclibrary.org
SUMMARY:Ukulele Classes
DESCRIPTION:Ukulele classes are being offered for free at Musser Public Library from Sept 9th through Oct 21st\, 2015\, with Michael Burt\, instructor.  The classes will be held every Wednesday at 7pm and last for about 30 minutes.  Lessons will be held in the small Conference Room on the second floor of the library. \nPlease call to reserve a spot.  Class size is limited to 10 people.
URL:https://musserpubliclibrary.org/event/ukulele-classes/2015-09-09/
LOCATION:Contact Us
CATEGORIES:Adults
ATTACH;FMTTYPE=image/jpeg:https://musserpubliclibrary.org/wp-content/uploads/2018/03/MusserHomepage-NewsPhoto2.jpg
END:VEVENT
BEGIN:VEVENT
DTSTART;TZID=America/Chicago:20150910T103000
DTEND;TZID=America/Chicago:20150910T112000
DTSTAMP:20260420T091545
CREATED:20150831T135043Z
LAST-MODIFIED:20180309T185627Z
UID:6709-1441881000-1441884000@musserpubliclibrary.org
SUMMARY:O Baby Lapsit
DESCRIPTION:Early literacy for the youngest of learners\, children birth through three plus parent or caregiver. Enjoy 20 minutes of circletime\, followed by 30 minutes of social time for adults and children alike.
URL:https://musserpubliclibrary.org/event/o-baby-lapsit-45/2015-09-10/
LOCATION:Contact Us
CATEGORIES:Kids
ATTACH;FMTTYPE=image/jpeg:https://musserpubliclibrary.org/wp-content/uploads/2018/03/MusserHomepage-NewsPhoto2.jpg
END:VEVENT
BEGIN:VEVENT
DTSTART;TZID=America/Chicago:20150910T163000
DTEND;TZID=America/Chicago:20150910T193000
DTSTAMP:20260420T091545
CREATED:20150910T160921Z
LAST-MODIFIED:20180410T160243Z
UID:6960-1441902600-1441913400@musserpubliclibrary.org
SUMMARY:Friends of Musser Public Library Book Sale Preview Night!
DESCRIPTION:MCSD Staff & Friends Member Preview Night* Thursday Sept. 10th\, 4:30PM-7:30PM. \n*Members of the Friends of Musser Public Library and all the MCSD staff are invited to the special Thursday preview sale. Memberships and renewals will be taken at the door of the preview sale.
URL:https://musserpubliclibrary.org/event/friends-of-musser-public-library-book-sale-preview-night/
CATEGORIES:Learn at Lunch-Dr. Lucinda Harms
ATTACH;FMTTYPE=image/jpeg:https://musserpubliclibrary.org/wp-content/uploads/2018/03/MusserHomepage-NewsPhoto2.jpg
END:VEVENT
BEGIN:VEVENT
DTSTART;TZID=America/Chicago:20150910T180000
DTEND;TZID=America/Chicago:20150910T190000
DTSTAMP:20260420T091545
CREATED:20150831T152608Z
LAST-MODIFIED:20180410T161016Z
UID:6816-1441908000-1441911600@musserpubliclibrary.org
SUMMARY:Sparkplugs--Adventure Calls
DESCRIPTION:For this week ONLY\, meet out at the Environmental Learning Center in Discovery Park to experience the prairie in a whole new way. All other sessions meet at Musser Library.  Sparkplugs is geared towards children ages 4-8 plus any family members who wish to attend. We begin with a healthy snack\, followed by a story or book\, then a hands-on activity for the entire family to enjoy. Registration is not necessary.
URL:https://musserpubliclibrary.org/event/sparkplugs-adventure-calls/
CATEGORIES:Learn at Lunch-Dr. Lucinda Harms
ATTACH;FMTTYPE=image/jpeg:https://musserpubliclibrary.org/wp-content/uploads/2018/03/MusserHomepage-NewsPhoto2.jpg
END:VEVENT
BEGIN:VEVENT
DTSTART;TZID=America/Chicago:20150911T163000
DTEND;TZID=America/Chicago:20150911T200000
DTSTAMP:20260420T091545
CREATED:20150828T203432Z
LAST-MODIFIED:20180410T160243Z
UID:6674-1441989000-1442001600@musserpubliclibrary.org
SUMMARY:Friends of Musser Public Library Book Sale
DESCRIPTION:Friday\, from 4:30PM – 8:00PM at the Muscatine School Admin Center. \nQuestions? Email FriendsofMusserPublicLibrary@gmail.com \nWE NEED YOUR DONATIONS! \nWe NEED your book donations for the Friends of Musser Public Library Book Sale! \nDonations can be dropped off during the month of August at the Muscatine School Admin Center @ 2900 Mulberry Ave or Musser Public Library during regular business hours. \nHardback\, paperback and children’s books\, also DVD\, VHS\, and CDS are gladly accepted. No magazines\, please. \nAll funds raised go to Musser Public Library to support programs and staff. Thank You! \n 
URL:https://musserpubliclibrary.org/event/friends-of-musser-public-library-book-sale-2/
CATEGORIES:Learn at Lunch-Dr. Lucinda Harms
ATTACH;FMTTYPE=image/jpeg:https://musserpubliclibrary.org/wp-content/uploads/2018/03/MusserHomepage-NewsPhoto2.jpg
END:VEVENT
BEGIN:VEVENT
DTSTART;TZID=America/Chicago:20150911T173000
DTEND;TZID=America/Chicago:20150911T193000
DTSTAMP:20260420T091545
CREATED:20150831T162142Z
LAST-MODIFIED:20180410T161125Z
UID:6864-1441992600-1441999800@musserpubliclibrary.org
SUMMARY:ArtsBuzz at the Community Block Party
DESCRIPTION:Look for us at the Community Block Party\, located at the Muscatine Y\, with our monthly ArtsBuzz participatory celebration of the arts for children and families.
URL:https://musserpubliclibrary.org/event/artsbuzz-at-the-community-block-party/
CATEGORIES:Learn at Lunch-Dr. Lucinda Harms
ATTACH;FMTTYPE=image/jpeg:https://musserpubliclibrary.org/wp-content/uploads/2018/03/MusserHomepage-NewsPhoto2.jpg
END:VEVENT
BEGIN:VEVENT
DTSTART;TZID=America/Chicago:20150912T090000
DTEND;TZID=America/Chicago:20150912T130000
DTSTAMP:20260420T091545
CREATED:20150828T203544Z
LAST-MODIFIED:20180410T160243Z
UID:6675-1442048400-1442062800@musserpubliclibrary.org
SUMMARY:Friends of Musser Public Library Book Sale
DESCRIPTION:Saturday from 9AM to 1PM at the Muscatine School Admin Center! \nQuestions? Email FriendsofMusserPublicLibrary@gmail.com \nWE NEED YOUR DONATIONS! \nWe NEED your book donations for the Friends of Musser Public Library Book Sale! \nDonations can be dropped off during the month of August at the Muscatine School Admin Center @ 2900 Mulberry Ave or Musser Public Library during regular business hours. \nHardback\, paperback and children’s books\, also DVD\, VHS\, and CDS are gladly accepted. No magazines\, please. \nAll funds raised go to Musser Public Library to support programs and staff. Thank You! \n 
URL:https://musserpubliclibrary.org/event/friends-of-musser-public-library-book-sale-4/
CATEGORIES:Learn at Lunch-Dr. Lucinda Harms
ATTACH;FMTTYPE=image/jpeg:https://musserpubliclibrary.org/wp-content/uploads/2018/03/MusserHomepage-NewsPhoto2.jpg
END:VEVENT
BEGIN:VEVENT
DTSTART;TZID=America/Chicago:20150912T103000
DTEND;TZID=America/Chicago:20150912T232000
DTSTAMP:20260420T091545
CREATED:20150831T162746Z
LAST-MODIFIED:20180309T185627Z
UID:6901-1442053800-1442100000@musserpubliclibrary.org
SUMMARY:O Baby Lapsit
DESCRIPTION:Early literacy for the very youngest of learners\, children birth to three\, plus parent or caregiver. Enjoy 20 minutes of circletime followed by 30 minutes of social time for children and adults alike.
URL:https://musserpubliclibrary.org/event/o-baby-lapsit-49/2015-09-12/
LOCATION:Contact Us
CATEGORIES:Kids
ATTACH;FMTTYPE=image/jpeg:https://musserpubliclibrary.org/wp-content/uploads/2018/03/MusserHomepage-NewsPhoto2.jpg
END:VEVENT
BEGIN:VEVENT
DTSTART;TZID=America/Chicago:20150914T093000
DTEND;TZID=America/Chicago:20150914T102000
DTSTAMP:20260420T091545
CREATED:20150831T134558Z
LAST-MODIFIED:20150831T134558Z
UID:6676-1442223000-1442226000@musserpubliclibrary.org
SUMMARY:O Baby Lapsit
DESCRIPTION:Early literacy for the very youngest of learners\, ages birth through three\, plus parent or caregiver. Enjoy 20 minutes of circletime followed by 30 minutes of social time for adults and children alike. This event takes place before the library opens for regular business. Please arrive at the front door of the library between 9:15 and 9:40 for us to let you in specially.
URL:https://musserpubliclibrary.org/event/o-baby-lapsit-44/2015-09-14/
LOCATION:Contact Us
ATTACH;FMTTYPE=image/jpeg:https://musserpubliclibrary.org/wp-content/uploads/2018/03/MusserHomepage-NewsPhoto2.jpg
END:VEVENT
END:VCALENDAR