BEGIN:VCALENDAR
VERSION:2.0
PRODID:-//Musser Public Library - ECPv6.15.18//NONSGML v1.0//EN
CALSCALE:GREGORIAN
METHOD:PUBLISH
X-WR-CALNAME:Musser Public Library
X-ORIGINAL-URL:https://musserpubliclibrary.org
X-WR-CALDESC:Events for Musser Public Library
REFRESH-INTERVAL;VALUE=DURATION:PT1H
X-Robots-Tag:noindex
X-PUBLISHED-TTL:PT1H
BEGIN:VTIMEZONE
TZID:America/Chicago
BEGIN:DAYLIGHT
TZOFFSETFROM:-0600
TZOFFSETTO:-0500
TZNAME:CDT
DTSTART:20150308T080000
END:DAYLIGHT
BEGIN:STANDARD
TZOFFSETFROM:-0500
TZOFFSETTO:-0600
TZNAME:CST
DTSTART:20151101T070000
END:STANDARD
BEGIN:DAYLIGHT
TZOFFSETFROM:-0600
TZOFFSETTO:-0500
TZNAME:CDT
DTSTART:20160313T080000
END:DAYLIGHT
BEGIN:STANDARD
TZOFFSETFROM:-0500
TZOFFSETTO:-0600
TZNAME:CST
DTSTART:20161106T070000
END:STANDARD
BEGIN:DAYLIGHT
TZOFFSETFROM:-0600
TZOFFSETTO:-0500
TZNAME:CDT
DTSTART:20170312T080000
END:DAYLIGHT
BEGIN:STANDARD
TZOFFSETFROM:-0500
TZOFFSETTO:-0600
TZNAME:CST
DTSTART:20171105T070000
END:STANDARD
END:VTIMEZONE
BEGIN:VEVENT
DTSTART;TZID=America/Chicago:20160725T153000
DTEND;TZID=America/Chicago:20160725T163000
DTSTAMP:20260422T135557
CREATED:20160517T154137Z
LAST-MODIFIED:20180410T161315Z
UID:7448-1469460600-1469464200@musserpubliclibrary.org
SUMMARY:Mystery Sense!
DESCRIPTION:
URL:https://musserpubliclibrary.org/event/mystery-senses-2/
LOCATION:Contact Us
CATEGORIES:Learn at Lunch-Dr. Lucinda Harms
ATTACH;FMTTYPE=image/jpeg:https://musserpubliclibrary.org/wp-content/uploads/2018/03/MusserHomepage-NewsPhoto2.jpg
END:VEVENT
BEGIN:VEVENT
DTSTART;TZID=America/Chicago:20160725T133000
DTEND;TZID=America/Chicago:20160725T143000
DTSTAMP:20260422T135557
CREATED:20160517T154053Z
LAST-MODIFIED:20180410T161315Z
UID:7447-1469453400-1469457000@musserpubliclibrary.org
SUMMARY:Mystery Sense!
DESCRIPTION:
URL:https://musserpubliclibrary.org/event/mystery-senses/
LOCATION:Contact Us
CATEGORIES:Learn at Lunch-Dr. Lucinda Harms
ATTACH;FMTTYPE=image/jpeg:https://musserpubliclibrary.org/wp-content/uploads/2018/03/MusserHomepage-NewsPhoto2.jpg
END:VEVENT
BEGIN:VEVENT
DTSTART;TZID=America/Chicago:20160725T111500
DTEND;TZID=America/Chicago:20160725T121500
DTSTAMP:20260422T135557
CREATED:20160517T153947Z
LAST-MODIFIED:20180410T161315Z
UID:7446-1469445300-1469448900@musserpubliclibrary.org
SUMMARY:Play and Learn Handprint Art!
DESCRIPTION:This is an unstructured hands on activity.  Please wear play clothes as some sessions may be messy!
URL:https://musserpubliclibrary.org/event/play-and-learn-handprint-art/
LOCATION:Contact Us
CATEGORIES:Learn at Lunch-Dr. Lucinda Harms
ATTACH;FMTTYPE=image/jpeg:https://musserpubliclibrary.org/wp-content/uploads/2018/03/MusserHomepage-NewsPhoto2.jpg
END:VEVENT
BEGIN:VEVENT
DTSTART;TZID=America/Chicago:20160723T111500
DTEND;TZID=America/Chicago:20160723T121500
DTSTAMP:20260422T135557
CREATED:20160517T153825Z
LAST-MODIFIED:20180410T161315Z
UID:7445-1469272500-1469276100@musserpubliclibrary.org
SUMMARY:Play and Learn with Sensory Bins!
DESCRIPTION:This is an unstructured hands on activity.  Please wear play clothes as some sessions may be messy!
URL:https://musserpubliclibrary.org/event/play-and-learn-with-sensory-bins-3/
LOCATION:Contact Us
CATEGORIES:Learn at Lunch-Dr. Lucinda Harms
ATTACH;FMTTYPE=image/jpeg:https://musserpubliclibrary.org/wp-content/uploads/2018/03/MusserHomepage-NewsPhoto2.jpg
END:VEVENT
BEGIN:VEVENT
DTSTART;TZID=America/Chicago:20160722T183000
DTEND;TZID=America/Chicago:20160722T194500
DTSTAMP:20260422T135557
CREATED:20160524T150416Z
LAST-MODIFIED:20180309T184055Z
UID:7513-1469212200-1469216700@musserpubliclibrary.org
SUMMARY:Creative Coffee House -TEEN Survivor Challenge
DESCRIPTION:And now for something completely different…Creative Coffee House is serving up a great cup of Joe\, tea or cocoa with a side of Art\, Foreign Language\, Sports\, Poetry\, Music\, and a Unicycle! Friday nights @ 6:30 pm  – Musser Library – BE THERE!   (BYOM – Bring your own mug) \nAre you ready?! The Challenges will be both mental and physical. Bring a friend…you might need one! \nThis program is for TEENS 11 -18 years
URL:https://musserpubliclibrary.org/event/creative-coffee-house-teen-survivor-challenge/
LOCATION:Contact Us
CATEGORIES:Teens
ATTACH;FMTTYPE=image/jpeg:https://musserpubliclibrary.org/wp-content/uploads/2018/03/MusserHomepage-NewsPhoto2.jpg
END:VEVENT
BEGIN:VEVENT
DTSTART;TZID=America/Chicago:20160721T153000
DTEND;TZID=America/Chicago:20160721T163000
DTSTAMP:20260422T135557
CREATED:20160517T153657Z
LAST-MODIFIED:20180410T161315Z
UID:7444-1469115000-1469118600@musserpubliclibrary.org
SUMMARY:Garden Tower and Worms!
DESCRIPTION:Come see photos of how our Garden Tower (planted previously) is doing; report on your own plants\, and construct a worm farm in a jar. If you were not part of the earlier gardening session\, please feel free to come\, anyway. There are plenty of worms to go around! 😉
URL:https://musserpubliclibrary.org/event/garden-tower-and-worms-2/
LOCATION:Contact Us
CATEGORIES:Learn at Lunch-Dr. Lucinda Harms
ATTACH;FMTTYPE=image/jpeg:https://musserpubliclibrary.org/wp-content/uploads/2018/03/MusserHomepage-NewsPhoto2.jpg
END:VEVENT
BEGIN:VEVENT
DTSTART;TZID=America/Chicago:20160721T133000
DTEND;TZID=America/Chicago:20160721T143000
DTSTAMP:20260422T135557
CREATED:20160517T153615Z
LAST-MODIFIED:20180410T161315Z
UID:7443-1469107800-1469111400@musserpubliclibrary.org
SUMMARY:Garden Tower and Worms!
DESCRIPTION:Come see photos of how our Garden Tower (planted previously) is doing; report on your own plants\, and construct a worm farm in a jar. If you were not part of the earlier gardening session\, please feel free to come\, anyway. There are plenty of worms to go around! 😉
URL:https://musserpubliclibrary.org/event/garden-tower-and-worms/
LOCATION:Contact Us
CATEGORIES:Learn at Lunch-Dr. Lucinda Harms
ATTACH;FMTTYPE=image/jpeg:https://musserpubliclibrary.org/wp-content/uploads/2018/03/MusserHomepage-NewsPhoto2.jpg
END:VEVENT
BEGIN:VEVENT
DTSTART;TZID=America/Chicago:20160721T111500
DTEND;TZID=America/Chicago:20160721T121500
DTSTAMP:20260422T135557
CREATED:20160517T153510Z
LAST-MODIFIED:20180410T161315Z
UID:7442-1469099700-1469103300@musserpubliclibrary.org
SUMMARY:Play and Learn with Sensory Bins!
DESCRIPTION:This is an unstructured hands on activity.  Please wear play clothes as some sessions may be messy!
URL:https://musserpubliclibrary.org/event/play-and-learn-with-sensory-bins-2/
LOCATION:Contact Us
CATEGORIES:Learn at Lunch-Dr. Lucinda Harms
ATTACH;FMTTYPE=image/jpeg:https://musserpubliclibrary.org/wp-content/uploads/2018/03/MusserHomepage-NewsPhoto2.jpg
END:VEVENT
BEGIN:VEVENT
DTSTART;TZID=America/Chicago:20160720T153000
DTEND;TZID=America/Chicago:20160720T163000
DTSTAMP:20260422T135557
CREATED:20160517T153339Z
LAST-MODIFIED:20180410T161315Z
UID:7441-1469028600-1469032200@musserpubliclibrary.org
SUMMARY:Character Session with Trinity Muscatine Public Health
DESCRIPTION:Learn some techniques for coping with the stress of being a kid and growing up. This includes some yoga\, so wear comfortable clothes!
URL:https://musserpubliclibrary.org/event/character-session-with-unity-point-4/
LOCATION:Contact Us
CATEGORIES:Learn at Lunch-Dr. Lucinda Harms
ATTACH;FMTTYPE=image/jpeg:https://musserpubliclibrary.org/wp-content/uploads/2018/03/MusserHomepage-NewsPhoto2.jpg
END:VEVENT
BEGIN:VEVENT
DTSTART;TZID=America/Chicago:20160720T133000
DTEND;TZID=America/Chicago:20160720T143000
DTSTAMP:20260422T135557
CREATED:20160517T153122Z
LAST-MODIFIED:20180410T161315Z
UID:7440-1469021400-1469025000@musserpubliclibrary.org
SUMMARY:Character Session with Trinity Muscatine Public Health
DESCRIPTION:Learn some techniques for coping with the stress of being a kid and growing up. This includes some yoga\, so wear comfortable clothes!
URL:https://musserpubliclibrary.org/event/character-session-with-unity-point-3/
LOCATION:Contact Us
CATEGORIES:Learn at Lunch-Dr. Lucinda Harms
ATTACH;FMTTYPE=image/jpeg:https://musserpubliclibrary.org/wp-content/uploads/2018/03/MusserHomepage-NewsPhoto2.jpg
END:VEVENT
BEGIN:VEVENT
DTSTART;TZID=America/Chicago:20160719T153000
DTEND;TZID=America/Chicago:20160719T163000
DTSTAMP:20260422T135557
CREATED:20160517T152952Z
LAST-MODIFIED:20180410T161315Z
UID:7439-1468942200-1468945800@musserpubliclibrary.org
SUMMARY:Bristlebots!
DESCRIPTION:Preregistration is require.  Call Musser Public Library at 563-263-3065 to reserve your spot!
URL:https://musserpubliclibrary.org/event/bristlebots-2/
LOCATION:Contact Us
CATEGORIES:Learn at Lunch-Dr. Lucinda Harms
ATTACH;FMTTYPE=image/jpeg:https://musserpubliclibrary.org/wp-content/uploads/2018/03/MusserHomepage-NewsPhoto2.jpg
END:VEVENT
BEGIN:VEVENT
DTSTART;TZID=America/Chicago:20160719T133000
DTEND;TZID=America/Chicago:20160719T143000
DTSTAMP:20260422T135557
CREATED:20160517T152904Z
LAST-MODIFIED:20180410T161315Z
UID:7438-1468935000-1468938600@musserpubliclibrary.org
SUMMARY:Bristlebots!
DESCRIPTION:Preregistration is required.  Call Musser Public Library to reserve your spot!
URL:https://musserpubliclibrary.org/event/bristlebots/
LOCATION:Contact Us
CATEGORIES:Learn at Lunch-Dr. Lucinda Harms
ATTACH;FMTTYPE=image/jpeg:https://musserpubliclibrary.org/wp-content/uploads/2018/03/MusserHomepage-NewsPhoto2.jpg
END:VEVENT
BEGIN:VEVENT
DTSTART;TZID=America/Chicago:20160718T153000
DTEND;TZID=America/Chicago:20160718T163000
DTSTAMP:20260422T135557
CREATED:20160517T152813Z
LAST-MODIFIED:20180410T161315Z
UID:7437-1468855800-1468859400@musserpubliclibrary.org
SUMMARY:Healthy Snacks with Nichole Sorgenfrey!
DESCRIPTION:
URL:https://musserpubliclibrary.org/event/healthy-snacks-with-nichole-sorgenfrey-2/
LOCATION:Contact Us
CATEGORIES:Learn at Lunch-Dr. Lucinda Harms
ATTACH;FMTTYPE=image/jpeg:https://musserpubliclibrary.org/wp-content/uploads/2018/03/MusserHomepage-NewsPhoto2.jpg
END:VEVENT
BEGIN:VEVENT
DTSTART;TZID=America/Chicago:20160718T133000
DTEND;TZID=America/Chicago:20160718T143000
DTSTAMP:20260422T135557
CREATED:20160517T152720Z
LAST-MODIFIED:20180410T161315Z
UID:7436-1468848600-1468852200@musserpubliclibrary.org
SUMMARY:Healthy Snacks with Nichole Sorgenfrey!
DESCRIPTION:
URL:https://musserpubliclibrary.org/event/healthy-snacks-with-nichole-sorgenfrey/
LOCATION:Contact Us
CATEGORIES:Learn at Lunch-Dr. Lucinda Harms
ATTACH;FMTTYPE=image/jpeg:https://musserpubliclibrary.org/wp-content/uploads/2018/03/MusserHomepage-NewsPhoto2.jpg
END:VEVENT
BEGIN:VEVENT
DTSTART;TZID=America/Chicago:20160718T111500
DTEND;TZID=America/Chicago:20160718T121500
DTSTAMP:20260422T135557
CREATED:20160517T152545Z
LAST-MODIFIED:20180410T161316Z
UID:7435-1468840500-1468844100@musserpubliclibrary.org
SUMMARY:Play and Learn with Sensory Bins!
DESCRIPTION:This is an unstructured hands on activity.  Please wear play clothes as some sessions may be messy!
URL:https://musserpubliclibrary.org/event/play-and-learn-with-sensory-bins/
LOCATION:Contact Us
CATEGORIES:Learn at Lunch-Dr. Lucinda Harms
ATTACH;FMTTYPE=image/jpeg:https://musserpubliclibrary.org/wp-content/uploads/2018/03/MusserHomepage-NewsPhoto2.jpg
END:VEVENT
BEGIN:VEVENT
DTSTART;TZID=America/Chicago:20160716T111500
DTEND;TZID=America/Chicago:20160716T121500
DTSTAMP:20260422T135557
CREATED:20160517T151815Z
LAST-MODIFIED:20180410T161316Z
UID:7434-1468667700-1468671300@musserpubliclibrary.org
SUMMARY:Play and Learn with Shopping!
DESCRIPTION:This is an unstructured hands on activity.  Please wear play clothes as some sessions may be messy!
URL:https://musserpubliclibrary.org/event/play-and-learn-with-shopping-2/
LOCATION:Contact Us
CATEGORIES:Learn at Lunch-Dr. Lucinda Harms
ATTACH;FMTTYPE=image/jpeg:https://musserpubliclibrary.org/wp-content/uploads/2018/03/MusserHomepage-NewsPhoto2.jpg
END:VEVENT
BEGIN:VEVENT
DTSTART;TZID=America/Chicago:20160715T183000
DTEND;TZID=America/Chicago:20160715T194500
DTSTAMP:20260422T135557
CREATED:20160524T145838Z
LAST-MODIFIED:20180309T184055Z
UID:7512-1468607400-1468611900@musserpubliclibrary.org
SUMMARY:Creative Coffee House - TEENS - Ukulele with Chris Clark
DESCRIPTION:And now for something completely different…Creative Coffee House is serving up a great cup of Joe\, tea or cocoa with a side of Art\, Foreign Language\, Sports\, Poetry\, Music\, and a Unicycle! Friday nights @ 6:30 pm  – Musser Library – BE THERE!   (BYOM – Bring your own mug) \nA 60’s pop singer named Tiny Tim made the ukulele famous by “Tip-toeing through the tulips.” Come learn a song or two…We’ll provide the ukuleles you provide the talent! \nThis program is for TEENS 11 -18 years
URL:https://musserpubliclibrary.org/event/creative-coffee-house-teens-ukulele-with-chris-clark/
LOCATION:Contact Us
CATEGORIES:Teens
ATTACH;FMTTYPE=image/jpeg:https://musserpubliclibrary.org/wp-content/uploads/2018/03/MusserHomepage-NewsPhoto2.jpg
END:VEVENT
BEGIN:VEVENT
DTSTART;TZID=America/Chicago:20160714T183000
DTEND;TZID=America/Chicago:20160714T193000
DTSTAMP:20260422T135557
CREATED:20160517T151634Z
LAST-MODIFIED:20180410T161316Z
UID:7433-1468521000-1468524600@musserpubliclibrary.org
SUMMARY:Dissection with Andi Martinez!
DESCRIPTION:Preregistration is required.  Call Musser Public Library at 563-263-3065 to reserve your spot!
URL:https://musserpubliclibrary.org/event/dissection-with-andi-martinez-3/
LOCATION:Contact Us
CATEGORIES:Learn at Lunch-Dr. Lucinda Harms
ATTACH;FMTTYPE=image/jpeg:https://musserpubliclibrary.org/wp-content/uploads/2018/03/MusserHomepage-NewsPhoto2.jpg
END:VEVENT
BEGIN:VEVENT
DTSTART;TZID=America/Chicago:20160714T153000
DTEND;TZID=America/Chicago:20160714T163000
DTSTAMP:20260422T135557
CREATED:20160517T151549Z
LAST-MODIFIED:20180410T161316Z
UID:7432-1468510200-1468513800@musserpubliclibrary.org
SUMMARY:Dissection with Andi Martinez!
DESCRIPTION:Preregistration is required.  Call Musser Public Library at 563-263-3065 to reserve your spot!
URL:https://musserpubliclibrary.org/event/dissection-with-andi-martinez-2/
LOCATION:Contact Us
CATEGORIES:Learn at Lunch-Dr. Lucinda Harms
ATTACH;FMTTYPE=image/jpeg:https://musserpubliclibrary.org/wp-content/uploads/2018/03/MusserHomepage-NewsPhoto2.jpg
END:VEVENT
BEGIN:VEVENT
DTSTART;TZID=America/Chicago:20160714T133000
DTEND;TZID=America/Chicago:20160714T143000
DTSTAMP:20260422T135557
CREATED:20160517T151454Z
LAST-MODIFIED:20180410T161316Z
UID:7431-1468503000-1468506600@musserpubliclibrary.org
SUMMARY:Dissection with Andi Martinez!
DESCRIPTION:Preregistration is required.  Call Musser Public Library at 563-263-3065 to reserve your spot!
URL:https://musserpubliclibrary.org/event/dissection-with-andi-martinez/
LOCATION:Contact Us
CATEGORIES:Learn at Lunch-Dr. Lucinda Harms
ATTACH;FMTTYPE=image/jpeg:https://musserpubliclibrary.org/wp-content/uploads/2018/03/MusserHomepage-NewsPhoto2.jpg
END:VEVENT
BEGIN:VEVENT
DTSTART;TZID=America/Chicago:20160714T111500
DTEND;TZID=America/Chicago:20160714T121500
DTSTAMP:20260422T135557
CREATED:20160517T151334Z
LAST-MODIFIED:20180410T161316Z
UID:7430-1468494900-1468498500@musserpubliclibrary.org
SUMMARY:Play and Learn with Shopping!
DESCRIPTION:This is an unstructured hands on activity.  Please wear play clothes as some sessions may be messy!
URL:https://musserpubliclibrary.org/event/play-and-learn-with-shopping/
LOCATION:Contact Us
CATEGORIES:Learn at Lunch-Dr. Lucinda Harms
ATTACH;FMTTYPE=image/jpeg:https://musserpubliclibrary.org/wp-content/uploads/2018/03/MusserHomepage-NewsPhoto2.jpg
END:VEVENT
BEGIN:VEVENT
DTSTART;TZID=America/Chicago:20160713T170000
DTEND;TZID=America/Chicago:20160713T180000
DTSTAMP:20260422T135557
CREATED:20160517T151140Z
LAST-MODIFIED:20180410T161316Z
UID:7429-1468429200-1468432800@musserpubliclibrary.org
SUMMARY:Drum Circle with DeWayne Hopkins!
DESCRIPTION:
URL:https://musserpubliclibrary.org/event/drum-circle-with-dewayne-hopkins-2/
LOCATION:Contact Us
CATEGORIES:Learn at Lunch-Dr. Lucinda Harms
ATTACH;FMTTYPE=image/jpeg:https://musserpubliclibrary.org/wp-content/uploads/2018/03/MusserHomepage-NewsPhoto2.jpg
END:VEVENT
BEGIN:VEVENT
DTSTART;TZID=America/Chicago:20160713T153000
DTEND;TZID=America/Chicago:20160713T163000
DTSTAMP:20260422T135557
CREATED:20160517T151050Z
LAST-MODIFIED:20180410T161316Z
UID:7428-1468423800-1468427400@musserpubliclibrary.org
SUMMARY:Team Art: Stained Glass Pasta!
DESCRIPTION:
URL:https://musserpubliclibrary.org/event/team-art-stained-glass-pasta-2/
LOCATION:Contact Us
CATEGORIES:Learn at Lunch-Dr. Lucinda Harms
ATTACH;FMTTYPE=image/jpeg:https://musserpubliclibrary.org/wp-content/uploads/2018/03/MusserHomepage-NewsPhoto2.jpg
END:VEVENT
BEGIN:VEVENT
DTSTART;TZID=America/Chicago:20160713T133000
DTEND;TZID=America/Chicago:20160713T143000
DTSTAMP:20260422T135557
CREATED:20160517T151002Z
LAST-MODIFIED:20180410T161316Z
UID:7427-1468416600-1468420200@musserpubliclibrary.org
SUMMARY:Team Art: Stained Glass Pasta!
DESCRIPTION:
URL:https://musserpubliclibrary.org/event/team-art-stained-glass-pasta/
LOCATION:Contact Us
CATEGORIES:Learn at Lunch-Dr. Lucinda Harms
ATTACH;FMTTYPE=image/jpeg:https://musserpubliclibrary.org/wp-content/uploads/2018/03/MusserHomepage-NewsPhoto2.jpg
END:VEVENT
BEGIN:VEVENT
DTSTART;TZID=America/Chicago:20160712T153000
DTEND;TZID=America/Chicago:20160712T163000
DTSTAMP:20260422T135557
CREATED:20160517T150859Z
LAST-MODIFIED:20180410T161316Z
UID:7426-1468337400-1468341000@musserpubliclibrary.org
SUMMARY:Glowing Volcanoes!
DESCRIPTION:Preregistration is require.  Call Musser Public Library at 563-263-3065 to reserve your spot!
URL:https://musserpubliclibrary.org/event/glowing-volcanoes-2/
LOCATION:Contact Us
CATEGORIES:Learn at Lunch-Dr. Lucinda Harms
ATTACH;FMTTYPE=image/jpeg:https://musserpubliclibrary.org/wp-content/uploads/2018/03/MusserHomepage-NewsPhoto2.jpg
END:VEVENT
BEGIN:VEVENT
DTSTART;TZID=America/Chicago:20160712T133000
DTEND;TZID=America/Chicago:20160712T143000
DTSTAMP:20260422T135557
CREATED:20160517T150814Z
LAST-MODIFIED:20180410T161316Z
UID:7425-1468330200-1468333800@musserpubliclibrary.org
SUMMARY:Glowing Volcanoes!
DESCRIPTION:Preregistration is required.  Call Musser Public Library to reserve your spot!
URL:https://musserpubliclibrary.org/event/glowing-volcanoes/
LOCATION:Contact Us
CATEGORIES:Learn at Lunch-Dr. Lucinda Harms
ATTACH;FMTTYPE=image/jpeg:https://musserpubliclibrary.org/wp-content/uploads/2018/03/MusserHomepage-NewsPhoto2.jpg
END:VEVENT
BEGIN:VEVENT
DTSTART;TZID=America/Chicago:20160711T190000
DTEND;TZID=America/Chicago:20160711T200000
DTSTAMP:20260422T135557
CREATED:20150721T192057Z
LAST-MODIFIED:20150721T192057Z
UID:6654-1468263600-1468267200@musserpubliclibrary.org
SUMMARY:Adult Book Club
DESCRIPTION:Adult Book Club meets the 1st Monday of the month. \nCopies of the current title that the book club is reading are available at the circulation desk. \nThe club meets in the Board Room on the 2nd floor.
URL:https://musserpubliclibrary.org/event/adult-book-club-2016-07-04/
LOCATION:Contact Us
CATEGORIES:Adults
ATTACH;FMTTYPE=image/jpeg:https://musserpubliclibrary.org/wp-content/uploads/2018/03/MusserHomepage-NewsPhoto2.jpg
END:VEVENT
BEGIN:VEVENT
DTSTART;TZID=America/Chicago:20160711T160000
DTEND;TZID=America/Chicago:20160711T170000
DTSTAMP:20260422T135557
CREATED:20160517T150641Z
LAST-MODIFIED:20180410T161316Z
UID:7424-1468252800-1468256400@musserpubliclibrary.org
SUMMARY:Yoga with Allison Sara!
DESCRIPTION:
URL:https://musserpubliclibrary.org/event/yoga-with-allison-sara-2/
LOCATION:Contact Us
CATEGORIES:Learn at Lunch-Dr. Lucinda Harms
ATTACH;FMTTYPE=image/jpeg:https://musserpubliclibrary.org/wp-content/uploads/2018/03/MusserHomepage-NewsPhoto2.jpg
END:VEVENT
BEGIN:VEVENT
DTSTART;TZID=America/Chicago:20160711T133000
DTEND;TZID=America/Chicago:20160711T143000
DTSTAMP:20260422T135557
CREATED:20160517T150538Z
LAST-MODIFIED:20180410T161316Z
UID:7423-1468243800-1468247400@musserpubliclibrary.org
SUMMARY:Boot Camp with Amy Hessel!
DESCRIPTION:
URL:https://musserpubliclibrary.org/event/boot-camp-with-amy-hessel-2/
LOCATION:Contact Us
CATEGORIES:Learn at Lunch-Dr. Lucinda Harms
ATTACH;FMTTYPE=image/jpeg:https://musserpubliclibrary.org/wp-content/uploads/2018/03/MusserHomepage-NewsPhoto2.jpg
END:VEVENT
BEGIN:VEVENT
DTSTART;TZID=America/Chicago:20160711T111500
DTEND;TZID=America/Chicago:20160711T121500
DTSTAMP:20260422T135557
CREATED:20160517T143904Z
LAST-MODIFIED:20180410T161317Z
UID:7419-1468235700-1468239300@musserpubliclibrary.org
SUMMARY:Play and Learn with Grocery Shopping
DESCRIPTION:This is an unstructured hands on activity.  Please wear play clothes as some sessions may be messy!
URL:https://musserpubliclibrary.org/event/play-and-learn-with-grocery-shopping/
LOCATION:Contact Us
CATEGORIES:Learn at Lunch-Dr. Lucinda Harms
ATTACH;FMTTYPE=image/jpeg:https://musserpubliclibrary.org/wp-content/uploads/2018/03/MusserHomepage-NewsPhoto2.jpg
END:VEVENT
END:VCALENDAR