BEGIN:VCALENDAR
VERSION:2.0
PRODID:-//Musser Public Library - ECPv6.15.18//NONSGML v1.0//EN
CALSCALE:GREGORIAN
METHOD:PUBLISH
X-WR-CALNAME:Musser Public Library
X-ORIGINAL-URL:https://musserpubliclibrary.org
X-WR-CALDESC:Events for Musser Public Library
REFRESH-INTERVAL;VALUE=DURATION:PT1H
X-Robots-Tag:noindex
X-PUBLISHED-TTL:PT1H
BEGIN:VTIMEZONE
TZID:America/Chicago
BEGIN:DAYLIGHT
TZOFFSETFROM:-0600
TZOFFSETTO:-0500
TZNAME:CDT
DTSTART:20240310T080000
END:DAYLIGHT
BEGIN:STANDARD
TZOFFSETFROM:-0500
TZOFFSETTO:-0600
TZNAME:CST
DTSTART:20241103T070000
END:STANDARD
BEGIN:DAYLIGHT
TZOFFSETFROM:-0600
TZOFFSETTO:-0500
TZNAME:CDT
DTSTART:20250309T080000
END:DAYLIGHT
BEGIN:STANDARD
TZOFFSETFROM:-0500
TZOFFSETTO:-0600
TZNAME:CST
DTSTART:20251102T070000
END:STANDARD
BEGIN:DAYLIGHT
TZOFFSETFROM:-0600
TZOFFSETTO:-0500
TZNAME:CDT
DTSTART:20260308T080000
END:DAYLIGHT
BEGIN:STANDARD
TZOFFSETFROM:-0500
TZOFFSETTO:-0600
TZNAME:CST
DTSTART:20261101T070000
END:STANDARD
BEGIN:DAYLIGHT
TZOFFSETFROM:-0600
TZOFFSETTO:-0500
TZNAME:CDT
DTSTART:20270314T080000
END:DAYLIGHT
BEGIN:STANDARD
TZOFFSETFROM:-0500
TZOFFSETTO:-0600
TZNAME:CST
DTSTART:20271107T070000
END:STANDARD
END:VTIMEZONE
BEGIN:VEVENT
DTSTART;TZID=America/Chicago:20260110T103000
DTEND;TZID=America/Chicago:20260110T110000
DTSTAMP:20260422T020825
CREATED:20240504T172558Z
LAST-MODIFIED:20260201T160744Z
UID:22123-1768041000-1768042800@musserpubliclibrary.org
SUMMARY:O Baby Lapsit
DESCRIPTION:Enjoy songs\, fingerplays\, and stories with your baby or toddler\, ages birth to three years. \nLocation: \nWednesdays in room #301 \nSaturdays in the Children’s Department \nCan’t make it in person? Join us online via our YouTube Channel
URL:https://musserpubliclibrary.org/event/o-baby-lapsit-5/2026-01-10/
LOCATION:#301
CATEGORIES:Family,Kids
ATTACH;FMTTYPE=image/jpeg:https://musserpubliclibrary.org/wp-content/uploads/2024/05/O-Baby-Lapsit.jpg
ORGANIZER;CN="Emerson Taylor":MAILTO:etaylor@muscatineiowa.gov
END:VEVENT
BEGIN:VEVENT
DTSTART;TZID=America/Chicago:20260107T103000
DTEND;TZID=America/Chicago:20260107T110000
DTSTAMP:20260422T020825
CREATED:20240504T172558Z
LAST-MODIFIED:20260201T160743Z
UID:22122-1767781800-1767783600@musserpubliclibrary.org
SUMMARY:O Baby Lapsit
DESCRIPTION:Enjoy songs\, fingerplays\, and stories with your baby or toddler\, ages birth to three years. \nLocation: \nWednesdays in room #301 \nSaturdays in the Children’s Department \nCan’t make it in person? Join us online via our YouTube Channel
URL:https://musserpubliclibrary.org/event/o-baby-lapsit-5/2026-01-07/
LOCATION:#301
CATEGORIES:Family,Kids
ATTACH;FMTTYPE=image/jpeg:https://musserpubliclibrary.org/wp-content/uploads/2024/05/O-Baby-Lapsit.jpg
ORGANIZER;CN="Emerson Taylor":MAILTO:etaylor@muscatineiowa.gov
END:VEVENT
BEGIN:VEVENT
DTSTART;TZID=America/Chicago:20260105T103000
DTEND;TZID=America/Chicago:20260105T110000
DTSTAMP:20260422T020825
CREATED:20240531T194806Z
LAST-MODIFIED:20251124T222359Z
UID:22198-1767609000-1767610800@musserpubliclibrary.org
SUMMARY:Preschool Storytime
DESCRIPTION:Stories and songs for children ages 3 to 5 years old with their caregiver
URL:https://musserpubliclibrary.org/event/preschool-storytime-47/2026-01-05/
LOCATION:#301
CATEGORIES:Adults,Family,Kids
ATTACH;FMTTYPE=image/jpeg:https://musserpubliclibrary.org/wp-content/uploads/2024/05/PreSchool-Storytime.jpg
ORGANIZER;CN="Emerson Taylor":MAILTO:etaylor@muscatineiowa.gov
END:VEVENT
BEGIN:VEVENT
DTSTART;TZID=America/Chicago:20260105T093000
DTEND;TZID=America/Chicago:20260105T100000
DTSTAMP:20260422T020825
CREATED:20250908T154239Z
LAST-MODIFIED:20250908T154239Z
UID:22254-1767605400-1767607200@musserpubliclibrary.org
SUMMARY:Yoga For Littles
DESCRIPTION:Join Allison Phelps in a yoga practice that is designed for you and your little one! Yoga For Littles will be held the first Monday of the month\, at 9:30am\, in room #301. \nFor children ages 0-5
URL:https://musserpubliclibrary.org/event/yoga-for-littles/2026-01-05/
LOCATION:#301
CATEGORIES:Family,Kids
ATTACH;FMTTYPE=image/jpeg:https://musserpubliclibrary.org/wp-content/uploads/2025/09/YogaForLittles.jpg
ORGANIZER;CN="Emerson Taylor":MAILTO:etaylor@muscatineiowa.gov
END:VEVENT
BEGIN:VEVENT
DTSTART;TZID=America/Chicago:20260103T103000
DTEND;TZID=America/Chicago:20260103T110000
DTSTAMP:20260422T020825
CREATED:20240504T172558Z
LAST-MODIFIED:20260201T160743Z
UID:22121-1767436200-1767438000@musserpubliclibrary.org
SUMMARY:O Baby Lapsit
DESCRIPTION:Enjoy songs\, fingerplays\, and stories with your baby or toddler\, ages birth to three years. \nLocation: \nWednesdays in room #301 \nSaturdays in the Children’s Department \nCan’t make it in person? Join us online via our YouTube Channel
URL:https://musserpubliclibrary.org/event/o-baby-lapsit-5/2026-01-03/
LOCATION:#301
CATEGORIES:Family,Kids
ATTACH;FMTTYPE=image/jpeg:https://musserpubliclibrary.org/wp-content/uploads/2024/05/O-Baby-Lapsit.jpg
ORGANIZER;CN="Emerson Taylor":MAILTO:etaylor@muscatineiowa.gov
END:VEVENT
BEGIN:VEVENT
DTSTART;TZID=America/Chicago:20251231T103000
DTEND;TZID=America/Chicago:20251231T110000
DTSTAMP:20260422T020825
CREATED:20240504T172558Z
LAST-MODIFIED:20260201T160743Z
UID:22120-1767177000-1767178800@musserpubliclibrary.org
SUMMARY:O Baby Lapsit
DESCRIPTION:Enjoy songs\, fingerplays\, and stories with your baby or toddler\, ages birth to three years. \nLocation: \nWednesdays in room #301 \nSaturdays in the Children’s Department \nCan’t make it in person? Join us online via our YouTube Channel
URL:https://musserpubliclibrary.org/event/o-baby-lapsit-5/2025-12-31/
LOCATION:#301
CATEGORIES:Family,Kids
ATTACH;FMTTYPE=image/jpeg:https://musserpubliclibrary.org/wp-content/uploads/2024/05/O-Baby-Lapsit.jpg
ORGANIZER;CN="Emerson Taylor":MAILTO:etaylor@muscatineiowa.gov
END:VEVENT
BEGIN:VEVENT
DTSTART;TZID=America/Chicago:20251229T103000
DTEND;TZID=America/Chicago:20251229T110000
DTSTAMP:20260422T020825
CREATED:20240531T194806Z
LAST-MODIFIED:20251124T222359Z
UID:22197-1767004200-1767006000@musserpubliclibrary.org
SUMMARY:Preschool Storytime
DESCRIPTION:Stories and songs for children ages 3 to 5 years old with their caregiver
URL:https://musserpubliclibrary.org/event/preschool-storytime-47/2025-12-29/
LOCATION:#301
CATEGORIES:Adults,Family,Kids
ATTACH;FMTTYPE=image/jpeg:https://musserpubliclibrary.org/wp-content/uploads/2024/05/PreSchool-Storytime.jpg
ORGANIZER;CN="Emerson Taylor":MAILTO:etaylor@muscatineiowa.gov
END:VEVENT
BEGIN:VEVENT
DTSTART;TZID=America/Chicago:20251229T093000
DTEND;TZID=America/Chicago:20251229T100000
DTSTAMP:20260422T020825
CREATED:20240409T154343Z
LAST-MODIFIED:20251124T222614Z
UID:22167-1767000600-1767002400@musserpubliclibrary.org
SUMMARY:O Baby Lapsit
DESCRIPTION:Enjoy songs\, fingerplays\, and stories with your baby or toddler\, ages birth to three years. \nCan’t make it in person? Join us online via our YouTube Channel.
URL:https://musserpubliclibrary.org/event/o-baby-lapsit-4/2025-12-29/
LOCATION:#301
ATTACH;FMTTYPE=image/jpeg:https://musserpubliclibrary.org/wp-content/uploads/2024/05/O-Baby-Lapsit.jpg
ORGANIZER;CN="Emerson Taylor":MAILTO:etaylor@muscatineiowa.gov
END:VEVENT
BEGIN:VEVENT
DTSTART;TZID=America/Chicago:20251227T103000
DTEND;TZID=America/Chicago:20251227T110000
DTSTAMP:20260422T020825
CREATED:20240504T172558Z
LAST-MODIFIED:20260201T160742Z
UID:22119-1766831400-1766833200@musserpubliclibrary.org
SUMMARY:O Baby Lapsit
DESCRIPTION:Enjoy songs\, fingerplays\, and stories with your baby or toddler\, ages birth to three years. \nLocation: \nWednesdays in room #301 \nSaturdays in the Children’s Department \nCan’t make it in person? Join us online via our YouTube Channel
URL:https://musserpubliclibrary.org/event/o-baby-lapsit-5/2025-12-27/
LOCATION:#301
CATEGORIES:Family,Kids
ATTACH;FMTTYPE=image/jpeg:https://musserpubliclibrary.org/wp-content/uploads/2024/05/O-Baby-Lapsit.jpg
ORGANIZER;CN="Emerson Taylor":MAILTO:etaylor@muscatineiowa.gov
END:VEVENT
BEGIN:VEVENT
DTSTART;TZID=America/Chicago:20251220T103000
DTEND;TZID=America/Chicago:20251220T110000
DTSTAMP:20260422T020825
CREATED:20240504T172558Z
LAST-MODIFIED:20260201T160742Z
UID:22118-1766226600-1766228400@musserpubliclibrary.org
SUMMARY:O Baby Lapsit
DESCRIPTION:Enjoy songs\, fingerplays\, and stories with your baby or toddler\, ages birth to three years. \nLocation: \nWednesdays in room #301 \nSaturdays in the Children’s Department \nCan’t make it in person? Join us online via our YouTube Channel
URL:https://musserpubliclibrary.org/event/o-baby-lapsit-5/2025-12-20/
LOCATION:#301
CATEGORIES:Family,Kids
ATTACH;FMTTYPE=image/jpeg:https://musserpubliclibrary.org/wp-content/uploads/2024/05/O-Baby-Lapsit.jpg
ORGANIZER;CN="Emerson Taylor":MAILTO:etaylor@muscatineiowa.gov
END:VEVENT
BEGIN:VEVENT
DTSTART;TZID=America/Chicago:20251217T103000
DTEND;TZID=America/Chicago:20251217T110000
DTSTAMP:20260422T020825
CREATED:20240504T172558Z
LAST-MODIFIED:20260201T160741Z
UID:22117-1765967400-1765969200@musserpubliclibrary.org
SUMMARY:O Baby Lapsit
DESCRIPTION:Enjoy songs\, fingerplays\, and stories with your baby or toddler\, ages birth to three years. \nLocation: \nWednesdays in room #301 \nSaturdays in the Children’s Department \nCan’t make it in person? Join us online via our YouTube Channel
URL:https://musserpubliclibrary.org/event/o-baby-lapsit-5/2025-12-17/
LOCATION:#301
CATEGORIES:Family,Kids
ATTACH;FMTTYPE=image/jpeg:https://musserpubliclibrary.org/wp-content/uploads/2024/05/O-Baby-Lapsit.jpg
ORGANIZER;CN="Emerson Taylor":MAILTO:etaylor@muscatineiowa.gov
END:VEVENT
BEGIN:VEVENT
DTSTART;TZID=America/Chicago:20251215T103000
DTEND;TZID=America/Chicago:20251215T110000
DTSTAMP:20260422T020825
CREATED:20240531T194806Z
LAST-MODIFIED:20251124T222358Z
UID:22195-1765794600-1765796400@musserpubliclibrary.org
SUMMARY:Preschool Storytime
DESCRIPTION:Stories and songs for children ages 3 to 5 years old with their caregiver
URL:https://musserpubliclibrary.org/event/preschool-storytime-47/2025-12-15/
LOCATION:#301
CATEGORIES:Adults,Family,Kids
ATTACH;FMTTYPE=image/jpeg:https://musserpubliclibrary.org/wp-content/uploads/2024/05/PreSchool-Storytime.jpg
ORGANIZER;CN="Emerson Taylor":MAILTO:etaylor@muscatineiowa.gov
END:VEVENT
BEGIN:VEVENT
DTSTART;TZID=America/Chicago:20251215T093000
DTEND;TZID=America/Chicago:20251215T100000
DTSTAMP:20260422T020825
CREATED:20240409T154343Z
LAST-MODIFIED:20251124T222614Z
UID:22165-1765791000-1765792800@musserpubliclibrary.org
SUMMARY:O Baby Lapsit
DESCRIPTION:Enjoy songs\, fingerplays\, and stories with your baby or toddler\, ages birth to three years. \nCan’t make it in person? Join us online via our YouTube Channel.
URL:https://musserpubliclibrary.org/event/o-baby-lapsit-4/2025-12-15/
LOCATION:#301
ATTACH;FMTTYPE=image/jpeg:https://musserpubliclibrary.org/wp-content/uploads/2024/05/O-Baby-Lapsit.jpg
ORGANIZER;CN="Emerson Taylor":MAILTO:etaylor@muscatineiowa.gov
END:VEVENT
BEGIN:VEVENT
DTSTART;TZID=America/Chicago:20251213T103000
DTEND;TZID=America/Chicago:20251213T110000
DTSTAMP:20260422T020825
CREATED:20240504T172558Z
LAST-MODIFIED:20260201T160741Z
UID:22116-1765621800-1765623600@musserpubliclibrary.org
SUMMARY:O Baby Lapsit
DESCRIPTION:Enjoy songs\, fingerplays\, and stories with your baby or toddler\, ages birth to three years. \nLocation: \nWednesdays in room #301 \nSaturdays in the Children’s Department \nCan’t make it in person? Join us online via our YouTube Channel
URL:https://musserpubliclibrary.org/event/o-baby-lapsit-5/2025-12-13/
LOCATION:#301
CATEGORIES:Family,Kids
ATTACH;FMTTYPE=image/jpeg:https://musserpubliclibrary.org/wp-content/uploads/2024/05/O-Baby-Lapsit.jpg
ORGANIZER;CN="Emerson Taylor":MAILTO:etaylor@muscatineiowa.gov
END:VEVENT
BEGIN:VEVENT
DTSTART;TZID=America/Chicago:20251210T103000
DTEND;TZID=America/Chicago:20251210T110000
DTSTAMP:20260422T020825
CREATED:20240504T172558Z
LAST-MODIFIED:20260201T160740Z
UID:22115-1765362600-1765364400@musserpubliclibrary.org
SUMMARY:O Baby Lapsit
DESCRIPTION:Enjoy songs\, fingerplays\, and stories with your baby or toddler\, ages birth to three years. \nLocation: \nWednesdays in room #301 \nSaturdays in the Children’s Department \nCan’t make it in person? Join us online via our YouTube Channel
URL:https://musserpubliclibrary.org/event/o-baby-lapsit-5/2025-12-10/
LOCATION:#301
CATEGORIES:Family,Kids
ATTACH;FMTTYPE=image/jpeg:https://musserpubliclibrary.org/wp-content/uploads/2024/05/O-Baby-Lapsit.jpg
ORGANIZER;CN="Emerson Taylor":MAILTO:etaylor@muscatineiowa.gov
END:VEVENT
BEGIN:VEVENT
DTSTART;TZID=America/Chicago:20251208T103000
DTEND;TZID=America/Chicago:20251208T110000
DTSTAMP:20260422T020825
CREATED:20240531T194806Z
LAST-MODIFIED:20251124T222358Z
UID:22194-1765189800-1765191600@musserpubliclibrary.org
SUMMARY:Preschool Storytime
DESCRIPTION:Stories and songs for children ages 3 to 5 years old with their caregiver
URL:https://musserpubliclibrary.org/event/preschool-storytime-47/2025-12-08/
LOCATION:#301
CATEGORIES:Adults,Family,Kids
ATTACH;FMTTYPE=image/jpeg:https://musserpubliclibrary.org/wp-content/uploads/2024/05/PreSchool-Storytime.jpg
ORGANIZER;CN="Emerson Taylor":MAILTO:etaylor@muscatineiowa.gov
END:VEVENT
BEGIN:VEVENT
DTSTART;TZID=America/Chicago:20251208T093000
DTEND;TZID=America/Chicago:20251208T100000
DTSTAMP:20260422T020825
CREATED:20240409T154343Z
LAST-MODIFIED:20251124T222613Z
UID:22164-1765186200-1765188000@musserpubliclibrary.org
SUMMARY:O Baby Lapsit
DESCRIPTION:Enjoy songs\, fingerplays\, and stories with your baby or toddler\, ages birth to three years. \nCan’t make it in person? Join us online via our YouTube Channel.
URL:https://musserpubliclibrary.org/event/o-baby-lapsit-4/2025-12-08/
LOCATION:#301
ATTACH;FMTTYPE=image/jpeg:https://musserpubliclibrary.org/wp-content/uploads/2024/05/O-Baby-Lapsit.jpg
ORGANIZER;CN="Emerson Taylor":MAILTO:etaylor@muscatineiowa.gov
END:VEVENT
BEGIN:VEVENT
DTSTART;TZID=America/Chicago:20251206T103000
DTEND;TZID=America/Chicago:20251206T110000
DTSTAMP:20260422T020825
CREATED:20240504T172558Z
LAST-MODIFIED:20260201T160740Z
UID:22114-1765017000-1765018800@musserpubliclibrary.org
SUMMARY:O Baby Lapsit
DESCRIPTION:Enjoy songs\, fingerplays\, and stories with your baby or toddler\, ages birth to three years. \nLocation: \nWednesdays in room #301 \nSaturdays in the Children’s Department \nCan’t make it in person? Join us online via our YouTube Channel
URL:https://musserpubliclibrary.org/event/o-baby-lapsit-5/2025-12-06/
LOCATION:#301
CATEGORIES:Family,Kids
ATTACH;FMTTYPE=image/jpeg:https://musserpubliclibrary.org/wp-content/uploads/2024/05/O-Baby-Lapsit.jpg
ORGANIZER;CN="Emerson Taylor":MAILTO:etaylor@muscatineiowa.gov
END:VEVENT
BEGIN:VEVENT
DTSTART;TZID=America/Chicago:20251203T103000
DTEND;TZID=America/Chicago:20251203T110000
DTSTAMP:20260422T020825
CREATED:20240504T172558Z
LAST-MODIFIED:20260201T160740Z
UID:22113-1764757800-1764759600@musserpubliclibrary.org
SUMMARY:O Baby Lapsit
DESCRIPTION:Enjoy songs\, fingerplays\, and stories with your baby or toddler\, ages birth to three years. \nLocation: \nWednesdays in room #301 \nSaturdays in the Children’s Department \nCan’t make it in person? Join us online via our YouTube Channel
URL:https://musserpubliclibrary.org/event/o-baby-lapsit-5/2025-12-03/
LOCATION:#301
CATEGORIES:Family,Kids
ATTACH;FMTTYPE=image/jpeg:https://musserpubliclibrary.org/wp-content/uploads/2024/05/O-Baby-Lapsit.jpg
ORGANIZER;CN="Emerson Taylor":MAILTO:etaylor@muscatineiowa.gov
END:VEVENT
BEGIN:VEVENT
DTSTART;TZID=America/Chicago:20251201T103000
DTEND;TZID=America/Chicago:20251201T110000
DTSTAMP:20260422T020825
CREATED:20240531T194806Z
LAST-MODIFIED:20251124T222358Z
UID:22193-1764585000-1764586800@musserpubliclibrary.org
SUMMARY:Preschool Storytime
DESCRIPTION:Stories and songs for children ages 3 to 5 years old with their caregiver
URL:https://musserpubliclibrary.org/event/preschool-storytime-47/2025-12-01/
LOCATION:#301
CATEGORIES:Adults,Family,Kids
ATTACH;FMTTYPE=image/jpeg:https://musserpubliclibrary.org/wp-content/uploads/2024/05/PreSchool-Storytime.jpg
ORGANIZER;CN="Emerson Taylor":MAILTO:etaylor@muscatineiowa.gov
END:VEVENT
BEGIN:VEVENT
DTSTART;TZID=America/Chicago:20251201T093000
DTEND;TZID=America/Chicago:20251201T100000
DTSTAMP:20260422T020825
CREATED:20250908T154239Z
LAST-MODIFIED:20250908T154239Z
UID:22253-1764581400-1764583200@musserpubliclibrary.org
SUMMARY:Yoga For Littles
DESCRIPTION:Join Allison Phelps in a yoga practice that is designed for you and your little one! Yoga For Littles will be held the first Monday of the month\, at 9:30am\, in room #301. \nFor children ages 0-5
URL:https://musserpubliclibrary.org/event/yoga-for-littles/2025-12-01/
LOCATION:#301
CATEGORIES:Family,Kids
ATTACH;FMTTYPE=image/jpeg:https://musserpubliclibrary.org/wp-content/uploads/2025/09/YogaForLittles.jpg
ORGANIZER;CN="Emerson Taylor":MAILTO:etaylor@muscatineiowa.gov
END:VEVENT
BEGIN:VEVENT
DTSTART;TZID=America/Chicago:20251129T103000
DTEND;TZID=America/Chicago:20251129T110000
DTSTAMP:20260422T020825
CREATED:20240504T172558Z
LAST-MODIFIED:20260201T160739Z
UID:22112-1764412200-1764414000@musserpubliclibrary.org
SUMMARY:O Baby Lapsit
DESCRIPTION:Enjoy songs\, fingerplays\, and stories with your baby or toddler\, ages birth to three years. \nLocation: \nWednesdays in room #301 \nSaturdays in the Children’s Department \nCan’t make it in person? Join us online via our YouTube Channel
URL:https://musserpubliclibrary.org/event/o-baby-lapsit-5/2025-11-29/
LOCATION:#301
CATEGORIES:Family,Kids
ATTACH;FMTTYPE=image/jpeg:https://musserpubliclibrary.org/wp-content/uploads/2024/05/O-Baby-Lapsit.jpg
ORGANIZER;CN="Emerson Taylor":MAILTO:etaylor@muscatineiowa.gov
END:VEVENT
BEGIN:VEVENT
DTSTART;TZID=America/Chicago:20251126T103000
DTEND;TZID=America/Chicago:20251126T110000
DTSTAMP:20260422T020825
CREATED:20240504T172558Z
LAST-MODIFIED:20260201T160739Z
UID:22111-1764153000-1764154800@musserpubliclibrary.org
SUMMARY:O Baby Lapsit
DESCRIPTION:Enjoy songs\, fingerplays\, and stories with your baby or toddler\, ages birth to three years. \nLocation: \nWednesdays in room #301 \nSaturdays in the Children’s Department \nCan’t make it in person? Join us online via our YouTube Channel
URL:https://musserpubliclibrary.org/event/o-baby-lapsit-5/2025-11-26/
LOCATION:#301
CATEGORIES:Family,Kids
ATTACH;FMTTYPE=image/jpeg:https://musserpubliclibrary.org/wp-content/uploads/2024/05/O-Baby-Lapsit.jpg
ORGANIZER;CN="Emerson Taylor":MAILTO:etaylor@muscatineiowa.gov
END:VEVENT
BEGIN:VEVENT
DTSTART;TZID=America/Chicago:20251124T103000
DTEND;TZID=America/Chicago:20251124T110000
DTSTAMP:20260422T020825
CREATED:20240531T194806Z
LAST-MODIFIED:20251124T222357Z
UID:22192-1763980200-1763982000@musserpubliclibrary.org
SUMMARY:Preschool Storytime
DESCRIPTION:Stories and songs for children ages 3 to 5 years old with their caregiver
URL:https://musserpubliclibrary.org/event/preschool-storytime-47/2025-11-24/
LOCATION:#301
CATEGORIES:Adults,Family,Kids
ATTACH;FMTTYPE=image/jpeg:https://musserpubliclibrary.org/wp-content/uploads/2024/05/PreSchool-Storytime.jpg
ORGANIZER;CN="Emerson Taylor":MAILTO:etaylor@muscatineiowa.gov
END:VEVENT
BEGIN:VEVENT
DTSTART;TZID=America/Chicago:20251124T093000
DTEND;TZID=America/Chicago:20251124T100000
DTSTAMP:20260422T020825
CREATED:20240409T154343Z
LAST-MODIFIED:20251124T222611Z
UID:22163-1763976600-1763978400@musserpubliclibrary.org
SUMMARY:O Baby Lapsit
DESCRIPTION:Enjoy songs\, fingerplays\, and stories with your baby or toddler\, ages birth to three years. \nCan’t make it in person? Join us online via our YouTube Channel.
URL:https://musserpubliclibrary.org/event/o-baby-lapsit-4/2025-11-24/
LOCATION:#301
ATTACH;FMTTYPE=image/jpeg:https://musserpubliclibrary.org/wp-content/uploads/2024/05/O-Baby-Lapsit.jpg
ORGANIZER;CN="Emerson Taylor":MAILTO:etaylor@muscatineiowa.gov
END:VEVENT
BEGIN:VEVENT
DTSTART;TZID=America/Chicago:20251122T103000
DTEND;TZID=America/Chicago:20251122T110000
DTSTAMP:20260422T020825
CREATED:20240504T172558Z
LAST-MODIFIED:20260201T160739Z
UID:22110-1763807400-1763809200@musserpubliclibrary.org
SUMMARY:O Baby Lapsit
DESCRIPTION:Enjoy songs\, fingerplays\, and stories with your baby or toddler\, ages birth to three years. \nLocation: \nWednesdays in room #301 \nSaturdays in the Children’s Department \nCan’t make it in person? Join us online via our YouTube Channel
URL:https://musserpubliclibrary.org/event/o-baby-lapsit-5/2025-11-22/
LOCATION:#301
CATEGORIES:Family,Kids
ATTACH;FMTTYPE=image/jpeg:https://musserpubliclibrary.org/wp-content/uploads/2024/05/O-Baby-Lapsit.jpg
ORGANIZER;CN="Emerson Taylor":MAILTO:etaylor@muscatineiowa.gov
END:VEVENT
BEGIN:VEVENT
DTSTART;TZID=America/Chicago:20251119T103000
DTEND;TZID=America/Chicago:20251119T110000
DTSTAMP:20260422T020825
CREATED:20240504T172558Z
LAST-MODIFIED:20260201T160738Z
UID:22109-1763548200-1763550000@musserpubliclibrary.org
SUMMARY:O Baby Lapsit
DESCRIPTION:Enjoy songs\, fingerplays\, and stories with your baby or toddler\, ages birth to three years. \nLocation: \nWednesdays in room #301 \nSaturdays in the Children’s Department \nCan’t make it in person? Join us online via our YouTube Channel
URL:https://musserpubliclibrary.org/event/o-baby-lapsit-5/2025-11-19/
LOCATION:#301
CATEGORIES:Family,Kids
ATTACH;FMTTYPE=image/jpeg:https://musserpubliclibrary.org/wp-content/uploads/2024/05/O-Baby-Lapsit.jpg
ORGANIZER;CN="Emerson Taylor":MAILTO:etaylor@muscatineiowa.gov
END:VEVENT
BEGIN:VEVENT
DTSTART;TZID=America/Chicago:20251117T103000
DTEND;TZID=America/Chicago:20251117T110000
DTSTAMP:20260422T020825
CREATED:20240531T194806Z
LAST-MODIFIED:20251124T222356Z
UID:22191-1763375400-1763377200@musserpubliclibrary.org
SUMMARY:Preschool Storytime
DESCRIPTION:Stories and songs for children ages 3 to 5 years old with their caregiver
URL:https://musserpubliclibrary.org/event/preschool-storytime-47/2025-11-17/
LOCATION:#301
CATEGORIES:Adults,Family,Kids
ATTACH;FMTTYPE=image/jpeg:https://musserpubliclibrary.org/wp-content/uploads/2024/05/PreSchool-Storytime.jpg
ORGANIZER;CN="Emerson Taylor":MAILTO:etaylor@muscatineiowa.gov
END:VEVENT
BEGIN:VEVENT
DTSTART;TZID=America/Chicago:20251117T093000
DTEND;TZID=America/Chicago:20251117T100000
DTSTAMP:20260422T020825
CREATED:20240409T154343Z
LAST-MODIFIED:20251124T222611Z
UID:22162-1763371800-1763373600@musserpubliclibrary.org
SUMMARY:O Baby Lapsit
DESCRIPTION:Enjoy songs\, fingerplays\, and stories with your baby or toddler\, ages birth to three years. \nCan’t make it in person? Join us online via our YouTube Channel.
URL:https://musserpubliclibrary.org/event/o-baby-lapsit-4/2025-11-17/
LOCATION:#301
ATTACH;FMTTYPE=image/jpeg:https://musserpubliclibrary.org/wp-content/uploads/2024/05/O-Baby-Lapsit.jpg
ORGANIZER;CN="Emerson Taylor":MAILTO:etaylor@muscatineiowa.gov
END:VEVENT
BEGIN:VEVENT
DTSTART;TZID=America/Chicago:20251112T103000
DTEND;TZID=America/Chicago:20251112T110000
DTSTAMP:20260422T020825
CREATED:20240504T172558Z
LAST-MODIFIED:20260201T160738Z
UID:22107-1762943400-1762945200@musserpubliclibrary.org
SUMMARY:O Baby Lapsit
DESCRIPTION:Enjoy songs\, fingerplays\, and stories with your baby or toddler\, ages birth to three years. \nLocation: \nWednesdays in room #301 \nSaturdays in the Children’s Department \nCan’t make it in person? Join us online via our YouTube Channel
URL:https://musserpubliclibrary.org/event/o-baby-lapsit-5/2025-11-12/
LOCATION:#301
CATEGORIES:Family,Kids
ATTACH;FMTTYPE=image/jpeg:https://musserpubliclibrary.org/wp-content/uploads/2024/05/O-Baby-Lapsit.jpg
ORGANIZER;CN="Emerson Taylor":MAILTO:etaylor@muscatineiowa.gov
END:VEVENT
END:VCALENDAR