BEGIN:VCALENDAR
VERSION:2.0
PRODID:-//Musser Public Library - ECPv6.15.18//NONSGML v1.0//EN
CALSCALE:GREGORIAN
METHOD:PUBLISH
X-ORIGINAL-URL:https://musserpubliclibrary.org
X-WR-CALDESC:Events for Musser Public Library
REFRESH-INTERVAL;VALUE=DURATION:PT1H
X-Robots-Tag:noindex
X-PUBLISHED-TTL:PT1H
BEGIN:VTIMEZONE
TZID:America/Chicago
BEGIN:DAYLIGHT
TZOFFSETFROM:-0600
TZOFFSETTO:-0500
TZNAME:CDT
DTSTART:20250309T080000
END:DAYLIGHT
BEGIN:STANDARD
TZOFFSETFROM:-0500
TZOFFSETTO:-0600
TZNAME:CST
DTSTART:20251102T070000
END:STANDARD
BEGIN:DAYLIGHT
TZOFFSETFROM:-0600
TZOFFSETTO:-0500
TZNAME:CDT
DTSTART:20260308T080000
END:DAYLIGHT
BEGIN:STANDARD
TZOFFSETFROM:-0500
TZOFFSETTO:-0600
TZNAME:CST
DTSTART:20261101T070000
END:STANDARD
BEGIN:DAYLIGHT
TZOFFSETFROM:-0600
TZOFFSETTO:-0500
TZNAME:CDT
DTSTART:20270314T080000
END:DAYLIGHT
BEGIN:STANDARD
TZOFFSETFROM:-0500
TZOFFSETTO:-0600
TZNAME:CST
DTSTART:20271107T070000
END:STANDARD
END:VTIMEZONE
BEGIN:VEVENT
DTSTART;TZID=America/Chicago:20260421T101500
DTEND;TZID=America/Chicago:20260421T110000
DTSTAMP:20260422T023932
CREATED:20240826T155258Z
LAST-MODIFIED:20260227T192217Z
UID:21950-1776766500-1776769200@musserpubliclibrary.org
SUMMARY:Homeschool Brain Games
DESCRIPTION:Come and play brain games with your peers. Designed for kindergarten through 3rd grade students. Come and join the fun! \nTuesdays at 10:15 in the children’s department. \nFor more information contact Mr. Taylor at: etaylor@muscatineiowa.gov
URL:https://musserpubliclibrary.org/event/homeschool-reading-games-drop-in/2026-04-21/
LOCATION:Joyce Vesey Amphitheater\, Children’s Dept\, 408 E. Second St.\, Muscatine\, IA\, 52761\, United States
CATEGORIES:Adults,Family,Kids
ATTACH;FMTTYPE=image/jpeg:https://musserpubliclibrary.org/wp-content/uploads/2024/08/Homeschool-Games.jpg
END:VEVENT
BEGIN:VEVENT
DTSTART;TZID=America/Chicago:20260418T103000
DTEND;TZID=America/Chicago:20260418T110000
DTSTAMP:20260422T023932
CREATED:20240504T172558Z
LAST-MODIFIED:20251027T210438Z
UID:22151-1776508200-1776510000@musserpubliclibrary.org
SUMMARY:O Baby Lapsit
DESCRIPTION:Enjoy songs\, fingerplays\, and stories with your baby or toddler\, ages birth to three years. \nLocation: \nWednesdays in room #301 \nSaturdays in the Children’s Department \nCan’t make it in person? Join us online via our YouTube Channel
URL:https://musserpubliclibrary.org/event/o-baby-lapsit-5/2026-04-18/
LOCATION:#301
CATEGORIES:Family,Kids
ATTACH;FMTTYPE=image/jpeg:https://musserpubliclibrary.org/wp-content/uploads/2024/05/O-Baby-Lapsit.jpg
ORGANIZER;CN="Emerson Taylor":MAILTO:etaylor@muscatineiowa.gov
END:VEVENT
BEGIN:VEVENT
DTSTART;TZID=America/Chicago:20260415T103000
DTEND;TZID=America/Chicago:20260415T110000
DTSTAMP:20260422T023932
CREATED:20240504T172558Z
LAST-MODIFIED:20251027T210438Z
UID:22150-1776249000-1776250800@musserpubliclibrary.org
SUMMARY:O Baby Lapsit
DESCRIPTION:Enjoy songs\, fingerplays\, and stories with your baby or toddler\, ages birth to three years. \nLocation: \nWednesdays in room #301 \nSaturdays in the Children’s Department \nCan’t make it in person? Join us online via our YouTube Channel
URL:https://musserpubliclibrary.org/event/o-baby-lapsit-5/2026-04-15/
LOCATION:#301
CATEGORIES:Family,Kids
ATTACH;FMTTYPE=image/jpeg:https://musserpubliclibrary.org/wp-content/uploads/2024/05/O-Baby-Lapsit.jpg
ORGANIZER;CN="Emerson Taylor":MAILTO:etaylor@muscatineiowa.gov
END:VEVENT
BEGIN:VEVENT
DTSTART;TZID=America/Chicago:20260414T101500
DTEND;TZID=America/Chicago:20260414T110000
DTSTAMP:20260422T023932
CREATED:20240826T155258Z
LAST-MODIFIED:20260227T192216Z
UID:21949-1776161700-1776164400@musserpubliclibrary.org
SUMMARY:Homeschool Brain Games
DESCRIPTION:Come and play brain games with your peers. Designed for kindergarten through 3rd grade students. Come and join the fun! \nTuesdays at 10:15 in the children’s department. \nFor more information contact Mr. Taylor at: etaylor@muscatineiowa.gov
URL:https://musserpubliclibrary.org/event/homeschool-reading-games-drop-in/2026-04-14/
LOCATION:Joyce Vesey Amphitheater\, Children’s Dept\, 408 E. Second St.\, Muscatine\, IA\, 52761\, United States
CATEGORIES:Adults,Family,Kids
ATTACH;FMTTYPE=image/jpeg:https://musserpubliclibrary.org/wp-content/uploads/2024/08/Homeschool-Games.jpg
END:VEVENT
BEGIN:VEVENT
DTSTART;TZID=America/Chicago:20260412T140000
DTEND;TZID=America/Chicago:20260412T150000
DTSTAMP:20260422T023932
CREATED:20250808T004637Z
LAST-MODIFIED:20260202T222833Z
UID:23514-1776002400-1776006000@musserpubliclibrary.org
SUMMARY:Pages For All Ages Book Club
DESCRIPTION:Suggested for children 8 and older and their adult caretaker\, older sibling\, family member\, or friend. \nBook Discussion Books: \nFebruary – The Labors of Hercules Beal by Gary D. Schmidt \nMarch – City Spies by James Ponti \nApril –
URL:https://musserpubliclibrary.org/event/pages-for-all-ages-book-club-7/2026-04-12/
LOCATION:Joyce Vesey Amphitheater\, Children’s Dept\, 408 E. Second St.\, Muscatine\, IA\, 52761\, United States
CATEGORIES:Adults,Book Club,Family,Kids,Teens
ATTACH;FMTTYPE=image/jpeg:https://musserpubliclibrary.org/wp-content/uploads/2025/08/PFAA-Logo.jpg
END:VEVENT
BEGIN:VEVENT
DTSTART;TZID=America/Chicago:20260411T103000
DTEND;TZID=America/Chicago:20260411T110000
DTSTAMP:20260422T023932
CREATED:20240504T172558Z
LAST-MODIFIED:20251027T210438Z
UID:22149-1775903400-1775905200@musserpubliclibrary.org
SUMMARY:O Baby Lapsit
DESCRIPTION:Enjoy songs\, fingerplays\, and stories with your baby or toddler\, ages birth to three years. \nLocation: \nWednesdays in room #301 \nSaturdays in the Children’s Department \nCan’t make it in person? Join us online via our YouTube Channel
URL:https://musserpubliclibrary.org/event/o-baby-lapsit-5/2026-04-11/
LOCATION:#301
CATEGORIES:Family,Kids
ATTACH;FMTTYPE=image/jpeg:https://musserpubliclibrary.org/wp-content/uploads/2024/05/O-Baby-Lapsit.jpg
ORGANIZER;CN="Emerson Taylor":MAILTO:etaylor@muscatineiowa.gov
END:VEVENT
BEGIN:VEVENT
DTSTART;TZID=America/Chicago:20260409T180000
DTEND;TZID=America/Chicago:20260409T190000
DTSTAMP:20260422T023932
CREATED:20240826T160741Z
LAST-MODIFIED:20240826T160741Z
UID:21921-1775757600-1775761200@musserpubliclibrary.org
SUMMARY:Curious Child Club
DESCRIPTION:The Curious Child Club is a place where curiosity is piqued and ideas grow while we explore a different topic each month through stories\, games\, and craft activities. Geared for 4 to 8 year old’s and their families. \nHeld on the 2nd Thursday of the month at 6:00 PM
URL:https://musserpubliclibrary.org/event/curious-child-club/2026-04-09/
LOCATION:Joyce Vesey Amphitheater\, Children’s Dept\, 408 E. Second St.\, Muscatine\, IA\, 52761\, United States
CATEGORIES:Adults,Family,Kids
ATTACH;FMTTYPE=image/jpeg:https://musserpubliclibrary.org/wp-content/uploads/2024/08/Musser-Colors-2.jpg
END:VEVENT
BEGIN:VEVENT
DTSTART;TZID=America/Chicago:20260408T103000
DTEND;TZID=America/Chicago:20260408T110000
DTSTAMP:20260422T023932
CREATED:20240504T172558Z
LAST-MODIFIED:20260201T160753Z
UID:22148-1775644200-1775646000@musserpubliclibrary.org
SUMMARY:O Baby Lapsit
DESCRIPTION:Enjoy songs\, fingerplays\, and stories with your baby or toddler\, ages birth to three years. \nLocation: \nWednesdays in room #301 \nSaturdays in the Children’s Department \nCan’t make it in person? Join us online via our YouTube Channel
URL:https://musserpubliclibrary.org/event/o-baby-lapsit-5/2026-04-08/
LOCATION:#301
CATEGORIES:Family,Kids
ATTACH;FMTTYPE=image/jpeg:https://musserpubliclibrary.org/wp-content/uploads/2024/05/O-Baby-Lapsit.jpg
ORGANIZER;CN="Emerson Taylor":MAILTO:etaylor@muscatineiowa.gov
END:VEVENT
BEGIN:VEVENT
DTSTART;TZID=America/Chicago:20260407T101500
DTEND;TZID=America/Chicago:20260407T110000
DTSTAMP:20260422T023932
CREATED:20240826T155258Z
LAST-MODIFIED:20260227T192216Z
UID:21948-1775556900-1775559600@musserpubliclibrary.org
SUMMARY:Homeschool Brain Games
DESCRIPTION:Come and play brain games with your peers. Designed for kindergarten through 3rd grade students. Come and join the fun! \nTuesdays at 10:15 in the children’s department. \nFor more information contact Mr. Taylor at: etaylor@muscatineiowa.gov
URL:https://musserpubliclibrary.org/event/homeschool-reading-games-drop-in/2026-04-07/
LOCATION:Joyce Vesey Amphitheater\, Children’s Dept\, 408 E. Second St.\, Muscatine\, IA\, 52761\, United States
CATEGORIES:Adults,Family,Kids
ATTACH;FMTTYPE=image/jpeg:https://musserpubliclibrary.org/wp-content/uploads/2024/08/Homeschool-Games.jpg
END:VEVENT
BEGIN:VEVENT
DTSTART;TZID=America/Chicago:20260404T103000
DTEND;TZID=America/Chicago:20260404T110000
DTSTAMP:20260422T023932
CREATED:20240504T172558Z
LAST-MODIFIED:20260201T160753Z
UID:22147-1775298600-1775300400@musserpubliclibrary.org
SUMMARY:O Baby Lapsit
DESCRIPTION:Enjoy songs\, fingerplays\, and stories with your baby or toddler\, ages birth to three years. \nLocation: \nWednesdays in room #301 \nSaturdays in the Children’s Department \nCan’t make it in person? Join us online via our YouTube Channel
URL:https://musserpubliclibrary.org/event/o-baby-lapsit-5/2026-04-04/
LOCATION:#301
CATEGORIES:Family,Kids
ATTACH;FMTTYPE=image/jpeg:https://musserpubliclibrary.org/wp-content/uploads/2024/05/O-Baby-Lapsit.jpg
ORGANIZER;CN="Emerson Taylor":MAILTO:etaylor@muscatineiowa.gov
END:VEVENT
BEGIN:VEVENT
DTSTART;TZID=America/Chicago:20260401T103000
DTEND;TZID=America/Chicago:20260401T110000
DTSTAMP:20260422T023932
CREATED:20240504T172558Z
LAST-MODIFIED:20260201T160752Z
UID:22146-1775039400-1775041200@musserpubliclibrary.org
SUMMARY:O Baby Lapsit
DESCRIPTION:Enjoy songs\, fingerplays\, and stories with your baby or toddler\, ages birth to three years. \nLocation: \nWednesdays in room #301 \nSaturdays in the Children’s Department \nCan’t make it in person? Join us online via our YouTube Channel
URL:https://musserpubliclibrary.org/event/o-baby-lapsit-5/2026-04-01/
LOCATION:#301
CATEGORIES:Family,Kids
ATTACH;FMTTYPE=image/jpeg:https://musserpubliclibrary.org/wp-content/uploads/2024/05/O-Baby-Lapsit.jpg
ORGANIZER;CN="Emerson Taylor":MAILTO:etaylor@muscatineiowa.gov
END:VEVENT
BEGIN:VEVENT
DTSTART;TZID=America/Chicago:20260331T101500
DTEND;TZID=America/Chicago:20260331T110000
DTSTAMP:20260422T023932
CREATED:20240826T155258Z
LAST-MODIFIED:20260227T192216Z
UID:21947-1774952100-1774954800@musserpubliclibrary.org
SUMMARY:Homeschool Brain Games
DESCRIPTION:Come and play brain games with your peers. Designed for kindergarten through 3rd grade students. Come and join the fun! \nTuesdays at 10:15 in the children’s department. \nFor more information contact Mr. Taylor at: etaylor@muscatineiowa.gov
URL:https://musserpubliclibrary.org/event/homeschool-reading-games-drop-in/2026-03-31/
LOCATION:Joyce Vesey Amphitheater\, Children’s Dept\, 408 E. Second St.\, Muscatine\, IA\, 52761\, United States
CATEGORIES:Adults,Family,Kids
ATTACH;FMTTYPE=image/jpeg:https://musserpubliclibrary.org/wp-content/uploads/2024/08/Homeschool-Games.jpg
END:VEVENT
BEGIN:VEVENT
DTSTART;TZID=America/Chicago:20260328T103000
DTEND;TZID=America/Chicago:20260328T110000
DTSTAMP:20260422T023932
CREATED:20240504T172558Z
LAST-MODIFIED:20260201T160752Z
UID:22145-1774693800-1774695600@musserpubliclibrary.org
SUMMARY:O Baby Lapsit
DESCRIPTION:Enjoy songs\, fingerplays\, and stories with your baby or toddler\, ages birth to three years. \nLocation: \nWednesdays in room #301 \nSaturdays in the Children’s Department \nCan’t make it in person? Join us online via our YouTube Channel
URL:https://musserpubliclibrary.org/event/o-baby-lapsit-5/2026-03-28/
LOCATION:#301
CATEGORIES:Family,Kids
ATTACH;FMTTYPE=image/jpeg:https://musserpubliclibrary.org/wp-content/uploads/2024/05/O-Baby-Lapsit.jpg
ORGANIZER;CN="Emerson Taylor":MAILTO:etaylor@muscatineiowa.gov
END:VEVENT
BEGIN:VEVENT
DTSTART;TZID=America/Chicago:20260325T103000
DTEND;TZID=America/Chicago:20260325T110000
DTSTAMP:20260422T023932
CREATED:20240504T172558Z
LAST-MODIFIED:20260201T160752Z
UID:22144-1774434600-1774436400@musserpubliclibrary.org
SUMMARY:O Baby Lapsit
DESCRIPTION:Enjoy songs\, fingerplays\, and stories with your baby or toddler\, ages birth to three years. \nLocation: \nWednesdays in room #301 \nSaturdays in the Children’s Department \nCan’t make it in person? Join us online via our YouTube Channel
URL:https://musserpubliclibrary.org/event/o-baby-lapsit-5/2026-03-25/
LOCATION:#301
CATEGORIES:Family,Kids
ATTACH;FMTTYPE=image/jpeg:https://musserpubliclibrary.org/wp-content/uploads/2024/05/O-Baby-Lapsit.jpg
ORGANIZER;CN="Emerson Taylor":MAILTO:etaylor@muscatineiowa.gov
END:VEVENT
BEGIN:VEVENT
DTSTART;TZID=America/Chicago:20260324T101500
DTEND;TZID=America/Chicago:20260324T110000
DTSTAMP:20260422T023932
CREATED:20240826T155258Z
LAST-MODIFIED:20260227T192216Z
UID:21946-1774347300-1774350000@musserpubliclibrary.org
SUMMARY:Homeschool Brain Games
DESCRIPTION:Come and play brain games with your peers. Designed for kindergarten through 3rd grade students. Come and join the fun! \nTuesdays at 10:15 in the children’s department. \nFor more information contact Mr. Taylor at: etaylor@muscatineiowa.gov
URL:https://musserpubliclibrary.org/event/homeschool-reading-games-drop-in/2026-03-24/
LOCATION:Joyce Vesey Amphitheater\, Children’s Dept\, 408 E. Second St.\, Muscatine\, IA\, 52761\, United States
CATEGORIES:Adults,Family,Kids
ATTACH;FMTTYPE=image/jpeg:https://musserpubliclibrary.org/wp-content/uploads/2024/08/Homeschool-Games.jpg
END:VEVENT
BEGIN:VEVENT
DTSTART;TZID=America/Chicago:20260321T103000
DTEND;TZID=America/Chicago:20260321T110000
DTSTAMP:20260422T023932
CREATED:20240504T172558Z
LAST-MODIFIED:20260201T160751Z
UID:22143-1774089000-1774090800@musserpubliclibrary.org
SUMMARY:O Baby Lapsit
DESCRIPTION:Enjoy songs\, fingerplays\, and stories with your baby or toddler\, ages birth to three years. \nLocation: \nWednesdays in room #301 \nSaturdays in the Children’s Department \nCan’t make it in person? Join us online via our YouTube Channel
URL:https://musserpubliclibrary.org/event/o-baby-lapsit-5/2026-03-21/
LOCATION:#301
CATEGORIES:Family,Kids
ATTACH;FMTTYPE=image/jpeg:https://musserpubliclibrary.org/wp-content/uploads/2024/05/O-Baby-Lapsit.jpg
ORGANIZER;CN="Emerson Taylor":MAILTO:etaylor@muscatineiowa.gov
END:VEVENT
BEGIN:VEVENT
DTSTART;TZID=America/Chicago:20260318T103000
DTEND;TZID=America/Chicago:20260318T110000
DTSTAMP:20260422T023932
CREATED:20240504T172558Z
LAST-MODIFIED:20260201T160751Z
UID:22142-1773829800-1773831600@musserpubliclibrary.org
SUMMARY:O Baby Lapsit
DESCRIPTION:Enjoy songs\, fingerplays\, and stories with your baby or toddler\, ages birth to three years. \nLocation: \nWednesdays in room #301 \nSaturdays in the Children’s Department \nCan’t make it in person? Join us online via our YouTube Channel
URL:https://musserpubliclibrary.org/event/o-baby-lapsit-5/2026-03-18/
LOCATION:#301
CATEGORIES:Family,Kids
ATTACH;FMTTYPE=image/jpeg:https://musserpubliclibrary.org/wp-content/uploads/2024/05/O-Baby-Lapsit.jpg
ORGANIZER;CN="Emerson Taylor":MAILTO:etaylor@muscatineiowa.gov
END:VEVENT
BEGIN:VEVENT
DTSTART;TZID=America/Chicago:20260315T140000
DTEND;TZID=America/Chicago:20260315T150000
DTSTAMP:20260422T023932
CREATED:20250808T004637Z
LAST-MODIFIED:20260202T222832Z
UID:23513-1773583200-1773586800@musserpubliclibrary.org
SUMMARY:Pages For All Ages Book Club
DESCRIPTION:Suggested for children 8 and older and their adult caretaker\, older sibling\, family member\, or friend. \nBook Discussion Books: \nFebruary – The Labors of Hercules Beal by Gary D. Schmidt \nMarch – City Spies by James Ponti \nApril –
URL:https://musserpubliclibrary.org/event/pages-for-all-ages-book-club-7/2026-03-15/
LOCATION:Joyce Vesey Amphitheater\, Children’s Dept\, 408 E. Second St.\, Muscatine\, IA\, 52761\, United States
CATEGORIES:Adults,Book Club,Family,Kids,Teens
ATTACH;FMTTYPE=image/jpeg:https://musserpubliclibrary.org/wp-content/uploads/2025/08/PFAA-Logo.jpg
END:VEVENT
BEGIN:VEVENT
DTSTART;TZID=America/Chicago:20260314T103000
DTEND;TZID=America/Chicago:20260314T110000
DTSTAMP:20260422T023932
CREATED:20240504T172558Z
LAST-MODIFIED:20260201T160751Z
UID:22141-1773484200-1773486000@musserpubliclibrary.org
SUMMARY:O Baby Lapsit
DESCRIPTION:Enjoy songs\, fingerplays\, and stories with your baby or toddler\, ages birth to three years. \nLocation: \nWednesdays in room #301 \nSaturdays in the Children’s Department \nCan’t make it in person? Join us online via our YouTube Channel
URL:https://musserpubliclibrary.org/event/o-baby-lapsit-5/2026-03-14/
LOCATION:#301
CATEGORIES:Family,Kids
ATTACH;FMTTYPE=image/jpeg:https://musserpubliclibrary.org/wp-content/uploads/2024/05/O-Baby-Lapsit.jpg
ORGANIZER;CN="Emerson Taylor":MAILTO:etaylor@muscatineiowa.gov
END:VEVENT
BEGIN:VEVENT
DTSTART;TZID=America/Chicago:20260312T180000
DTEND;TZID=America/Chicago:20260312T190000
DTSTAMP:20260422T023932
CREATED:20240826T160741Z
LAST-MODIFIED:20240826T160741Z
UID:21920-1773338400-1773342000@musserpubliclibrary.org
SUMMARY:Curious Child Club
DESCRIPTION:The Curious Child Club is a place where curiosity is piqued and ideas grow while we explore a different topic each month through stories\, games\, and craft activities. Geared for 4 to 8 year old’s and their families. \nHeld on the 2nd Thursday of the month at 6:00 PM
URL:https://musserpubliclibrary.org/event/curious-child-club/2026-03-12/
LOCATION:Joyce Vesey Amphitheater\, Children’s Dept\, 408 E. Second St.\, Muscatine\, IA\, 52761\, United States
CATEGORIES:Adults,Family,Kids
ATTACH;FMTTYPE=image/jpeg:https://musserpubliclibrary.org/wp-content/uploads/2024/08/Musser-Colors-2.jpg
END:VEVENT
BEGIN:VEVENT
DTSTART;TZID=America/Chicago:20260311T103000
DTEND;TZID=America/Chicago:20260311T110000
DTSTAMP:20260422T023932
CREATED:20240504T172558Z
LAST-MODIFIED:20260201T160750Z
UID:22140-1773225000-1773226800@musserpubliclibrary.org
SUMMARY:O Baby Lapsit
DESCRIPTION:Enjoy songs\, fingerplays\, and stories with your baby or toddler\, ages birth to three years. \nLocation: \nWednesdays in room #301 \nSaturdays in the Children’s Department \nCan’t make it in person? Join us online via our YouTube Channel
URL:https://musserpubliclibrary.org/event/o-baby-lapsit-5/2026-03-11/
LOCATION:#301
CATEGORIES:Family,Kids
ATTACH;FMTTYPE=image/jpeg:https://musserpubliclibrary.org/wp-content/uploads/2024/05/O-Baby-Lapsit.jpg
ORGANIZER;CN="Emerson Taylor":MAILTO:etaylor@muscatineiowa.gov
END:VEVENT
BEGIN:VEVENT
DTSTART;TZID=America/Chicago:20260310T101500
DTEND;TZID=America/Chicago:20260310T110000
DTSTAMP:20260422T023932
CREATED:20240826T155258Z
LAST-MODIFIED:20260227T192215Z
UID:21945-1773137700-1773140400@musserpubliclibrary.org
SUMMARY:Homeschool Brain Games
DESCRIPTION:Come and play brain games with your peers. Designed for kindergarten through 3rd grade students. Come and join the fun! \nTuesdays at 10:15 in the children’s department. \nFor more information contact Mr. Taylor at: etaylor@muscatineiowa.gov
URL:https://musserpubliclibrary.org/event/homeschool-reading-games-drop-in/2026-03-10/
LOCATION:Joyce Vesey Amphitheater\, Children’s Dept\, 408 E. Second St.\, Muscatine\, IA\, 52761\, United States
CATEGORIES:Adults,Family,Kids
ATTACH;FMTTYPE=image/jpeg:https://musserpubliclibrary.org/wp-content/uploads/2024/08/Homeschool-Games.jpg
END:VEVENT
BEGIN:VEVENT
DTSTART;TZID=America/Chicago:20260307T103000
DTEND;TZID=America/Chicago:20260307T110000
DTSTAMP:20260422T023932
CREATED:20240504T172558Z
LAST-MODIFIED:20260201T160750Z
UID:22139-1772879400-1772881200@musserpubliclibrary.org
SUMMARY:O Baby Lapsit
DESCRIPTION:Enjoy songs\, fingerplays\, and stories with your baby or toddler\, ages birth to three years. \nLocation: \nWednesdays in room #301 \nSaturdays in the Children’s Department \nCan’t make it in person? Join us online via our YouTube Channel
URL:https://musserpubliclibrary.org/event/o-baby-lapsit-5/2026-03-07/
LOCATION:#301
CATEGORIES:Family,Kids
ATTACH;FMTTYPE=image/jpeg:https://musserpubliclibrary.org/wp-content/uploads/2024/05/O-Baby-Lapsit.jpg
ORGANIZER;CN="Emerson Taylor":MAILTO:etaylor@muscatineiowa.gov
END:VEVENT
BEGIN:VEVENT
DTSTART;TZID=America/Chicago:20260304T103000
DTEND;TZID=America/Chicago:20260304T110000
DTSTAMP:20260422T023932
CREATED:20240504T172558Z
LAST-MODIFIED:20260201T160749Z
UID:22138-1772620200-1772622000@musserpubliclibrary.org
SUMMARY:O Baby Lapsit
DESCRIPTION:Enjoy songs\, fingerplays\, and stories with your baby or toddler\, ages birth to three years. \nLocation: \nWednesdays in room #301 \nSaturdays in the Children’s Department \nCan’t make it in person? Join us online via our YouTube Channel
URL:https://musserpubliclibrary.org/event/o-baby-lapsit-5/2026-03-04/
LOCATION:#301
CATEGORIES:Family,Kids
ATTACH;FMTTYPE=image/jpeg:https://musserpubliclibrary.org/wp-content/uploads/2024/05/O-Baby-Lapsit.jpg
ORGANIZER;CN="Emerson Taylor":MAILTO:etaylor@muscatineiowa.gov
END:VEVENT
BEGIN:VEVENT
DTSTART;TZID=America/Chicago:20260303T101500
DTEND;TZID=America/Chicago:20260303T110000
DTSTAMP:20260422T023932
CREATED:20240826T155258Z
LAST-MODIFIED:20260227T192215Z
UID:21944-1772532900-1772535600@musserpubliclibrary.org
SUMMARY:Homeschool Brain Games
DESCRIPTION:Come and play brain games with your peers. Designed for kindergarten through 3rd grade students. Come and join the fun! \nTuesdays at 10:15 in the children’s department. \nFor more information contact Mr. Taylor at: etaylor@muscatineiowa.gov
URL:https://musserpubliclibrary.org/event/homeschool-reading-games-drop-in/2026-03-03/
LOCATION:Joyce Vesey Amphitheater\, Children’s Dept\, 408 E. Second St.\, Muscatine\, IA\, 52761\, United States
CATEGORIES:Adults,Family,Kids
ATTACH;FMTTYPE=image/jpeg:https://musserpubliclibrary.org/wp-content/uploads/2024/08/Homeschool-Games.jpg
END:VEVENT
BEGIN:VEVENT
DTSTART;TZID=America/Chicago:20260228T103000
DTEND;TZID=America/Chicago:20260228T110000
DTSTAMP:20260422T023932
CREATED:20240504T172558Z
LAST-MODIFIED:20260201T160749Z
UID:22137-1772274600-1772276400@musserpubliclibrary.org
SUMMARY:O Baby Lapsit
DESCRIPTION:Enjoy songs\, fingerplays\, and stories with your baby or toddler\, ages birth to three years. \nLocation: \nWednesdays in room #301 \nSaturdays in the Children’s Department \nCan’t make it in person? Join us online via our YouTube Channel
URL:https://musserpubliclibrary.org/event/o-baby-lapsit-5/2026-02-28/
LOCATION:#301
CATEGORIES:Family,Kids
ATTACH;FMTTYPE=image/jpeg:https://musserpubliclibrary.org/wp-content/uploads/2024/05/O-Baby-Lapsit.jpg
ORGANIZER;CN="Emerson Taylor":MAILTO:etaylor@muscatineiowa.gov
END:VEVENT
BEGIN:VEVENT
DTSTART;TZID=America/Chicago:20260225T103000
DTEND;TZID=America/Chicago:20260225T110000
DTSTAMP:20260422T023932
CREATED:20240504T172558Z
LAST-MODIFIED:20260201T160748Z
UID:22136-1772015400-1772017200@musserpubliclibrary.org
SUMMARY:O Baby Lapsit
DESCRIPTION:Enjoy songs\, fingerplays\, and stories with your baby or toddler\, ages birth to three years. \nLocation: \nWednesdays in room #301 \nSaturdays in the Children’s Department \nCan’t make it in person? Join us online via our YouTube Channel
URL:https://musserpubliclibrary.org/event/o-baby-lapsit-5/2026-02-25/
LOCATION:#301
CATEGORIES:Family,Kids
ATTACH;FMTTYPE=image/jpeg:https://musserpubliclibrary.org/wp-content/uploads/2024/05/O-Baby-Lapsit.jpg
ORGANIZER;CN="Emerson Taylor":MAILTO:etaylor@muscatineiowa.gov
END:VEVENT
BEGIN:VEVENT
DTSTART;TZID=America/Chicago:20260224T101500
DTEND;TZID=America/Chicago:20260224T110000
DTSTAMP:20260422T023932
CREATED:20240826T155258Z
LAST-MODIFIED:20260227T192214Z
UID:21943-1771928100-1771930800@musserpubliclibrary.org
SUMMARY:Homeschool Brain Games
DESCRIPTION:Come and play brain games with your peers. Designed for kindergarten through 3rd grade students. Come and join the fun! \nTuesdays at 10:15 in the children’s department. \nFor more information contact Mr. Taylor at: etaylor@muscatineiowa.gov
URL:https://musserpubliclibrary.org/event/homeschool-reading-games-drop-in/2026-02-24/
LOCATION:Joyce Vesey Amphitheater\, Children’s Dept\, 408 E. Second St.\, Muscatine\, IA\, 52761\, United States
CATEGORIES:Adults,Family,Kids
ATTACH;FMTTYPE=image/jpeg:https://musserpubliclibrary.org/wp-content/uploads/2024/08/Homeschool-Games.jpg
END:VEVENT
BEGIN:VEVENT
DTSTART;TZID=America/Chicago:20260221T103000
DTEND;TZID=America/Chicago:20260221T110000
DTSTAMP:20260422T023932
CREATED:20240504T172558Z
LAST-MODIFIED:20260201T160748Z
UID:22135-1771669800-1771671600@musserpubliclibrary.org
SUMMARY:O Baby Lapsit
DESCRIPTION:Enjoy songs\, fingerplays\, and stories with your baby or toddler\, ages birth to three years. \nLocation: \nWednesdays in room #301 \nSaturdays in the Children’s Department \nCan’t make it in person? Join us online via our YouTube Channel
URL:https://musserpubliclibrary.org/event/o-baby-lapsit-5/2026-02-21/
LOCATION:#301
CATEGORIES:Family,Kids
ATTACH;FMTTYPE=image/jpeg:https://musserpubliclibrary.org/wp-content/uploads/2024/05/O-Baby-Lapsit.jpg
ORGANIZER;CN="Emerson Taylor":MAILTO:etaylor@muscatineiowa.gov
END:VEVENT
BEGIN:VEVENT
DTSTART;TZID=America/Chicago:20260218T103000
DTEND;TZID=America/Chicago:20260218T110000
DTSTAMP:20260422T023932
CREATED:20240504T172558Z
LAST-MODIFIED:20260201T160748Z
UID:22134-1771410600-1771412400@musserpubliclibrary.org
SUMMARY:O Baby Lapsit
DESCRIPTION:Enjoy songs\, fingerplays\, and stories with your baby or toddler\, ages birth to three years. \nLocation: \nWednesdays in room #301 \nSaturdays in the Children’s Department \nCan’t make it in person? Join us online via our YouTube Channel
URL:https://musserpubliclibrary.org/event/o-baby-lapsit-5/2026-02-18/
LOCATION:#301
CATEGORIES:Family,Kids
ATTACH;FMTTYPE=image/jpeg:https://musserpubliclibrary.org/wp-content/uploads/2024/05/O-Baby-Lapsit.jpg
ORGANIZER;CN="Emerson Taylor":MAILTO:etaylor@muscatineiowa.gov
END:VEVENT
END:VCALENDAR