BEGIN:VCALENDAR
VERSION:2.0
PRODID:-//Musser Public Library - ECPv6.15.18//NONSGML v1.0//EN
CALSCALE:GREGORIAN
METHOD:PUBLISH
X-WR-CALNAME:Musser Public Library
X-ORIGINAL-URL:https://musserpubliclibrary.org
X-WR-CALDESC:Events for Musser Public Library
REFRESH-INTERVAL;VALUE=DURATION:PT1H
X-Robots-Tag:noindex
X-PUBLISHED-TTL:PT1H
BEGIN:VTIMEZONE
TZID:America/Chicago
BEGIN:DAYLIGHT
TZOFFSETFROM:-0600
TZOFFSETTO:-0500
TZNAME:CDT
DTSTART:20250309T080000
END:DAYLIGHT
BEGIN:STANDARD
TZOFFSETFROM:-0500
TZOFFSETTO:-0600
TZNAME:CST
DTSTART:20251102T070000
END:STANDARD
BEGIN:DAYLIGHT
TZOFFSETFROM:-0600
TZOFFSETTO:-0500
TZNAME:CDT
DTSTART:20260308T080000
END:DAYLIGHT
BEGIN:STANDARD
TZOFFSETFROM:-0500
TZOFFSETTO:-0600
TZNAME:CST
DTSTART:20261101T070000
END:STANDARD
BEGIN:DAYLIGHT
TZOFFSETFROM:-0600
TZOFFSETTO:-0500
TZNAME:CDT
DTSTART:20270314T080000
END:DAYLIGHT
BEGIN:STANDARD
TZOFFSETFROM:-0500
TZOFFSETTO:-0600
TZNAME:CST
DTSTART:20271107T070000
END:STANDARD
END:VTIMEZONE
BEGIN:VEVENT
DTSTART;TZID=America/Chicago:20260422T103000
DTEND;TZID=America/Chicago:20260422T110000
DTSTAMP:20260421T232358
CREATED:20240504T172558Z
LAST-MODIFIED:20251027T210439Z
UID:22152-1776853800-1776855600@musserpubliclibrary.org
SUMMARY:O Baby Lapsit
DESCRIPTION:Enjoy songs\, fingerplays\, and stories with your baby or toddler\, ages birth to three years. \nLocation: \nWednesdays in room #301 \nSaturdays in the Children’s Department \nCan’t make it in person? Join us online via our YouTube Channel
URL:https://musserpubliclibrary.org/event/o-baby-lapsit-5/2026-04-22/
LOCATION:#301
CATEGORIES:Family,Kids
ATTACH;FMTTYPE=image/jpeg:https://musserpubliclibrary.org/wp-content/uploads/2024/05/O-Baby-Lapsit.jpg
ORGANIZER;CN="Emerson Taylor":MAILTO:etaylor@muscatineiowa.gov
END:VEVENT
BEGIN:VEVENT
DTSTART;TZID=America/Chicago:20260425T103000
DTEND;TZID=America/Chicago:20260425T110000
DTSTAMP:20260421T232358
CREATED:20240504T172558Z
LAST-MODIFIED:20251027T210439Z
UID:22153-1777113000-1777114800@musserpubliclibrary.org
SUMMARY:O Baby Lapsit
DESCRIPTION:Enjoy songs\, fingerplays\, and stories with your baby or toddler\, ages birth to three years. \nLocation: \nWednesdays in room #301 \nSaturdays in the Children’s Department \nCan’t make it in person? Join us online via our YouTube Channel
URL:https://musserpubliclibrary.org/event/o-baby-lapsit-5/2026-04-25/
LOCATION:#301
CATEGORIES:Family,Kids
ATTACH;FMTTYPE=image/jpeg:https://musserpubliclibrary.org/wp-content/uploads/2024/05/O-Baby-Lapsit.jpg
ORGANIZER;CN="Emerson Taylor":MAILTO:etaylor@muscatineiowa.gov
END:VEVENT
BEGIN:VEVENT
DTSTART;TZID=America/Chicago:20260428T101500
DTEND;TZID=America/Chicago:20260428T110000
DTSTAMP:20260421T232358
CREATED:20240826T155258Z
LAST-MODIFIED:20260227T192217Z
UID:21951-1777371300-1777374000@musserpubliclibrary.org
SUMMARY:Homeschool Brain Games
DESCRIPTION:Come and play brain games with your peers. Designed for kindergarten through 3rd grade students. Come and join the fun! \nTuesdays at 10:15 in the children’s department. \nFor more information contact Mr. Taylor at: etaylor@muscatineiowa.gov
URL:https://musserpubliclibrary.org/event/homeschool-reading-games-drop-in/2026-04-28/
LOCATION:Joyce Vesey Amphitheater\, Children’s Dept\, 408 E. Second St.\, Muscatine\, IA\, 52761\, United States
CATEGORIES:Adults,Family,Kids
ATTACH;FMTTYPE=image/jpeg:https://musserpubliclibrary.org/wp-content/uploads/2024/08/Homeschool-Games.jpg
END:VEVENT
BEGIN:VEVENT
DTSTART;TZID=America/Chicago:20260429T103000
DTEND;TZID=America/Chicago:20260429T110000
DTSTAMP:20260421T232358
CREATED:20240504T172558Z
LAST-MODIFIED:20251027T210439Z
UID:22154-1777458600-1777460400@musserpubliclibrary.org
SUMMARY:O Baby Lapsit
DESCRIPTION:Enjoy songs\, fingerplays\, and stories with your baby or toddler\, ages birth to three years. \nLocation: \nWednesdays in room #301 \nSaturdays in the Children’s Department \nCan’t make it in person? Join us online via our YouTube Channel
URL:https://musserpubliclibrary.org/event/o-baby-lapsit-5/2026-04-29/
LOCATION:#301
CATEGORIES:Family,Kids
ATTACH;FMTTYPE=image/jpeg:https://musserpubliclibrary.org/wp-content/uploads/2024/05/O-Baby-Lapsit.jpg
ORGANIZER;CN="Emerson Taylor":MAILTO:etaylor@muscatineiowa.gov
END:VEVENT
END:VCALENDAR